BEGIN:VCALENDAR
VERSION:2.0
PRODID:-//Soralia - ECPv6.15.17.1//NONSGML v1.0//EN
CALSCALE:GREGORIAN
METHOD:PUBLISH
X-ORIGINAL-URL:https://www.soralia.be/accueil
X-WR-CALDESC:Évènements pour Soralia
REFRESH-INTERVAL;VALUE=DURATION:PT1H
X-Robots-Tag:noindex
X-PUBLISHED-TTL:PT1H
BEGIN:VTIMEZONE
TZID:Europe/Paris
BEGIN:DAYLIGHT
TZOFFSETFROM:+0100
TZOFFSETTO:+0200
TZNAME:CEST
DTSTART:20160327T010000
END:DAYLIGHT
BEGIN:STANDARD
TZOFFSETFROM:+0200
TZOFFSETTO:+0100
TZNAME:CET
DTSTART:20161030T010000
END:STANDARD
BEGIN:DAYLIGHT
TZOFFSETFROM:+0100
TZOFFSETTO:+0200
TZNAME:CEST
DTSTART:20170326T010000
END:DAYLIGHT
BEGIN:STANDARD
TZOFFSETFROM:+0200
TZOFFSETTO:+0100
TZNAME:CET
DTSTART:20171029T010000
END:STANDARD
BEGIN:DAYLIGHT
TZOFFSETFROM:+0100
TZOFFSETTO:+0200
TZNAME:CEST
DTSTART:20180325T010000
END:DAYLIGHT
BEGIN:STANDARD
TZOFFSETFROM:+0200
TZOFFSETTO:+0100
TZNAME:CET
DTSTART:20181028T010000
END:STANDARD
END:VTIMEZONE
BEGIN:VEVENT
DTSTART;VALUE=DATE:20170308
DTEND;VALUE=DATE:20170312
DTSTAMP:20260424T164759
CREATED:20170108T113917Z
LAST-MODIFIED:20170224T120050Z
UID:10003743-1488931200-1489276799@www.soralia.be
SUMMARY:Festival du Film au Féminin
DESCRIPTION:« Elles tissent la toile du Nord au Sud » à Charleroi\n9ème édition et non des moindres ! En commençant le festival le 8 mars\, les organisatrices vous préparent une programmation encore plus étonnante\, plus féministe engagée\, plus égalitaire que jamais ! \nPlus de 16 séances pour toutes et tous\, des documentaires\, du tous publics\, des séances surprenantes\, des animations\, des débats et des rencontres ! Un évènement à ne pas rater ! Et surtout un nouveau lieu ce sera au Quai 10\, haut lieux du 7ème art pour placer la femmes réalisatrices ou actrices au cœur du cinéma\, des préoccupations et des débats ! Une organisation du Conseil des Femmes Francophones de Belgique (CFFB) de Charleroi où Soralia sont impliquées.\nProgramme complet : http://www.quai10.be
URL:https://www.soralia.be/accueil/event/festival-du-film-au-feminin-elles-tissent-la-toile-du-nord-au-sud/
LOCATION:Quai 10\, Quai Arthur Rimbaud\, 10\, Charleroi\, 6000\, Belgique
CATEGORIES:Charleroi,Egalité femme-homme,Général,Régional,Thèmes
ATTACH;FMTTYPE=image/png:https://www.soralia.be/wp-content/uploads/2017/01/calendrier-mars.png
END:VEVENT
BEGIN:VEVENT
DTSTART;TZID=Europe/Paris:20170309T203000
DTEND;TZID=Europe/Paris:20170309T223000
DTSTAMP:20260424T164759
CREATED:20170222T161521Z
LAST-MODIFIED:20170306T124642Z
UID:10003767-1489091400-1489098600@www.soralia.be
SUMMARY:Journée Droits des Femmes - Concert
DESCRIPTION:La culture au service des droits des femmes\nLe 8 mars\, journée internationale des droits des femmes\, il s’agit de rappeler que si l’égalité des droits entre hommes et femmes avance dans les lois\, c’est encore loin d’être le cas dans les faits et les mentalités. C’est un moment de réflexion et de visibilité pour la défense des droits des femmes\, contre les inégalités et les injustices qu’elles vivent encore au quotidien à travers le monde.\nConcert d’Awa Ly\nElle y jouera son troisième album qui mêle brillamment soul\, jazz\, folk et musiques du monde pour une balade sensuelle et passionnée. \nPrix : 22 € (sur place) / 18 € (prévente)\nInfos et inscriptions : www.grignoux.be\nEn partenariat avec Les Grignoux
URL:https://www.soralia.be/accueil/event/journee-droits-des-femmes-concert/
LOCATION:Parc\, Rue Paul-Joseph Carpay 22\, Liège\, 4000\, Belgique
CATEGORIES:Egalité femme-homme,Liège
ATTACH;FMTTYPE=image/png:https://www.soralia.be/wp-content/uploads/2017/01/calendrier-mars.png
ORGANIZER;CN="FPS Li%C3%A8ge":MAILTO:associations.liege@solidaris.be
END:VEVENT
END:VCALENDAR