BEGIN:VCALENDAR
VERSION:2.0
PRODID:-//Soralia - ECPv6.15.17.1//NONSGML v1.0//EN
CALSCALE:GREGORIAN
METHOD:PUBLISH
X-ORIGINAL-URL:https://www.soralia.be/accueil
X-WR-CALDESC:Évènements pour Soralia
REFRESH-INTERVAL;VALUE=DURATION:PT1H
X-Robots-Tag:noindex
X-PUBLISHED-TTL:PT1H
BEGIN:VTIMEZONE
TZID:Europe/Paris
BEGIN:DAYLIGHT
TZOFFSETFROM:+0100
TZOFFSETTO:+0200
TZNAME:CEST
DTSTART:20160327T010000
END:DAYLIGHT
BEGIN:STANDARD
TZOFFSETFROM:+0200
TZOFFSETTO:+0100
TZNAME:CET
DTSTART:20161030T010000
END:STANDARD
BEGIN:DAYLIGHT
TZOFFSETFROM:+0100
TZOFFSETTO:+0200
TZNAME:CEST
DTSTART:20170326T010000
END:DAYLIGHT
BEGIN:STANDARD
TZOFFSETFROM:+0200
TZOFFSETTO:+0100
TZNAME:CET
DTSTART:20171029T010000
END:STANDARD
BEGIN:DAYLIGHT
TZOFFSETFROM:+0100
TZOFFSETTO:+0200
TZNAME:CEST
DTSTART:20180325T010000
END:DAYLIGHT
BEGIN:STANDARD
TZOFFSETFROM:+0200
TZOFFSETTO:+0100
TZNAME:CET
DTSTART:20181028T010000
END:STANDARD
END:VTIMEZONE
BEGIN:VEVENT
DTSTART;VALUE=DATE:20170317
DTEND;VALUE=DATE:20170320
DTSTAMP:20260422T183759
CREATED:20170217T105018Z
LAST-MODIFIED:20170217T105150Z
UID:10003757-1489708800-1489967999@www.soralia.be
SUMMARY:Festival du film social "Vivre debout"
DESCRIPTION:Cette année encore\, Soralia Brabant wallon seront partenaires du Festival du film social Vivre Debout.\nCette 9ème édition aura pour thème « Des récits\, des vies\, des rencontres. Histoire d’altérité ».\nAu fil des projections\, des débats\, des animations vous découvrirez d’autres vies ; vous rencontrerez d’autres personnes. \nPour plus d’informations concernant la programmation de ce festival\, n’hésitez pas à consulter le site www.vivredebout.be \n 
URL:https://www.soralia.be/accueil/event/festival-du-film-social-vivre-debout/
LOCATION:Le Foyer – Centre culturel\, Grand-Place\, 32\, Perwez\, 1360\, Belgique
CATEGORIES:Brabant wallon,Droit & Citoyenneté,Général,Régional
ATTACH;FMTTYPE=image/png:https://www.soralia.be/wp-content/uploads/2017/01/calendrier-mars.png
ORGANIZER;CN="FPS Brabant wallon":MAILTO:fpsbw@solidaris.be
END:VEVENT
BEGIN:VEVENT
DTSTART;TZID=Europe/Paris:20170318T093000
DTEND;TZID=Europe/Paris:20170318T180000
DTSTAMP:20260422T183759
CREATED:20170220T150127Z
LAST-MODIFIED:20170220T150827Z
UID:10003762-1489829400-1489860000@www.soralia.be
SUMMARY:Autodéfense verbale
DESCRIPTION:L’idéal est d’éviter l’affrontement physique ! Les agressions verbales font partie du quotidien et polluent votre vie ? Ce stage vous propose une approche de base : identifier les différents types d’agressions\, poser ses limites\, apprendre à développer des stratégies\, gérer ses émotions… pour améliorer sa qualité de vie.\nAtelier accessible à partir de 15 ans\nPrix : 40 € (affiliés-es Solidaris en ordre de cotisations) / 45 € \nInfos & réservation : 04/340 68 19 – associations.liege@solidaris.be
URL:https://www.soralia.be/accueil/event/autodefense-verbale/
LOCATION:Espace Différences\, rue Ed. Remouchamps\, 2\, Liège\, 4000\, Belgique
CATEGORIES:Général,Liège,Régional,Violences
ATTACH;FMTTYPE=image/png:https://www.soralia.be/wp-content/uploads/2017/01/calendrier-mars.png
END:VEVENT
BEGIN:VEVENT
DTSTART;TZID=Europe/Paris:20170318T180000
DTEND;TZID=Europe/Paris:20170318T210000
DTSTAMP:20260422T183759
CREATED:20170202T105959Z
LAST-MODIFIED:20170202T105959Z
UID:10003749-1489860000-1489870800@www.soralia.be
SUMMARY:Un soutif pour ma santé: défilés de mode
DESCRIPTION:Ensemble\, battons-nous pour éviter le cancer du sein ! Depuis le mois de septembre 2016\, un groupe de femmes se rencontrent\, bavardent\, refont le monde mais surtout\, elles créent des accessoires de mode avec des soutifs de récupération. Les ateliers sont animés par l’éco-styliste\, Daniele Bossi. \nLa lutte contre le cancer du sein passe par le dépistage. Plus tôt la maladie est détectée\, moins agressifs sont les traitements et les chances de guérison augmentent. Savez-vous que la Fédération Wallonie-Bruxelles propose un dépistage gratuit\, tous les deux ans\, pour les femmes de 50 à 69 ans ? Savez-vous que les PCS de Couvin et de Sambreville vous proposent un accompagnement pour vous rendre dans un centre de dépistage agréé ? Envie d’en savoir plus ? Contactez-nous ! Ensemble\, mobilisons-nous pour attirer l’attention sur l’importance du dépistage du cancer du sein !
URL:https://www.soralia.be/accueil/event/un-soutif-pour-ma-sante-defiles-de-mode-2/
LOCATION:Athénée Jean Rey\, Adolphe Gouttier 30\, Couvin\, Belgique
CATEGORIES:Général,Loisirs,Namur,Santé
ATTACH;FMTTYPE=image/png:https://www.soralia.be/wp-content/uploads/2017/01/calendrier-mars.png
ORGANIZER;CN="FPS Namur":MAILTO:francoise.dupont@solidaris.be 
END:VEVENT
END:VCALENDAR