BEGIN:VCALENDAR
VERSION:2.0
PRODID:-//Soralia - ECPv6.15.17.1//NONSGML v1.0//EN
CALSCALE:GREGORIAN
METHOD:PUBLISH
X-WR-CALNAME:Soralia
X-ORIGINAL-URL:https://www.soralia.be/accueil
X-WR-CALDESC:Évènements pour Soralia
REFRESH-INTERVAL;VALUE=DURATION:PT1H
X-Robots-Tag:noindex
X-PUBLISHED-TTL:PT1H
BEGIN:VTIMEZONE
TZID:Europe/Paris
BEGIN:DAYLIGHT
TZOFFSETFROM:+0100
TZOFFSETTO:+0200
TZNAME:CEST
DTSTART:20160327T010000
END:DAYLIGHT
BEGIN:STANDARD
TZOFFSETFROM:+0200
TZOFFSETTO:+0100
TZNAME:CET
DTSTART:20161030T010000
END:STANDARD
BEGIN:DAYLIGHT
TZOFFSETFROM:+0100
TZOFFSETTO:+0200
TZNAME:CEST
DTSTART:20170326T010000
END:DAYLIGHT
BEGIN:STANDARD
TZOFFSETFROM:+0200
TZOFFSETTO:+0100
TZNAME:CET
DTSTART:20171029T010000
END:STANDARD
BEGIN:DAYLIGHT
TZOFFSETFROM:+0100
TZOFFSETTO:+0200
TZNAME:CEST
DTSTART:20180325T010000
END:DAYLIGHT
BEGIN:STANDARD
TZOFFSETFROM:+0200
TZOFFSETTO:+0100
TZNAME:CET
DTSTART:20181028T010000
END:STANDARD
END:VTIMEZONE
BEGIN:VEVENT
DTSTART;TZID=Europe/Paris:20170321T180000
DTEND;TZID=Europe/Paris:20170321T223000
DTSTAMP:20260421T210432
CREATED:20170216T153107Z
LAST-MODIFIED:20170306T134845Z
UID:10003755-1490119200-1490135400@www.soralia.be
SUMMARY:Femmes Plurielles : lancement du site web
DESCRIPTION:« Femmes Plurielles »\, le magazine des Femmes Prévoyantes Socialistes débarque en ligne dés ce 21 mars! Venez célébrer avec nous la sortie de votre nouvelle plateforme féministe lors d’une soirée mêlant virtuel et réel… \n\n18H30 Drink d’accueil\n19H Présentation interactive du site\n19H30 Performances slam\, réalisations numériques et sonores\n20 H Ateliers divers :\nlectures chuchotées\, coloriages\, Lovebot\, création de badges\, etc.\n21 H Concert de Clemix\n\nVous ne pouvez pas être présent.es le 21 mars? Pas de panique ! Vous pourrez découvrir le site www.femmesplurielles.be dés le 21 mars ! Il sera également possible de suivre la soirée en direct sur Facebook\, Twitter & Instagram \nDes ateliers auront lieu un peu partout en Belgique avant le lancement du site ! P\nRejoignez-nous dés 18h mardi 21 mars au Mundo-B \nInscriptions souhaitées : inscription.fps@mutsoc.be ou 02 515 04 01
URL:https://www.soralia.be/accueil/event/femmes-plurielles-lancement-du-site-web/
LOCATION:Mundo-B\, Rue d’Edimbourg 26\, Ixelles\, 1050\, Belgique
CATEGORIES:Droit & Citoyenneté,Général
ATTACH;FMTTYPE=image/png:https://www.soralia.be/wp-content/uploads/2017/01/calendrier-mars.png
END:VEVENT
END:VCALENDAR