BEGIN:VCALENDAR
VERSION:2.0
PRODID:-//Soralia - ECPv6.15.17.1//NONSGML v1.0//EN
CALSCALE:GREGORIAN
METHOD:PUBLISH
X-WR-CALNAME:Soralia
X-ORIGINAL-URL:https://www.soralia.be/accueil
X-WR-CALDESC:Évènements pour Soralia
REFRESH-INTERVAL;VALUE=DURATION:PT1H
X-Robots-Tag:noindex
X-PUBLISHED-TTL:PT1H
BEGIN:VTIMEZONE
TZID:Europe/Paris
BEGIN:DAYLIGHT
TZOFFSETFROM:+0100
TZOFFSETTO:+0200
TZNAME:CEST
DTSTART:20200329T010000
END:DAYLIGHT
BEGIN:STANDARD
TZOFFSETFROM:+0200
TZOFFSETTO:+0100
TZNAME:CET
DTSTART:20201025T010000
END:STANDARD
BEGIN:DAYLIGHT
TZOFFSETFROM:+0100
TZOFFSETTO:+0200
TZNAME:CEST
DTSTART:20210328T010000
END:DAYLIGHT
BEGIN:STANDARD
TZOFFSETFROM:+0200
TZOFFSETTO:+0100
TZNAME:CET
DTSTART:20211031T010000
END:STANDARD
BEGIN:DAYLIGHT
TZOFFSETFROM:+0100
TZOFFSETTO:+0200
TZNAME:CEST
DTSTART:20220327T010000
END:DAYLIGHT
BEGIN:STANDARD
TZOFFSETFROM:+0200
TZOFFSETTO:+0100
TZNAME:CET
DTSTART:20221030T010000
END:STANDARD
END:VTIMEZONE
BEGIN:VEVENT
DTSTART;TZID=Europe/Paris:20210505T180000
DTEND;TZID=Europe/Paris:20210505T193000
DTSTAMP:20260425T024047
CREATED:20210504T122201Z
LAST-MODIFIED:20210504T135808Z
UID:10005081-1620237600-1620243000@www.soralia.be
SUMMARY:Femmes et télétravail : quel(s) impact(s) sur la vie quotidienne?
DESCRIPTION:Quand ? Le mercredi 5 mai 2021 de 18h à 19h30 \nComment ? Evènement gratuit et en ligne \nInfos et inscriptions : 068/84 82 58\nInscription obligatoire : fps.315@solidaris.be \n 
URL:https://www.soralia.be/accueil/event/femmes-et-teletravail-quels-impacts-sur-la-vie-quotidienne/
LOCATION:Brabant wallon
CATEGORIES:Egalité femme-homme,Familles,Général,parentalité,Régional,Thèmes,Wallonie-picarde
ATTACH;FMTTYPE=image/png:https://www.soralia.be/wp-content/uploads/2017/01/calendrier-mai.png
END:VEVENT
END:VCALENDAR