BEGIN:VCALENDAR
VERSION:2.0
PRODID:-//Soralia - ECPv6.15.17.1//NONSGML v1.0//EN
CALSCALE:GREGORIAN
METHOD:PUBLISH
X-WR-CALNAME:Soralia
X-ORIGINAL-URL:https://www.soralia.be/accueil
X-WR-CALDESC:Évènements pour Soralia
REFRESH-INTERVAL;VALUE=DURATION:PT1H
X-Robots-Tag:noindex
X-PUBLISHED-TTL:PT1H
BEGIN:VTIMEZONE
TZID:Europe/Paris
BEGIN:DAYLIGHT
TZOFFSETFROM:+0100
TZOFFSETTO:+0200
TZNAME:CEST
DTSTART:20200329T010000
END:DAYLIGHT
BEGIN:STANDARD
TZOFFSETFROM:+0200
TZOFFSETTO:+0100
TZNAME:CET
DTSTART:20201025T010000
END:STANDARD
BEGIN:DAYLIGHT
TZOFFSETFROM:+0100
TZOFFSETTO:+0200
TZNAME:CEST
DTSTART:20210328T010000
END:DAYLIGHT
BEGIN:STANDARD
TZOFFSETFROM:+0200
TZOFFSETTO:+0100
TZNAME:CET
DTSTART:20211031T010000
END:STANDARD
BEGIN:DAYLIGHT
TZOFFSETFROM:+0100
TZOFFSETTO:+0200
TZNAME:CEST
DTSTART:20220327T010000
END:DAYLIGHT
BEGIN:STANDARD
TZOFFSETFROM:+0200
TZOFFSETTO:+0100
TZNAME:CET
DTSTART:20221030T010000
END:STANDARD
END:VTIMEZONE
BEGIN:VEVENT
DTSTART;TZID=Europe/Paris:20210619T190000
DTEND;TZID=Europe/Paris:20210619T200000
DTSTAMP:20260425T133201
CREATED:20210528T093626Z
LAST-MODIFIED:20210531T072136Z
UID:10005171-1624129200-1624132800@www.soralia.be
SUMMARY:Facebook live - Les chouettes lectures féministes\, ça se partage !
DESCRIPTION:Parce qu’on a besoin de se faire du bien… Parce que les lectures nourrissent l’âme… Parce que le féminisme est pluriel… Et parce que\, bien choisis\, les livres restent d’excellents outils pour alimenter notre réflexion. On vous propose des Facebook Live pour vous faire découvrir quelques coups de cœur de nos lectures féministes. Nous aurons le plaisir de partager ce chouette moment avec Annelore\, bibliothécaire en charge du rayon féministe des Chiroux. Et si on en profitait pour lancer un club de lectures féministes ? Partant‧e‧s ? \nModalités\nRendez-vous sur la page Facebook FPS Liège pour ce Facebook Live : le 19 juin à 19h : www.facebook.com/fpsliege
URL:https://www.soralia.be/accueil/event/facebook-live-les-chouettes-lectures-feministes-ca-se-partage/
LOCATION:www.facebook.com/fpsliege/
CATEGORIES:Egalité femme-homme,Général,Liège,Régional,Thèmes
ATTACH;FMTTYPE=image/png:https://www.soralia.be/wp-content/uploads/2017/01/calendrier-juin.png
ORGANIZER;CN="FPS Li%C3%A8ge":MAILTO:associations.liege@solidaris.be
END:VEVENT
END:VCALENDAR