BEGIN:VCALENDAR
VERSION:2.0
PRODID:-//Soralia - ECPv6.15.17.1//NONSGML v1.0//EN
CALSCALE:GREGORIAN
METHOD:PUBLISH
X-ORIGINAL-URL:https://www.soralia.be/accueil
X-WR-CALDESC:Évènements pour Soralia
REFRESH-INTERVAL;VALUE=DURATION:PT1H
X-Robots-Tag:noindex
X-PUBLISHED-TTL:PT1H
BEGIN:VTIMEZONE
TZID:Europe/Paris
BEGIN:DAYLIGHT
TZOFFSETFROM:+0100
TZOFFSETTO:+0200
TZNAME:CEST
DTSTART:20200329T010000
END:DAYLIGHT
BEGIN:STANDARD
TZOFFSETFROM:+0200
TZOFFSETTO:+0100
TZNAME:CET
DTSTART:20201025T010000
END:STANDARD
BEGIN:DAYLIGHT
TZOFFSETFROM:+0100
TZOFFSETTO:+0200
TZNAME:CEST
DTSTART:20210328T010000
END:DAYLIGHT
BEGIN:STANDARD
TZOFFSETFROM:+0200
TZOFFSETTO:+0100
TZNAME:CET
DTSTART:20211031T010000
END:STANDARD
BEGIN:DAYLIGHT
TZOFFSETFROM:+0100
TZOFFSETTO:+0200
TZNAME:CEST
DTSTART:20220327T010000
END:DAYLIGHT
BEGIN:STANDARD
TZOFFSETFROM:+0200
TZOFFSETTO:+0100
TZNAME:CET
DTSTART:20221030T010000
END:STANDARD
END:VTIMEZONE
BEGIN:VEVENT
DTSTART;TZID=Europe/Paris:20210623T170000
DTEND;TZID=Europe/Paris:20210623T190000
DTSTAMP:20260424T125616
CREATED:20210602T090756Z
LAST-MODIFIED:20210602T090756Z
UID:10005173-1624467600-1624474800@www.soralia.be
SUMMARY:Lecture collective et engagée: animations arpentage de "Balance ta grenade" de Safia Kessas
DESCRIPTION:A la recherche d’une activité de plein air dans un cadre verdoyant autour d’une …grenadine ? \nLes équipes du PAC Dinant-Philippeville et FPS Namur vous invitent à vous déconfiner au Parc de Viroinval le temps d’une pause autour d’une lecture collective dans une ambiance conviviale et solidaire.Ensemble nous parcourrons le recueil des chroniques de Safia Kessas\, journaliste et initiatrice des « Grenades »\, le média 100% féministe de la RTBF. \nTrois dates\, trois thématiques\, une lunette : celle du féminisme\, pour réfléchir ensemble sur l’impact du Covid dans nos quotidiens\, la lutte contre toutes les formes de violences et la place de la femme dans la société. \nDans la foulée\, une quatrième date avec la rencontre de l’auteure et échanges est prévue le 7 juillet (à confirmer)\, l’occasion de proposer vos réflexions pour un changement de paradigme politique en vue d’une meilleure justice sociale et d’une plus grande égalité. \nDates : \nle 16 juin de 17h à 19h : Genre et COVID \nle 23 juin de 17h à 19h : Genre et violences \nle 1er juillet de 17h à 19h : Genre et stéréotypes \n  \nLieu : Parc communal de Viroinval            Gratuit mais inscription obligatoire. \n  \nInscriptions et renseignements : \nfps.provincenamur@solidaris.be ou au 0479/86.80.40 \n 
URL:https://www.soralia.be/accueil/event/lecture-collective-et-engagee-animations-arpentage-de-balance-ta-grenade-de-safia-kessas-2/
LOCATION:Parc communal de Viroinval\, Parc communal 1\, 5670 Viroinval\, 5670
CATEGORIES:Egalité femme-homme,Namur,Régional,Thèmes
ATTACH;FMTTYPE=image/png:https://www.soralia.be/wp-content/uploads/2017/01/calendrier-juin.png
ORGANIZER;CN="FPS Namur":MAILTO:francoise.dupont@solidaris.be 
END:VEVENT
END:VCALENDAR