BEGIN:VCALENDAR
VERSION:2.0
PRODID:-//Soralia - ECPv6.15.17.1//NONSGML v1.0//EN
CALSCALE:GREGORIAN
METHOD:PUBLISH
X-WR-CALNAME:Soralia
X-ORIGINAL-URL:https://www.soralia.be/accueil
X-WR-CALDESC:Évènements pour Soralia
REFRESH-INTERVAL;VALUE=DURATION:PT1H
X-Robots-Tag:noindex
X-PUBLISHED-TTL:PT1H
BEGIN:VTIMEZONE
TZID:Europe/Paris
BEGIN:DAYLIGHT
TZOFFSETFROM:+0100
TZOFFSETTO:+0200
TZNAME:CEST
DTSTART:20200329T010000
END:DAYLIGHT
BEGIN:STANDARD
TZOFFSETFROM:+0200
TZOFFSETTO:+0100
TZNAME:CET
DTSTART:20201025T010000
END:STANDARD
BEGIN:DAYLIGHT
TZOFFSETFROM:+0100
TZOFFSETTO:+0200
TZNAME:CEST
DTSTART:20210328T010000
END:DAYLIGHT
BEGIN:STANDARD
TZOFFSETFROM:+0200
TZOFFSETTO:+0100
TZNAME:CET
DTSTART:20211031T010000
END:STANDARD
BEGIN:DAYLIGHT
TZOFFSETFROM:+0100
TZOFFSETTO:+0200
TZNAME:CEST
DTSTART:20220327T010000
END:DAYLIGHT
BEGIN:STANDARD
TZOFFSETFROM:+0200
TZOFFSETTO:+0100
TZNAME:CET
DTSTART:20221030T010000
END:STANDARD
END:VTIMEZONE
BEGIN:VEVENT
DTSTART;TZID=Europe/Paris:20210628T100000
DTEND;TZID=Europe/Paris:20210628T130000
DTSTAMP:20260422T021119
CREATED:20210517T093213Z
LAST-MODIFIED:20210517T155320Z
UID:10005098-1624874400-1624885200@www.soralia.be
SUMMARY:Balade -Bains de Forêt
DESCRIPTION:Découvrez les bienfaits des « Bains de Forêt »\nOffrez-vous\, en compagnie de notre thérapeute\, 3 heures de déconnexion totale en forêt pour ressentir un bien-être tant physique que mental ! \nQuand ?\nSoit le samedi 22 mai de 10h 13h\, \nSoit le samedi 29 mai de 10h 13h\, \nSoit le samedi 12 juin de 10h 13h \nOù ?\nEn Forêt de Soignes (départ d’Auderghem) \nCombien ?\n20 euros \nRenseignements :\n02/546 14 07 \nfps-ateliersante@fmsdb.be \n 
URL:https://www.soralia.be/accueil/event/bains-de-foret/2021-06-28/
LOCATION:Forêt de Soignes\, Auderghem\, Belgique
CATEGORIES:Bruxelles,Familles,Général,Loisirs,Régional,Santé,Thèmes
ATTACH;FMTTYPE=image/png:https://www.soralia.be/wp-content/uploads/2017/01/calendrier-mai.png
END:VEVENT
END:VCALENDAR