BEGIN:VCALENDAR
VERSION:2.0
PRODID:-//Soralia - ECPv6.15.17.1//NONSGML v1.0//EN
CALSCALE:GREGORIAN
METHOD:PUBLISH
X-ORIGINAL-URL:https://www.soralia.be/accueil
X-WR-CALDESC:Évènements pour Soralia
REFRESH-INTERVAL;VALUE=DURATION:PT1H
X-Robots-Tag:noindex
X-PUBLISHED-TTL:PT1H
BEGIN:VTIMEZONE
TZID:Europe/Paris
BEGIN:DAYLIGHT
TZOFFSETFROM:+0100
TZOFFSETTO:+0200
TZNAME:CEST
DTSTART:20200329T010000
END:DAYLIGHT
BEGIN:STANDARD
TZOFFSETFROM:+0200
TZOFFSETTO:+0100
TZNAME:CET
DTSTART:20201025T010000
END:STANDARD
BEGIN:DAYLIGHT
TZOFFSETFROM:+0100
TZOFFSETTO:+0200
TZNAME:CEST
DTSTART:20210328T010000
END:DAYLIGHT
BEGIN:STANDARD
TZOFFSETFROM:+0200
TZOFFSETTO:+0100
TZNAME:CET
DTSTART:20211031T010000
END:STANDARD
BEGIN:DAYLIGHT
TZOFFSETFROM:+0100
TZOFFSETTO:+0200
TZNAME:CEST
DTSTART:20220327T010000
END:DAYLIGHT
BEGIN:STANDARD
TZOFFSETFROM:+0200
TZOFFSETTO:+0100
TZNAME:CET
DTSTART:20221030T010000
END:STANDARD
END:VTIMEZONE
BEGIN:VEVENT
DTSTART;TZID=Europe/Paris:20210712T080000
DTEND;TZID=Europe/Paris:20210826T170000
DTSTAMP:20260421T212048
CREATED:20210519T141310Z
LAST-MODIFIED:20210520T080732Z
UID:10005167-1626076800-1629997200@www.soralia.be
SUMMARY:Activités - Un été pas comme les autres 2021
DESCRIPTION:Cet été\, le réseau associatif de Solidaris vous a concocté « Un été pas comme les autres » avec une programmation d’enfer !\nLa formule au grand air a rencontré un grand enthousiasme en 2020\, c’est pourquoi nous réitérons l’expérience. Ce sera en grande partie au Centre de délassement de Marcinelle que nous vous accueillerons entre le 12 juillet et le 5 août 2021\, mais aussi sur l’ensemble de notre régionale durant les mois de juillet et août. \nAu programme de cet été : remise en forme\, créativité\, bien-être\, contacts avec la nature\, divertissements\, et bien d’autres choses encore vous seront proposées. \nSi vous souhaitez recevoir le folder de notre « été pas comme les autres » ? Contactez-nous au 071/507.812-814-819-821 du lundi au vendredi de 9h à 12h. \nPour visualiser tout le programme c’est ici : Charleroi-Programme-ete-2021 \nA noter que le début des inscriptions se fera à partir du lundi 31 mai. Aucune inscriptions ne sera prise en compte avant cette date.
URL:https://www.soralia.be/accueil/event/activites-un-ete-pas-comme-les-autres-2021/
LOCATION:centre de délassement à Marcinelle\, Avenue des Muguets 16\, Marcinelle\, Hainaut\, 6001\, Belgique
CATEGORIES:Charleroi,Général,Loisirs,Régional,Santé,Thèmes
ATTACH;FMTTYPE=image/png:https://www.soralia.be/wp-content/uploads/2017/01/calendrier-juillet.png
END:VEVENT
BEGIN:VEVENT
DTSTART;TZID=Europe/Paris:20210802T090000
DTEND;TZID=Europe/Paris:20210806T160000
DTSTAMP:20260421T212048
CREATED:20210608T084823Z
LAST-MODIFIED:20210615T135846Z
UID:10005180-1627894800-1628265600@www.soralia.be
SUMMARY:Semaine bien-être - Cré’Action
DESCRIPTION:Un rendez-vous bien-être annuel qui fait du bien !\nActivités en tout genre et créativité artistique… \nDu lundi 2 août au vendredi 6 août de 9h à 12h et/ou de 13h à 16h \nDemandez le programme : Brochure Bien-être été 2021 \nRENSEIGNEMENTS ET INSCRIPTIONS\nSecrétariat FPS du Centre et de Soignies : rue Ferrer 114 à 7170 La Hestre\n071/507 820 ou fps.cs@solidaris.be
URL:https://www.soralia.be/accueil/event/semaine-bien-etre-creaction/
LOCATION:Ecole de la Drève à La Hestre\, Rue Henri Léonard 24\, La Hestre\, Belgique
CATEGORIES:Centre & Soignies,Général,Régional,Santé,Thèmes
ATTACH;FMTTYPE=image/png:https://www.soralia.be/wp-content/uploads/2017/01/calendrier-aout.png
ORGANIZER;CN="FPS Centre & Soignies":MAILTO:fps.cs@solidaris.be
END:VEVENT
BEGIN:VEVENT
DTSTART;TZID=Europe/Paris:20210805T090000
DTEND;TZID=Europe/Paris:20210805T113000
DTSTAMP:20260421T212048
CREATED:20210608T114908Z
LAST-MODIFIED:20210608T115640Z
UID:10005183-1628154000-1628163000@www.soralia.be
SUMMARY:Rencontres - Femmes du "futur pluriel"
DESCRIPTION:Rencontres collectives\nTemps de parole et d’expression sur des sujets variés sur la quotidien des femmes.\nUn moment de convivialité\, où le rire est au rendez-vous. \nOuvert aux femmes à partir de 18 ans.\nMaximum 10 personnes \nLieu : locaux Solidaris à Frameries\nLes dates : les 15 juillet\, 5 août et 19 août de 9h30 à 11h30 \nInformation- Inscription : Service animation des FPS – 068/84 82 51 – Fps.315@solidaris.be
URL:https://www.soralia.be/accueil/event/rencontres-femmes-du-futur-pluriel/2021-08-05/
LOCATION:Solidaris Frameries\, Avenue des Nouvelles Technologies\, 24\, Frameries\, Hainaut\, 7080\, Belgique
CATEGORIES:Egalité femme-homme,Général,Mons-Borinage,Régional,Thèmes
ATTACH;FMTTYPE=image/png:https://www.soralia.be/wp-content/uploads/2017/01/calendrier-juillet.png
ORGANIZER;CN="FPS Mons Borinage":MAILTO:fps.315@solidaris.be
END:VEVENT
BEGIN:VEVENT
DTSTART;TZID=Europe/Paris:20210805T140000
DTEND;TZID=Europe/Paris:20210805T160000
DTSTAMP:20260421T212048
CREATED:20210726T075936Z
LAST-MODIFIED:20210726T075936Z
UID:10005207-1628172000-1628179200@www.soralia.be
SUMMARY:Rencontre littéraire de l’été
DESCRIPTION:Rencontre littéraire de l’été\n Nous avons le plaisir de vous convier à une rencontre avec l’écrivaine Fatiha Saidi pour un échange autour de son livre : « Par les liens forcés du mariage » (édition La Boîte à Pandore) \n L’auteure de ce livre\, femme politique\, a elle aussi\, enfant\, nourri de beaux rêves\, comme des millions de filles de son âge. Imaginer faire de belles études\, devenir avocate\, vivre une vie amoureuse avec un homme qui partagerait sa vie\, avoir des enfants\, … Mais non ! Au-delà d’un témoignage étayé à l’écriture brûlante\, ce livre dresse un constat\, celui de la persistance de ce modèle archaïque qui a quitté sa phase de violence physique pour entrer dans celui terrifiant et sournois de la manipulation mentale. \nLe jeudi 5 août 2021 à 14h – Salle Achille Van Acker – 19 rue des moineaux à 1000 Bruxelles \n Participation gratuite\, réservation indispensable (nombre limité de places) au 02 546 14 12 ou 13 – fps-fam@fmsb.be \nCollation et verre de l’amitié offerts
URL:https://www.soralia.be/accueil/event/rencontre-litteraire-de-lete/
LOCATION:FPS – rue du Midi 118\, 1000 BXL\, rue du midi 118\, Bruxelles\, 1000\, Belgique
CATEGORIES:Bruxelles,Culture,Droit & Citoyenneté,Egalité femme-homme,Familles,Régional,Thèmes
ATTACH;FMTTYPE=image/png:https://www.soralia.be/wp-content/uploads/2017/01/calendrier-aout.png
END:VEVENT
END:VCALENDAR