BEGIN:VCALENDAR
VERSION:2.0
PRODID:-//Soralia - ECPv6.15.17.1//NONSGML v1.0//EN
CALSCALE:GREGORIAN
METHOD:PUBLISH
X-ORIGINAL-URL:https://www.soralia.be/accueil
X-WR-CALDESC:Évènements pour Soralia
REFRESH-INTERVAL;VALUE=DURATION:PT1H
X-Robots-Tag:noindex
X-PUBLISHED-TTL:PT1H
BEGIN:VTIMEZONE
TZID:Europe/Paris
BEGIN:DAYLIGHT
TZOFFSETFROM:+0100
TZOFFSETTO:+0200
TZNAME:CEST
DTSTART:20200329T010000
END:DAYLIGHT
BEGIN:STANDARD
TZOFFSETFROM:+0200
TZOFFSETTO:+0100
TZNAME:CET
DTSTART:20201025T010000
END:STANDARD
BEGIN:DAYLIGHT
TZOFFSETFROM:+0100
TZOFFSETTO:+0200
TZNAME:CEST
DTSTART:20210328T010000
END:DAYLIGHT
BEGIN:STANDARD
TZOFFSETFROM:+0200
TZOFFSETTO:+0100
TZNAME:CET
DTSTART:20211031T010000
END:STANDARD
BEGIN:DAYLIGHT
TZOFFSETFROM:+0100
TZOFFSETTO:+0200
TZNAME:CEST
DTSTART:20220327T010000
END:DAYLIGHT
BEGIN:STANDARD
TZOFFSETFROM:+0200
TZOFFSETTO:+0100
TZNAME:CET
DTSTART:20221030T010000
END:STANDARD
END:VTIMEZONE
BEGIN:VEVENT
DTSTART;TZID=Europe/Paris:20210712T080000
DTEND;TZID=Europe/Paris:20210826T170000
DTSTAMP:20260421T212046
CREATED:20210519T141310Z
LAST-MODIFIED:20210520T080732Z
UID:10005167-1626076800-1629997200@www.soralia.be
SUMMARY:Activités - Un été pas comme les autres 2021
DESCRIPTION:Cet été\, le réseau associatif de Solidaris vous a concocté « Un été pas comme les autres » avec une programmation d’enfer !\nLa formule au grand air a rencontré un grand enthousiasme en 2020\, c’est pourquoi nous réitérons l’expérience. Ce sera en grande partie au Centre de délassement de Marcinelle que nous vous accueillerons entre le 12 juillet et le 5 août 2021\, mais aussi sur l’ensemble de notre régionale durant les mois de juillet et août. \nAu programme de cet été : remise en forme\, créativité\, bien-être\, contacts avec la nature\, divertissements\, et bien d’autres choses encore vous seront proposées. \nSi vous souhaitez recevoir le folder de notre « été pas comme les autres » ? Contactez-nous au 071/507.812-814-819-821 du lundi au vendredi de 9h à 12h. \nPour visualiser tout le programme c’est ici : Charleroi-Programme-ete-2021 \nA noter que le début des inscriptions se fera à partir du lundi 31 mai. Aucune inscriptions ne sera prise en compte avant cette date.
URL:https://www.soralia.be/accueil/event/activites-un-ete-pas-comme-les-autres-2021/
LOCATION:centre de délassement à Marcinelle\, Avenue des Muguets 16\, Marcinelle\, Hainaut\, 6001\, Belgique
CATEGORIES:Charleroi,Général,Loisirs,Régional,Santé,Thèmes
ATTACH;FMTTYPE=image/png:https://www.soralia.be/wp-content/uploads/2017/01/calendrier-juillet.png
END:VEVENT
BEGIN:VEVENT
DTSTART;TZID=Europe/Paris:20210824T140000
DTEND;TZID=Europe/Paris:20210824T170000
DTSTAMP:20260421T212046
CREATED:20210726T074050Z
LAST-MODIFIED:20210728T121618Z
UID:10005205-1629813600-1629824400@www.soralia.be
SUMMARY:CET ÉTÉ\, VENEZ JOUER AVEC NOUS !
DESCRIPTION:CET ÉTÉ\, VENEZ JOUER AVEC NOUS !\n\nEn 2020\, deux groupes de travail des FPS ont mis au point deux nouveaux outils d’animation que nous avons hâte de vous faire découvrir.\nIl s’agit de deux jeux interactifs portant sur des matières parfois difficiles à aborder avec des groupes et qui par leur caractère ludique rend ces sujets beaucoup plus abordable.\nNous avons eu à maintes reprises l’occasion de collaborer ensemble dans votre association ou dans votre groupe local\, c’est pourquoi nous aimerions vous présenter ces deux nouveautés en avant première. \n\nINDIVIDUALISATION DES DROITS SOCIAUX\n\nL’individualisation des droits ? Derrière ce terme complexe et impossible à répéter plus de trois fois d’affilée sans bafouiller se cache une solution pour une Sécurité sociale plus inclusive\, égalitaire et féministe !\nMais comment rendre ce concept accessible au grand public alors que le sujet reste généralement confiné au cœur des institutions féministes et militantes ? Grâce à un outil pédagogique accessible\, drôle et ancré dans le réel.\n\nLe mardi 24/08/21 de 14h à 17h\nFMSB\, Bd. lemonnier 41 à 1000 bruxelles (2ème étage – salle Mandela/Pierson) \n\n\nParticipation gratuite – Inscription indispensable et infos au 02 546 14 12 ou 13 ou sur fps-fam@fmsb.be (nombre de places limitées) \nAttestation de participation délivrée.
URL:https://www.soralia.be/accueil/event/cet-ete-venez-jouer-avec-nous/
LOCATION:Solidaris Brabant Bd Maurice Lemonnier 41 à 1000 Bruxelles\, Bd Maurice Lemonnier 41\, Bruxelles\, Bruxelles\, 1000\, Belgique
CATEGORIES:Bruxelles,Culture,Droit & Citoyenneté,Egalité femme-homme,Régional,Thèmes
ATTACH;FMTTYPE=image/png:https://www.soralia.be/wp-content/uploads/2017/01/calendrier-aout.png
END:VEVENT
END:VCALENDAR