BEGIN:VCALENDAR
VERSION:2.0
PRODID:-//Soralia - ECPv6.15.17.1//NONSGML v1.0//EN
CALSCALE:GREGORIAN
METHOD:PUBLISH
X-ORIGINAL-URL:https://www.soralia.be/accueil
X-WR-CALDESC:Évènements pour Soralia
REFRESH-INTERVAL;VALUE=DURATION:PT1H
X-Robots-Tag:noindex
X-PUBLISHED-TTL:PT1H
BEGIN:VTIMEZONE
TZID:Europe/Paris
BEGIN:DAYLIGHT
TZOFFSETFROM:+0100
TZOFFSETTO:+0200
TZNAME:CEST
DTSTART:20200329T010000
END:DAYLIGHT
BEGIN:STANDARD
TZOFFSETFROM:+0200
TZOFFSETTO:+0100
TZNAME:CET
DTSTART:20201025T010000
END:STANDARD
BEGIN:DAYLIGHT
TZOFFSETFROM:+0100
TZOFFSETTO:+0200
TZNAME:CEST
DTSTART:20210328T010000
END:DAYLIGHT
BEGIN:STANDARD
TZOFFSETFROM:+0200
TZOFFSETTO:+0100
TZNAME:CET
DTSTART:20211031T010000
END:STANDARD
BEGIN:DAYLIGHT
TZOFFSETFROM:+0100
TZOFFSETTO:+0200
TZNAME:CEST
DTSTART:20220327T010000
END:DAYLIGHT
BEGIN:STANDARD
TZOFFSETFROM:+0200
TZOFFSETTO:+0100
TZNAME:CET
DTSTART:20221030T010000
END:STANDARD
END:VTIMEZONE
BEGIN:VEVENT
DTSTART;TZID=Europe/Paris:20210902T130000
DTEND;TZID=Europe/Paris:20210902T160000
DTSTAMP:20260421T212018
CREATED:20210816T131320Z
LAST-MODIFIED:20210816T131320Z
UID:10005219-1630587600-1630598400@www.soralia.be
SUMMARY:Atelier créatif "Un soutif pour ma santé"
DESCRIPTION:Soralia proposent une action créative pour sensibiliser les femme​s au dépistage du cancer du sein. \nUn sujet qui touche à l’intimité\, au corps\, à la féminité et à la maladie. \nEnsemble\, nous créerons une exposition avec la technique du collage  pour faire bouger les idées et mettre en avant l’importance de prendre soin de soi.  \n Venez nous rejoindre les jeudis  2\, 9\, 16\, 23\, 30 septembre et 7 octobre de 13h00 à 16h00 \nDans les locaux du Centre culturel\, Faubourg de la Ville à Couvin \nGratuit \nInfos et inscriptions : francoise.dupont@solidaris.be ou 0497/97.85.50     \n  \nLe 9 octobre\, les créations seront exposées lors de la journée « Un soutif pour ma santé »  \nProjet en partenariat avec le Centre culturel
URL:https://www.soralia.be/accueil/event/atelier-creatif-un-soutif-pour-ma-sante/
LOCATION:Centre culturel de Couvin\, Faubourg-de-la-Ville\, 5660 Couvin\, 5660\, Belgique
CATEGORIES:Namur,Régional,Santé,Thèmes
ATTACH;FMTTYPE=image/png:https://www.soralia.be/wp-content/uploads/2017/01/calendrier-sept.png
ORGANIZER;CN="FPS Namur":MAILTO:fps.provincenamur@solidaris.be
END:VEVENT
END:VCALENDAR