BEGIN:VCALENDAR
VERSION:2.0
PRODID:-//Soralia - ECPv6.15.17.1//NONSGML v1.0//EN
CALSCALE:GREGORIAN
METHOD:PUBLISH
X-ORIGINAL-URL:https://www.soralia.be/accueil
X-WR-CALDESC:Évènements pour Soralia
REFRESH-INTERVAL;VALUE=DURATION:PT1H
X-Robots-Tag:noindex
X-PUBLISHED-TTL:PT1H
BEGIN:VTIMEZONE
TZID:Europe/Paris
BEGIN:DAYLIGHT
TZOFFSETFROM:+0100
TZOFFSETTO:+0200
TZNAME:CEST
DTSTART:20200329T010000
END:DAYLIGHT
BEGIN:STANDARD
TZOFFSETFROM:+0200
TZOFFSETTO:+0100
TZNAME:CET
DTSTART:20201025T010000
END:STANDARD
BEGIN:DAYLIGHT
TZOFFSETFROM:+0100
TZOFFSETTO:+0200
TZNAME:CEST
DTSTART:20210328T010000
END:DAYLIGHT
BEGIN:STANDARD
TZOFFSETFROM:+0200
TZOFFSETTO:+0100
TZNAME:CET
DTSTART:20211031T010000
END:STANDARD
BEGIN:DAYLIGHT
TZOFFSETFROM:+0100
TZOFFSETTO:+0200
TZNAME:CEST
DTSTART:20220327T010000
END:DAYLIGHT
BEGIN:STANDARD
TZOFFSETFROM:+0200
TZOFFSETTO:+0100
TZNAME:CET
DTSTART:20221030T010000
END:STANDARD
END:VTIMEZONE
BEGIN:VEVENT
DTSTART;TZID=Europe/Paris:20210920T100000
DTEND;TZID=Europe/Paris:20211021T170000
DTSTAMP:20260421T212044
CREATED:20210908T140906Z
LAST-MODIFIED:20210909T074209Z
UID:10005330-1632132000-1634835600@www.soralia.be
SUMMARY:Expo "Le droit de vivre"
DESCRIPTION:Basée sur la BD d’Harald « Un coeur en commun »\, cette expo vous fera (re)découvrir l’histoire de la Sécurité sociale en Belgique\, de façon originale\, ludique\, et adaptée à tous publics. \nVisites animées sur inscription : du lundi au vendredi : 10h-12h/13h-15h/15h-17h – possibilité de 17h30 à 19h30 les mardis uniquement. \nInfos et inscriptions : exposition.ledroitdevivre@gmail.com ou 081/64 99 58 \nEn partenariat avec Afico\, PAC Namur\, CAL Namur\, le RWLP\, Les jeunes FGTB\, Latitudes Jeunes réseau Solidaris\, et le Collectif La Casserole.
URL:https://www.soralia.be/accueil/event/expo-le-droit-de-vivre/
LOCATION:Collectif La Casserole\, rue du Moulin Lavigne 19B\, 5002 Namur\, 5002\, Belgique
CATEGORIES:Droit & Citoyenneté,Namur,Régional,Santé,Thèmes
ATTACH;FMTTYPE=image/png:https://www.soralia.be/wp-content/uploads/2017/01/calendrier-sept.png
ORGANIZER;CN="FPS Namur":MAILTO:fps.provincenamur@solidaris.be
END:VEVENT
BEGIN:VEVENT
DTSTART;TZID=Europe/Paris:20211006T100000
DTEND;TZID=Europe/Paris:20211006T110000
DTSTAMP:20260421T212044
CREATED:20210823T085545Z
LAST-MODIFIED:20210823T085838Z
UID:10005223-1633514400-1633518000@www.soralia.be
SUMMARY:Swiss Ball - Gym Ballon
DESCRIPTION:Vous avez déjà testé un cours de Swiss-Ball? Qu’est-ce que ça peut vous apporter lorsque c’est pratiqué régulièrement?\nLes exercices se font à l’aide d’un gros ballon de 45 à 65 cm de diamètre. Le swiss ball permet de travailler le corps dans sa globalité. Les abdos et les muscles du dos sont travaillés et étirés\, ce sont eux qui vous aideront à trouver l’équilibre indispensable à la réalisation des divers exercices. Le ballon de gymnastique ou Swiss Ball est excellent aussi pour renforcer les articulations et vous aider à travailler votre concentration.\nDans une ambiance décontractée\, de respect des capacités de chacun-e\, nous vous accueillerons avec plaisir.\n==>Prix: 35€ pour 10 séances\n==>Inscriptions obligatoires au 071/507.821\n 
URL:https://www.soralia.be/accueil/event/swiss-ball-gym-ballon-2/2021-10-06/
LOCATION:ACJ la Broc – Bâtiment Solidaris Charleroi\, avenue des Alliés\, 2\, Charleroi\, Hainaut\, 6000\, Belgique
CATEGORIES:Charleroi,Loisirs,Régional
ATTACH;FMTTYPE=image/png:https://www.soralia.be/wp-content/uploads/2017/01/calendrier-sept.png
END:VEVENT
BEGIN:VEVENT
DTSTART;TZID=Europe/Paris:20211006T140000
DTEND;TZID=Europe/Paris:20211006T163000
DTSTAMP:20260421T212044
CREATED:20210928T080452Z
LAST-MODIFIED:20210929T075427Z
UID:10005355-1633528800-1633537800@www.soralia.be
SUMMARY:Atelier créatif et d'expression pour les Aidants Proches : A la découverte de la technique du
DESCRIPTION:Vous accompagnez au quotidien un proche en perte d’autonomie ? \nAprès des mois de confinement\, de distanciation sociale\, d’isolement et parfois même de grande solitude durant lesquels vous avez continué à épauler et accompagner vos proches\, voici venu le temps de se rassembler\, de se retrouver et de prendre un peu de temps pour vous ! \nLors de la Semaine des aidants proches\, les Femmes Prévoyantes Socialistes (FPS) et la Centrale de Services à Domicile du Brabant wallon (CSD) vous invitent à vous accorder une pause en participant à un atelier créatif « A la découverte de la technique du pouring ». \nLe « pouring » est une technique de peinture apaisante\, accessible à toutes et tous et qui vous emmènera\, le temps d’un instant\, vers un monde de création et d’expression. \nL’occasion pour chacun.e de s’évader mais aussi de créer des liens\, de s’exprimer par rapport au rôle d’aidant.e proche\, d’échanger\, de partager avec d’autres des pistes\, des astuces et de nouvelles possibilités dans l’accompagnement. \nPARTICIPATION GRATUITE \nQuand ? \nLe lundi 4 octobre de 14h à 16h30 à Nivelles\, rue saint André 1 \nLe mercredi 6 octobre de 14h à 16h30 à Wavre\, Chée de Bruxelles 5 \nInfos et inscription ? \nAngélique Marcq (FPS) : 0473 53 68 28 – angelique.marcq@solidaris.be \nMuriel Willems : 0471 34 85 63 – muriel.willems@solidaris.be \nPauline Callebaut : 0473 52 21 00 – pauline.callebaut@solidaris.be
URL:https://www.soralia.be/accueil/event/atelier-creatif-et-dexpression-pour-les-aidants-proches-a-la-decouverte-de-la-technique-du/2021-10-06/
LOCATION:Solidaris Nivelles\, Rue Saint André 1\, Nivelles\, 1400\, Belgique
CATEGORIES:Brabant wallon,Familles,Loisirs,Régional,Santé,Thèmes
ORGANIZER;CN="FPS Brabant wallon":MAILTO:fpsbw@solidaris.be
END:VEVENT
END:VCALENDAR