BEGIN:VCALENDAR
VERSION:2.0
PRODID:-//Soralia - ECPv6.15.17.1//NONSGML v1.0//EN
CALSCALE:GREGORIAN
METHOD:PUBLISH
X-ORIGINAL-URL:https://www.soralia.be/accueil
X-WR-CALDESC:Évènements pour Soralia
REFRESH-INTERVAL;VALUE=DURATION:PT1H
X-Robots-Tag:noindex
X-PUBLISHED-TTL:PT1H
BEGIN:VTIMEZONE
TZID:Europe/Paris
BEGIN:DAYLIGHT
TZOFFSETFROM:+0100
TZOFFSETTO:+0200
TZNAME:CEST
DTSTART:20200329T010000
END:DAYLIGHT
BEGIN:STANDARD
TZOFFSETFROM:+0200
TZOFFSETTO:+0100
TZNAME:CET
DTSTART:20201025T010000
END:STANDARD
BEGIN:DAYLIGHT
TZOFFSETFROM:+0100
TZOFFSETTO:+0200
TZNAME:CEST
DTSTART:20210328T010000
END:DAYLIGHT
BEGIN:STANDARD
TZOFFSETFROM:+0200
TZOFFSETTO:+0100
TZNAME:CET
DTSTART:20211031T010000
END:STANDARD
BEGIN:DAYLIGHT
TZOFFSETFROM:+0100
TZOFFSETTO:+0200
TZNAME:CEST
DTSTART:20220327T010000
END:DAYLIGHT
BEGIN:STANDARD
TZOFFSETFROM:+0200
TZOFFSETTO:+0100
TZNAME:CET
DTSTART:20221030T010000
END:STANDARD
END:VTIMEZONE
BEGIN:VEVENT
DTSTART;TZID=Europe/Paris:20210920T100000
DTEND;TZID=Europe/Paris:20211021T170000
DTSTAMP:20260421T212047
CREATED:20210908T140906Z
LAST-MODIFIED:20210909T074209Z
UID:10005330-1632132000-1634835600@www.soralia.be
SUMMARY:Expo "Le droit de vivre"
DESCRIPTION:Basée sur la BD d’Harald « Un coeur en commun »\, cette expo vous fera (re)découvrir l’histoire de la Sécurité sociale en Belgique\, de façon originale\, ludique\, et adaptée à tous publics. \nVisites animées sur inscription : du lundi au vendredi : 10h-12h/13h-15h/15h-17h – possibilité de 17h30 à 19h30 les mardis uniquement. \nInfos et inscriptions : exposition.ledroitdevivre@gmail.com ou 081/64 99 58 \nEn partenariat avec Afico\, PAC Namur\, CAL Namur\, le RWLP\, Les jeunes FGTB\, Latitudes Jeunes réseau Solidaris\, et le Collectif La Casserole.
URL:https://www.soralia.be/accueil/event/expo-le-droit-de-vivre/
LOCATION:Collectif La Casserole\, rue du Moulin Lavigne 19B\, 5002 Namur\, 5002\, Belgique
CATEGORIES:Droit & Citoyenneté,Namur,Régional,Santé,Thèmes
ATTACH;FMTTYPE=image/png:https://www.soralia.be/wp-content/uploads/2017/01/calendrier-sept.png
ORGANIZER;CN="FPS Namur":MAILTO:fps.provincenamur@solidaris.be
END:VEVENT
BEGIN:VEVENT
DTSTART;TZID=Europe/Paris:20211008T140000
DTEND;TZID=Europe/Paris:20211008T163000
DTSTAMP:20260421T212047
CREATED:20210928T144636Z
LAST-MODIFIED:20210928T144636Z
UID:10005357-1633701600-1633710600@www.soralia.be
SUMMARY:Animation -   Ne faites pas l’autruche : découvrez le Gynoquid !
DESCRIPTION:Vous qui avez toujours voulu tout savoir sur la prévention des cancers féminins\, venez participer pendant 2h30 à l’animation et posez toutes vos questions. \nUn jeu coopératif par équipe où la progression dans le jeu se fait toutes ensemble ! Des échanges\, des discussions sur les cancers féminins (Sein\, col de l’utérus)\, sur les comportements protecteurs\, les examens de dépistage se partagent.  Des réactions\, des étonnements\, une note de soulagement\, un moment fort et agréable à partager sans modération ! \nDates: \nSoit les vendredis 8 ou 22 octobre \nSoit les mercredis 13 ou 20 octobre \nSi ces dates ne vous conviennent pas il est possible de convenir d’un autre moment.  Une animation sur demande et/ou à destination de groupes de femmes constitués est toujours possible. \n  \n 
URL:https://www.soralia.be/accueil/event/animation-ne-faites-pas-lautruche-decouvrez-le-gynoquid/2021-10-08/
LOCATION:Maison des Femmes à Gilly\, Chaussée de Lodelinsart 100\, Gilly\, 6060\, Belgique
CATEGORIES:Charleroi,Régional,Santé,Thèmes
ATTACH;FMTTYPE=image/png:https://www.soralia.be/wp-content/uploads/2017/01/calendrier-oct.png
END:VEVENT
BEGIN:VEVENT
DTSTART;TZID=Europe/Paris:20211008T193000
DTEND;TZID=Europe/Paris:20211008T213000
DTSTAMP:20260421T212047
CREATED:20210901T110446Z
LAST-MODIFIED:20211013T095309Z
UID:10005325-1633721400-1633728600@www.soralia.be
SUMMARY:Ateliers - Prendre la parole en public
DESCRIPTION:Vous tremblez à l’idée de passer vos examens oraux\, vous stressez lors d’un entretien d’ embauche\, … \nNous vous proposons un atelier pour : \n\napprendre à respirer\napprendre à poser votre voix\ncomprendre l’importance du regard\noser s’affirmer\n\nAtelier avec des exercices individuels et collectifs dans un climat de confiance. \nModule en 5 séances : les vendredis 1er\, 8\, 15\, 22 et 29 octobre\, de 19h00  à 21h00 au Centre culturel de Nismes. Animé par Stéphanie Destrée
URL:https://www.soralia.be/accueil/event/atelier-prendre-la-parole-en-public-2021-10-22/2021-10-08/
LOCATION:Centre culturel de Nismes\, rue Vieille Eglise\, Nismes\, 5670
CATEGORIES:Egalité femme-homme,Général,Namur,Régional,Thèmes
ATTACH;FMTTYPE=image/png:https://www.soralia.be/wp-content/uploads/2017/01/calendrier-oct.png
ORGANIZER;CN="FPS Namur":MAILTO:fps.provincenamur@solidaris.be
END:VEVENT
END:VCALENDAR