BEGIN:VCALENDAR
VERSION:2.0
PRODID:-//Soralia - ECPv6.15.17.1//NONSGML v1.0//EN
CALSCALE:GREGORIAN
METHOD:PUBLISH
X-ORIGINAL-URL:https://www.soralia.be/accueil
X-WR-CALDESC:Évènements pour Soralia
REFRESH-INTERVAL;VALUE=DURATION:PT1H
X-Robots-Tag:noindex
X-PUBLISHED-TTL:PT1H
BEGIN:VTIMEZONE
TZID:Europe/Paris
BEGIN:DAYLIGHT
TZOFFSETFROM:+0100
TZOFFSETTO:+0200
TZNAME:CEST
DTSTART:20200329T010000
END:DAYLIGHT
BEGIN:STANDARD
TZOFFSETFROM:+0200
TZOFFSETTO:+0100
TZNAME:CET
DTSTART:20201025T010000
END:STANDARD
BEGIN:DAYLIGHT
TZOFFSETFROM:+0100
TZOFFSETTO:+0200
TZNAME:CEST
DTSTART:20210328T010000
END:DAYLIGHT
BEGIN:STANDARD
TZOFFSETFROM:+0200
TZOFFSETTO:+0100
TZNAME:CET
DTSTART:20211031T010000
END:STANDARD
BEGIN:DAYLIGHT
TZOFFSETFROM:+0100
TZOFFSETTO:+0200
TZNAME:CEST
DTSTART:20220327T010000
END:DAYLIGHT
BEGIN:STANDARD
TZOFFSETFROM:+0200
TZOFFSETTO:+0100
TZNAME:CET
DTSTART:20221030T010000
END:STANDARD
END:VTIMEZONE
BEGIN:VEVENT
DTSTART;TZID=Europe/Paris:20210920T100000
DTEND;TZID=Europe/Paris:20211021T170000
DTSTAMP:20260421T160351
CREATED:20210908T140906Z
LAST-MODIFIED:20210909T074209Z
UID:10005330-1632132000-1634835600@www.soralia.be
SUMMARY:Expo "Le droit de vivre"
DESCRIPTION:Basée sur la BD d’Harald « Un coeur en commun »\, cette expo vous fera (re)découvrir l’histoire de la Sécurité sociale en Belgique\, de façon originale\, ludique\, et adaptée à tous publics. \nVisites animées sur inscription : du lundi au vendredi : 10h-12h/13h-15h/15h-17h – possibilité de 17h30 à 19h30 les mardis uniquement. \nInfos et inscriptions : exposition.ledroitdevivre@gmail.com ou 081/64 99 58 \nEn partenariat avec Afico\, PAC Namur\, CAL Namur\, le RWLP\, Les jeunes FGTB\, Latitudes Jeunes réseau Solidaris\, et le Collectif La Casserole.
URL:https://www.soralia.be/accueil/event/expo-le-droit-de-vivre/
LOCATION:Collectif La Casserole\, rue du Moulin Lavigne 19B\, 5002 Namur\, 5002\, Belgique
CATEGORIES:Droit & Citoyenneté,Namur,Régional,Santé,Thèmes
ATTACH;FMTTYPE=image/png:https://www.soralia.be/wp-content/uploads/2017/01/calendrier-sept.png
ORGANIZER;CN="FPS Namur":MAILTO:fps.provincenamur@solidaris.be
END:VEVENT
BEGIN:VEVENT
DTSTART;TZID=Europe/Paris:20211015T091500
DTEND;TZID=Europe/Paris:20211015T113000
DTSTAMP:20260421T160351
CREATED:20210823T101036Z
LAST-MODIFIED:20211216T150207Z
UID:10005270-1634289300-1634297400@www.soralia.be
SUMMARY:Marche nordique Charleroi
DESCRIPTION:Le principe de la marche nordique est simple : il s’agit d’accentuer le mouvement naturel de balancier des bras et de propulser le corps vers l’avant à l’aide de deux bâtons qui soutiennent les articulations des chevilles\, des genoux et des hanches. Toute la partie supérieure du corps est active et pas seulement les membres inférieurs. L’exercice physique est alors complet et l’entraînement cardiovasculaire et musculaire incomparable.\nAccessible à toutes et à tous\, cette activité physique vous permettra de vous re-mettre en mouvement\, accompagné-e de notre animatrice formée à cette pratique.\n\n\nPrix: 35€ et comprend 10 séances.\nLe lieu de rdv sera communiqué à l’inscription\nUn vendredi sur 2 \nRDV 9H15 départ 9h30 \n17/09\, 1/10\, 15/10\, 29/10\, 12/11\, 26/11\, 10/12 \n 
URL:https://www.soralia.be/accueil/event/marche-nordique-charleroi-2/2021-10-15/
CATEGORIES:Charleroi,Loisirs,Régional
ATTACH;FMTTYPE=image/png:https://www.soralia.be/wp-content/uploads/2017/01/calendrier-sept.png
END:VEVENT
BEGIN:VEVENT
DTSTART;TZID=Europe/Paris:20211015T133000
DTEND;TZID=Europe/Paris:20211015T163000
DTSTAMP:20260421T160351
CREATED:20210823T162133Z
LAST-MODIFIED:20210823T162133Z
UID:10005306-1634304600-1634315400@www.soralia.be
SUMMARY:atelier d'aquarelle et de techniques mixtes
DESCRIPTION:Laissez-vous tenter par l’aventure et plongez vos pinceaux dans l’univers de l’eau\, de l’aquarelle\, des techniques et des supports mixtes (toile\, carton…). Pour la recette\, rien de plus simple : une utilisation d’eau\, mélange de pigments\, une palette de couleurs\, des éléments féminins\, un choix de papier étonnant et des pinceaux de tous poils\, tout cela dans une ambiance décontractée ! S’inspirer des prochains rendez-vous et s’essayer aux techniques d’impressions ! \nDébutant.e.s ou confirmé.e.s se retrouvent ainsi dans une ambiance chaleureuse et amicale\, progressent de séance en séance. \nLe prix s’entend matériel compris. \n  \n 
URL:https://www.soralia.be/accueil/event/atelier-daquarelle-et-de-techniques-mixtes/2021-10-15/
LOCATION:Bâtiment Solidaris route de Beaumont 189 – 6030 Marchienne-au-Pont\, route de Beaumont 189\, Marchienne-au-Pont\, Hainaut\, 6030\, Belgique
CATEGORIES:Charleroi,Loisirs,Régional
ATTACH;FMTTYPE=image/png:https://www.soralia.be/wp-content/uploads/2017/01/calendrier-sept.png
END:VEVENT
BEGIN:VEVENT
DTSTART;TZID=Europe/Paris:20211015T193000
DTEND;TZID=Europe/Paris:20211015T213000
DTSTAMP:20260421T160351
CREATED:20210901T110446Z
LAST-MODIFIED:20211013T095309Z
UID:10005326-1634326200-1634333400@www.soralia.be
SUMMARY:Ateliers - Prendre la parole en public
DESCRIPTION:Vous tremblez à l’idée de passer vos examens oraux\, vous stressez lors d’un entretien d’ embauche\, … \nNous vous proposons un atelier pour : \n\napprendre à respirer\napprendre à poser votre voix\ncomprendre l’importance du regard\noser s’affirmer\n\nAtelier avec des exercices individuels et collectifs dans un climat de confiance. \nModule en 5 séances : les vendredis 1er\, 8\, 15\, 22 et 29 octobre\, de 19h00  à 21h00 au Centre culturel de Nismes. Animé par Stéphanie Destrée
URL:https://www.soralia.be/accueil/event/atelier-prendre-la-parole-en-public-2021-10-22/2021-10-15/
LOCATION:Centre culturel de Nismes\, rue Vieille Eglise\, Nismes\, 5670
CATEGORIES:Egalité femme-homme,Général,Namur,Régional,Thèmes
ATTACH;FMTTYPE=image/png:https://www.soralia.be/wp-content/uploads/2017/01/calendrier-oct.png
ORGANIZER;CN="FPS Namur":MAILTO:fps.provincenamur@solidaris.be
END:VEVENT
END:VCALENDAR