BEGIN:VCALENDAR
VERSION:2.0
PRODID:-//Soralia - ECPv6.15.17.1//NONSGML v1.0//EN
CALSCALE:GREGORIAN
METHOD:PUBLISH
X-ORIGINAL-URL:https://www.soralia.be/accueil
X-WR-CALDESC:Évènements pour Soralia
REFRESH-INTERVAL;VALUE=DURATION:PT1H
X-Robots-Tag:noindex
X-PUBLISHED-TTL:PT1H
BEGIN:VTIMEZONE
TZID:Europe/Paris
BEGIN:DAYLIGHT
TZOFFSETFROM:+0100
TZOFFSETTO:+0200
TZNAME:CEST
DTSTART:20200329T010000
END:DAYLIGHT
BEGIN:STANDARD
TZOFFSETFROM:+0200
TZOFFSETTO:+0100
TZNAME:CET
DTSTART:20201025T010000
END:STANDARD
BEGIN:DAYLIGHT
TZOFFSETFROM:+0100
TZOFFSETTO:+0200
TZNAME:CEST
DTSTART:20210328T010000
END:DAYLIGHT
BEGIN:STANDARD
TZOFFSETFROM:+0200
TZOFFSETTO:+0100
TZNAME:CET
DTSTART:20211031T010000
END:STANDARD
BEGIN:DAYLIGHT
TZOFFSETFROM:+0100
TZOFFSETTO:+0200
TZNAME:CEST
DTSTART:20220327T010000
END:DAYLIGHT
BEGIN:STANDARD
TZOFFSETFROM:+0200
TZOFFSETTO:+0100
TZNAME:CET
DTSTART:20221030T010000
END:STANDARD
END:VTIMEZONE
BEGIN:VEVENT
DTSTART;VALUE=DATE:20211031
DTEND;VALUE=DATE:20211101
DTSTAMP:20260426T050925
CREATED:20210816T080447Z
LAST-MODIFIED:20210816T080447Z
UID:10005215-1635638400-1635724799@www.soralia.be
SUMMARY:Autodéfense verbale
DESCRIPTION:L’idéal est d’éviter l’affrontement physique ! Les agressions verbales font partie du quotidien et polluent votre vie ? Ce stage vous propose une approche de base : identifier les différents types d’agressions\, poser ses limites\, apprendre à développer des stratégies\, gérer ses émotions… pour améliorer sa qualité de vie. \nDate :\n31/10/2021 de 9h30 à 18h \nPublic : femmes à partir de 16 ans\nPrix : 40 €* / 45 €\nInfo et réservation : 0485/46 74 83 ou wendo@skynet.be
URL:https://www.soralia.be/accueil/event/autodefense-verbale-4/
LOCATION:Les Associations Solidaris – Longdoz\, Rue Edouard Remouchamps 2\, Liège\, Liège\, 4020\, Belgique
CATEGORIES:Liège,Régional,Thèmes,Violences
ATTACH;FMTTYPE=image/png:https://www.soralia.be/wp-content/uploads/2017/01/calendrier-oct.png
END:VEVENT
END:VCALENDAR