BEGIN:VCALENDAR
VERSION:2.0
PRODID:-//Soralia - ECPv6.15.17.1//NONSGML v1.0//EN
CALSCALE:GREGORIAN
METHOD:PUBLISH
X-ORIGINAL-URL:https://www.soralia.be/accueil
X-WR-CALDESC:Évènements pour Soralia
REFRESH-INTERVAL;VALUE=DURATION:PT1H
X-Robots-Tag:noindex
X-PUBLISHED-TTL:PT1H
BEGIN:VTIMEZONE
TZID:Europe/Paris
BEGIN:DAYLIGHT
TZOFFSETFROM:+0100
TZOFFSETTO:+0200
TZNAME:CEST
DTSTART:20200329T010000
END:DAYLIGHT
BEGIN:STANDARD
TZOFFSETFROM:+0200
TZOFFSETTO:+0100
TZNAME:CET
DTSTART:20201025T010000
END:STANDARD
BEGIN:DAYLIGHT
TZOFFSETFROM:+0100
TZOFFSETTO:+0200
TZNAME:CEST
DTSTART:20210328T010000
END:DAYLIGHT
BEGIN:STANDARD
TZOFFSETFROM:+0200
TZOFFSETTO:+0100
TZNAME:CET
DTSTART:20211031T010000
END:STANDARD
BEGIN:DAYLIGHT
TZOFFSETFROM:+0100
TZOFFSETTO:+0200
TZNAME:CEST
DTSTART:20220327T010000
END:DAYLIGHT
BEGIN:STANDARD
TZOFFSETFROM:+0200
TZOFFSETTO:+0100
TZNAME:CET
DTSTART:20221030T010000
END:STANDARD
END:VTIMEZONE
BEGIN:VEVENT
DTSTART;TZID=Europe/Paris:20211118T090000
DTEND;TZID=Europe/Paris:20211118T103000
DTSTAMP:20260422T143300
CREATED:20210823T091910Z
LAST-MODIFIED:20210823T092124Z
UID:10005256-1637226000-1637231400@www.soralia.be
SUMMARY:Zenergie Epinois
DESCRIPTION:Si vous rechercher des techniques pour moins courir\, prendre le temps\, et réapprendre à respirer\, c’est ici que ça se passe!\nLors de cette activité de détente\, vous apprendrez à vous étirer\, à respirer pour gérer votre stress. L’apprentissage de différentes techniques qui permettent de mieux respirer\, de mieux se connaitre et prendre soin de soi. Vous pourrez\, dès lors\, lorsque vous sentirez que vous en aurez besoin\, mettre en place ces mêmes rituels afin de récupérer l’énergie qui peut vous manquer au quotidien!\n\nInscriptions obligatoires au 071/507.821\nPrix: 35€ pour 10 séances.\n 
URL:https://www.soralia.be/accueil/event/zenergie-epinois-49/2021-11-18/
LOCATION:Salle communale Epinois\, rue du By 132\, Epinois\, Hainaut\, Belgique
CATEGORIES:Charleroi,Loisirs,Régional
ATTACH;FMTTYPE=image/png:https://www.soralia.be/wp-content/uploads/2017/01/calendrier-sept.png
END:VEVENT
BEGIN:VEVENT
DTSTART;TZID=Europe/Paris:20211118T091500
DTEND;TZID=Europe/Paris:20211118T113000
DTSTAMP:20260422T143300
CREATED:20210823T102000Z
LAST-MODIFIED:20210823T102000Z
UID:10005278-1637226900-1637235000@www.soralia.be
SUMMARY:Marche nordique Epinois
DESCRIPTION:Le principe de la marche nordique est simple : il s’agit d’accentuer le mouvement naturel de balancier des bras et de propulser le corps vers l’avant à l’aide de deux bâtons qui soutiennent les articulations des chevilles\, des genoux et des hanches. Toute la partie supérieure du corps est active et pas seulement les membres inférieurs. L’exercice physique est alors complet et l’entraînement cardiovasculaire et musculaire incomparable.\nAccessible à toutes et à tous\, cette activité physique vous permettra de vous re-mettre en mouvement\, accompagné-e de notre animatrice formée à cette pratique.\n\n\nPrix: 35€ et comprend 10 séances.\nLe lieu de rdv sera communiqué à l’inscription\nUn jeudi sur 2 \nRDV 9H15 départ 9h30 \n23/09\, 7/10\, 21/10\, 18/11\, 2/12\, 16/12 \nsept
URL:https://www.soralia.be/accueil/event/marche-nordique-epinois-31/2021-11-18/
CATEGORIES:Charleroi,Régional
ATTACH;FMTTYPE=image/png:https://www.soralia.be/wp-content/uploads/2017/01/calendrier-sept.png
END:VEVENT
BEGIN:VEVENT
DTSTART;TZID=Europe/Paris:20211118T190000
DTEND;TZID=Europe/Paris:20211118T203000
DTSTAMP:20260422T143300
CREATED:20210824T082758Z
LAST-MODIFIED:20211206T102241Z
UID:10005315-1637262000-1637267400@www.soralia.be
SUMMARY:Table ronde autour des familles
DESCRIPTION:Des familles\, il en existe une multitude\, qu’elles soient de sang\, de cœur\, monoparentales\, homoparentales\, de tutelle\, ou bien d’autres choses encore.\nSur base du jeu Familial Poursuite\, nous vous proposons trois tables rondes autour des politiques familiales afin d’échanger\, débattre\, comprendre\, s’outiller\, partager ensemble autour des créances alimentaires\, des allocations familiales\, du soutien aux familles et bien d’autres sujets qui rythment vos vies de famille. \nParce qu’ensemble on va plus loin\, nous souhaitons\, grâce à ces ateliers\, nourrir vos réflexions et pourquoi pas enrichir les politiques familiales souvent peu adaptées au vécu des familles. \nInfos & inscriptions obligatoires au 071/507.819 ou via fps.charleroi@solidaris.be
URL:https://www.soralia.be/accueil/event/table-ronde-autour-des-familles/2021-11-18/
LOCATION:Maison des Femmes à Gilly\, Chaussée de Lodelinsart 100\, Gilly\, 6060\, Belgique
CATEGORIES:Charleroi,Droit & Citoyenneté,Familles,Général,parentalité,Régional,Thèmes
ATTACH;FMTTYPE=image/png:https://www.soralia.be/wp-content/uploads/2017/01/calendrier-dec.png
END:VEVENT
END:VCALENDAR