BEGIN:VCALENDAR
VERSION:2.0
PRODID:-//Soralia - ECPv6.15.17.1//NONSGML v1.0//EN
CALSCALE:GREGORIAN
METHOD:PUBLISH
X-WR-CALNAME:Soralia
X-ORIGINAL-URL:https://www.soralia.be/accueil
X-WR-CALDESC:Évènements pour Soralia
REFRESH-INTERVAL;VALUE=DURATION:PT1H
X-Robots-Tag:noindex
X-PUBLISHED-TTL:PT1H
BEGIN:VTIMEZONE
TZID:Europe/Paris
BEGIN:DAYLIGHT
TZOFFSETFROM:+0100
TZOFFSETTO:+0200
TZNAME:CEST
DTSTART:20200329T010000
END:DAYLIGHT
BEGIN:STANDARD
TZOFFSETFROM:+0200
TZOFFSETTO:+0100
TZNAME:CET
DTSTART:20201025T010000
END:STANDARD
BEGIN:DAYLIGHT
TZOFFSETFROM:+0100
TZOFFSETTO:+0200
TZNAME:CEST
DTSTART:20210328T010000
END:DAYLIGHT
BEGIN:STANDARD
TZOFFSETFROM:+0200
TZOFFSETTO:+0100
TZNAME:CET
DTSTART:20211031T010000
END:STANDARD
BEGIN:DAYLIGHT
TZOFFSETFROM:+0100
TZOFFSETTO:+0200
TZNAME:CEST
DTSTART:20220327T010000
END:DAYLIGHT
BEGIN:STANDARD
TZOFFSETFROM:+0200
TZOFFSETTO:+0100
TZNAME:CET
DTSTART:20221030T010000
END:STANDARD
END:VTIMEZONE
BEGIN:VEVENT
DTSTART;TZID=Europe/Paris:20211120T093000
DTEND;TZID=Europe/Paris:20211120T113000
DTSTAMP:20260425T011333
CREATED:20210823T094705Z
LAST-MODIFIED:20210823T094829Z
UID:10005263-1637400600-1637407800@www.soralia.be
SUMMARY:Danse orientale [Débutantes et confirmées]
DESCRIPTION:Envie de bouger tout en douceur? De découvrir une danse en harmonie avec le corps féminin? Et de profiter d’une ambiance agréable et solidaire? Venez découvrir la danse orientale. \n  \nInfos et inscriptions obligatoires au 071/507.821 \nLe prix s’entend pour 10 séances.
URL:https://www.soralia.be/accueil/event/danse-orientale-debutantes-et-confirmees/2021-11-20/
LOCATION:Complexe de l’Asie\, Rue de l'Asie 44\, Marcinelle\, Hainaut\, 6001\, Belgique
CATEGORIES:Charleroi,Loisirs,Régional
ATTACH;FMTTYPE=image/png:https://www.soralia.be/wp-content/uploads/2017/01/calendrier-sept.png
END:VEVENT
BEGIN:VEVENT
DTSTART;TZID=Europe/Paris:20211120T140000
DTEND;TZID=Europe/Paris:20211120T160000
DTSTAMP:20260425T011333
CREATED:20211116T144007Z
LAST-MODIFIED:20211116T144007Z
UID:10005375-1637416800-1637424000@www.soralia.be
SUMMARY:Atelier d'autodéfense verbale par le Théâtre des Rues
DESCRIPTION:Dans le cadre de la Journée internationale pour l’élimination de la violence à l’égard des femmes\, Soralia de Nivelles\, Laïcité Brabant wallon et Ciné4 proposent un atelier d’autodéfense verbale animé par le Théâtre des Rues.
URL:https://www.soralia.be/accueil/event/atelier-dautodefense-verbale-par-le-theatre-des-rues/
LOCATION:Laïcité Brabant wallon – Nivelles Rue Georges Willame 10 1400 Nivelles\, Rue Georges Willame 10\, Nivelles\, 1400\, Belgique
CATEGORIES:Brabant wallon,Egalité femme-homme,Régional,Sexualité,Thèmes,Violences
END:VEVENT
END:VCALENDAR