BEGIN:VCALENDAR
VERSION:2.0
PRODID:-//Soralia - ECPv6.15.17.1//NONSGML v1.0//EN
CALSCALE:GREGORIAN
METHOD:PUBLISH
X-WR-CALNAME:Soralia
X-ORIGINAL-URL:https://www.soralia.be/accueil
X-WR-CALDESC:Évènements pour Soralia
REFRESH-INTERVAL;VALUE=DURATION:PT1H
X-Robots-Tag:noindex
X-PUBLISHED-TTL:PT1H
BEGIN:VTIMEZONE
TZID:Europe/Paris
BEGIN:DAYLIGHT
TZOFFSETFROM:+0100
TZOFFSETTO:+0200
TZNAME:CEST
DTSTART:20200329T010000
END:DAYLIGHT
BEGIN:STANDARD
TZOFFSETFROM:+0200
TZOFFSETTO:+0100
TZNAME:CET
DTSTART:20201025T010000
END:STANDARD
BEGIN:DAYLIGHT
TZOFFSETFROM:+0100
TZOFFSETTO:+0200
TZNAME:CEST
DTSTART:20210328T010000
END:DAYLIGHT
BEGIN:STANDARD
TZOFFSETFROM:+0200
TZOFFSETTO:+0100
TZNAME:CET
DTSTART:20211031T010000
END:STANDARD
BEGIN:DAYLIGHT
TZOFFSETFROM:+0100
TZOFFSETTO:+0200
TZNAME:CEST
DTSTART:20220327T010000
END:DAYLIGHT
BEGIN:STANDARD
TZOFFSETFROM:+0200
TZOFFSETTO:+0100
TZNAME:CET
DTSTART:20221030T010000
END:STANDARD
END:VTIMEZONE
BEGIN:VEVENT
DTSTART;TZID=Europe/Paris:20211122T100000
DTEND;TZID=Europe/Paris:20211126T160000
DTSTAMP:20260422T143329
CREATED:20211116T142754Z
LAST-MODIFIED:20211116T142754Z
UID:10005372-1637575200-1637942400@www.soralia.be
SUMMARY:Exposition "Les Crocodiles"
DESCRIPTION:Dans le cadre de la Journée internationale pour l’élimination de la violence à l’égard des femmes\, Soralia de Nivelles\, Laïcité Brabant wallon et Ciné4 proposent l’exposition ‘Les Crocodiles »\, réalisée à partir d’histoires de harcèlement et de sexisme ordinaire mises en bande-dessinée par Thomas Mathieu. \nVernissage : jeudi 25 novembre 2021 à 18h30
URL:https://www.soralia.be/accueil/event/exposition-les-crocodiles-2/
LOCATION:Hôtel de Ville de Nivelles\, Place Albert Ier 2\, Nivelles\, 1400\, Belgique
CATEGORIES:Brabant wallon,Culture,Egalité femme-homme,Régional,Thèmes,Violences
END:VEVENT
BEGIN:VEVENT
DTSTART;TZID=Europe/Paris:20211123T140000
DTEND;TZID=Europe/Paris:20211123T150000
DTSTAMP:20260422T143329
CREATED:20210823T091107Z
LAST-MODIFIED:20210823T091449Z
UID:10005251-1637676000-1637679600@www.soralia.be
SUMMARY:Gym Zen Epinois 
DESCRIPTION:La gym Zen permet un renforcement musculaire général. L’échauffement est réalisé au moyen de pas dynamiques. Ensuite\, des exercices combinés permettent de travailler plusieurs groupes musculaires en même temps. Des exercices au sol sont également proposés. Le cours se termine par des étirements.\nDans une ambiance respectueuse de chacun-e\, ce cours d’activité physique se donne dans un climat de confiance.\nLe prix s’entend pour une carte de dix séances.\n 
URL:https://www.soralia.be/accueil/event/gym-zen-epinois-47/2021-11-23/
LOCATION:Salle communale Epinois\, rue du By 132\, Epinois\, Hainaut\, Belgique
CATEGORIES:Loisirs
ATTACH;FMTTYPE=image/png:https://www.soralia.be/wp-content/uploads/2017/01/calendrier-sept.png
END:VEVENT
BEGIN:VEVENT
DTSTART;TZID=Europe/Paris:20211123T163000
DTEND;TZID=Europe/Paris:20211123T190000
DTSTAMP:20260422T143329
CREATED:20211109T131920Z
LAST-MODIFIED:20211109T131920Z
UID:10005367-1637685000-1637694000@www.soralia.be
SUMMARY:Repas africain au profit du Fonds Aristote
DESCRIPTION:  \nRÉSISTER ET MILITER AU FÉMININ \nUn cycle de rencontres avec des femmes qui agissent aujourd’hui dans des domaines tels que l’enseignement\, la scène\, la littérature\, l’action sociale\, la désobéissance civile ou encore la lutte contre le handicap. \nRENCONTRE AVEC YAMINA ZAAZAA : \n« Epauler les femmes en situation de vulnérabilité » \n  \nLe 23 novembre à 16h30 \nHôtel de ville \nPlace Van Meenen\, 39 \n1060 Saint-Gilles \n  \nInfos et inscriptions : 02 546 14 12 ou 13 – fps-fam@fmsb.be \nParticipation gratuite \nLes mesures COVID seront d’application
URL:https://www.soralia.be/accueil/event/repas-africain-au-profit-du-fonds-aristote/
LOCATION:Hôtel de Ville de saint-Gilles\, Place Van Meenen\, 39\, 1060 Saint-Gilles\, Bruxelles\, 1060\, Belgique
CATEGORIES:Culture,Droit & Citoyenneté,Egalité femme-homme,Thèmes
ATTACH;FMTTYPE=image/png:https://www.soralia.be/wp-content/uploads/2017/01/calendrier-nov.png
END:VEVENT
END:VCALENDAR