BEGIN:VCALENDAR
VERSION:2.0
PRODID:-//Soralia - ECPv6.15.17.1//NONSGML v1.0//EN
CALSCALE:GREGORIAN
METHOD:PUBLISH
X-ORIGINAL-URL:https://www.soralia.be/accueil
X-WR-CALDESC:Évènements pour Soralia
REFRESH-INTERVAL;VALUE=DURATION:PT1H
X-Robots-Tag:noindex
X-PUBLISHED-TTL:PT1H
BEGIN:VTIMEZONE
TZID:Europe/Paris
BEGIN:DAYLIGHT
TZOFFSETFROM:+0100
TZOFFSETTO:+0200
TZNAME:CEST
DTSTART:20200329T010000
END:DAYLIGHT
BEGIN:STANDARD
TZOFFSETFROM:+0200
TZOFFSETTO:+0100
TZNAME:CET
DTSTART:20201025T010000
END:STANDARD
BEGIN:DAYLIGHT
TZOFFSETFROM:+0100
TZOFFSETTO:+0200
TZNAME:CEST
DTSTART:20210328T010000
END:DAYLIGHT
BEGIN:STANDARD
TZOFFSETFROM:+0200
TZOFFSETTO:+0100
TZNAME:CET
DTSTART:20211031T010000
END:STANDARD
BEGIN:DAYLIGHT
TZOFFSETFROM:+0100
TZOFFSETTO:+0200
TZNAME:CEST
DTSTART:20220327T010000
END:DAYLIGHT
BEGIN:STANDARD
TZOFFSETFROM:+0200
TZOFFSETTO:+0100
TZNAME:CET
DTSTART:20221030T010000
END:STANDARD
END:VTIMEZONE
BEGIN:VEVENT
DTSTART;VALUE=DATE:20211127
DTEND;VALUE=DATE:20211128
DTSTAMP:20260424T150023
CREATED:20211115T110916Z
LAST-MODIFIED:20211118T103018Z
UID:10005369-1637971200-1638057599@www.soralia.be
SUMMARY:Repas africain au profit de Fonds Aristote
DESCRIPTION:  \nRepas africain au profit du Fonds Aristote \nMenu : \nMoambe au poulet ou végétarien\nRiz\nPondu\nBanane plantin\nDessert \nQuand?\nLe samedi 27 novembre 2021 de 12h>15h et de 18h>21h \nOù?\nSalle Paroissiale\n144 rue d’Artan à Schaerbeek \n\n\nCombien?\n13€/par personne\nPossibilité de repas à emporterRéservation souhaitée : fps-fam@fmsb.be – 02 546 14 12 ou 13\n\nPrévente: veuillez verser le montant sur le n° compte bancaire BE17 0001 4254 3621 avec la communication “repas 27-11 votre nom”\n\nwww.fondsaristote.com\n\n\nLes mesures COVID en vigueur seront d’application
URL:https://www.soralia.be/accueil/event/repas-africain-au-profit-de-fonds-aristote/
LOCATION:Salle Paroissiale\, 144 rue d’Artan\, Schaerbeek\, Bruxelles\, 1030\, Belgique
CATEGORIES:Bruxelles,Droit & Citoyenneté,Familles,Loisirs,Régional,Thèmes
ATTACH;FMTTYPE=image/png:https://www.soralia.be/wp-content/uploads/2017/01/calendrier-nov.png
END:VEVENT
BEGIN:VEVENT
DTSTART;TZID=Europe/Paris:20211127T093000
DTEND;TZID=Europe/Paris:20211127T113000
DTSTAMP:20260424T150023
CREATED:20210823T094705Z
LAST-MODIFIED:20210823T094829Z
UID:10005264-1638005400-1638012600@www.soralia.be
SUMMARY:Danse orientale [Débutantes et confirmées]
DESCRIPTION:Envie de bouger tout en douceur? De découvrir une danse en harmonie avec le corps féminin? Et de profiter d’une ambiance agréable et solidaire? Venez découvrir la danse orientale. \n  \nInfos et inscriptions obligatoires au 071/507.821 \nLe prix s’entend pour 10 séances.
URL:https://www.soralia.be/accueil/event/danse-orientale-debutantes-et-confirmees/2021-11-27/
LOCATION:Complexe de l’Asie\, Rue de l'Asie 44\, Marcinelle\, Hainaut\, 6001\, Belgique
CATEGORIES:Charleroi,Loisirs,Régional
ATTACH;FMTTYPE=image/png:https://www.soralia.be/wp-content/uploads/2017/01/calendrier-sept.png
END:VEVENT
BEGIN:VEVENT
DTSTART;TZID=Europe/Paris:20211127T190000
DTEND;TZID=Europe/Paris:20211127T213000
DTSTAMP:20260424T150023
CREATED:20211115T105109Z
LAST-MODIFIED:20211115T105320Z
UID:10005368-1638039600-1638048600@www.soralia.be
SUMMARY:Journée Internationale pour l'Elimination de la Violence à l'égard des Femmes
DESCRIPTION:JOURNEE INTERNATIONALE POUR L’ELIMINATION DE LA VIOLENCE A L’EGARD DES FEMMES\n\n\n\nParce que la violence envers les femmes est aussi institutionnelle et financière\, les Femmes Prévoyantes Socialistes de Koekelberg ont choisi d’organiser une conférence intitulée:\n\n\n« Familles monoparentales: La question de l’endettement\, de la médiation de dette et du règlement collectif de dettes »\n\n\n\nQuand? le Samedi 27 novembre 2021 à 19h00\nOù? De Platoo\, 14 Avenue du Panthéon à 1081 Koekelberg\n\nInscription: karimasaida@hotmail.com\n\n\n\nEntrée libre / Le CST sera d’application
URL:https://www.soralia.be/accueil/event/13075/
LOCATION:De Platoo\, 14 Avenue du Panthéon\, Koekelberg\, Bruxelles\, 1081\, Belgique
CATEGORIES:Bruxelles,Culture,Droit & Citoyenneté,Egalité femme-homme,Familles,Régional,Thèmes,Violences
ATTACH;FMTTYPE=image/png:https://www.soralia.be/wp-content/uploads/2017/01/calendrier-nov.png
END:VEVENT
END:VCALENDAR