BEGIN:VCALENDAR
VERSION:2.0
PRODID:-//Soralia - ECPv6.15.17.1//NONSGML v1.0//EN
CALSCALE:GREGORIAN
METHOD:PUBLISH
X-ORIGINAL-URL:https://www.soralia.be/accueil
X-WR-CALDESC:Évènements pour Soralia
REFRESH-INTERVAL;VALUE=DURATION:PT1H
X-Robots-Tag:noindex
X-PUBLISHED-TTL:PT1H
BEGIN:VTIMEZONE
TZID:Europe/Paris
BEGIN:DAYLIGHT
TZOFFSETFROM:+0100
TZOFFSETTO:+0200
TZNAME:CEST
DTSTART:20200329T010000
END:DAYLIGHT
BEGIN:STANDARD
TZOFFSETFROM:+0200
TZOFFSETTO:+0100
TZNAME:CET
DTSTART:20201025T010000
END:STANDARD
BEGIN:DAYLIGHT
TZOFFSETFROM:+0100
TZOFFSETTO:+0200
TZNAME:CEST
DTSTART:20210328T010000
END:DAYLIGHT
BEGIN:STANDARD
TZOFFSETFROM:+0200
TZOFFSETTO:+0100
TZNAME:CET
DTSTART:20211031T010000
END:STANDARD
BEGIN:DAYLIGHT
TZOFFSETFROM:+0100
TZOFFSETTO:+0200
TZNAME:CEST
DTSTART:20220327T010000
END:DAYLIGHT
BEGIN:STANDARD
TZOFFSETFROM:+0200
TZOFFSETTO:+0100
TZNAME:CET
DTSTART:20221030T010000
END:STANDARD
END:VTIMEZONE
BEGIN:VEVENT
DTSTART;TZID=Europe/Paris:20211130T093000
DTEND;TZID=Europe/Paris:20211130T120000
DTSTAMP:20260424T125552
CREATED:20210921T125401Z
LAST-MODIFIED:20210921T125401Z
UID:10005340-1638264600-1638273600@www.soralia.be
SUMMARY:Défi alimentation durable à Binche
DESCRIPTION:Le climat\, l’environnement\, la planète en lien avec notre assiette vous interpelle\, nous vous proposons un espace pour venir en parler et agir car les petits ruisseaux font les grandes rivières. Les prochaines thématiques abordées seront : le zéro déchet\, les agriculteurs et cultivateurs locaux\, les repas à petit budget. \nLes mardis 5/10 (La Hestre)\, 30/11 (Binche) et 21/12 (La Hestre) de 9h30 à 12h  \nBinche ou  La Hestre (pour les dates 2021\, en 2022 exclusivement sur Binche) \nGratuit \nInfos et inscriptions obligatoires au 071/507 820 ou fps.cs@solidaris.be
URL:https://www.soralia.be/accueil/event/defi-alimentation-durable-a-binche/2021-11-30/
CATEGORIES:Centre & Soignies,Régional,Santé,Thèmes
ATTACH;FMTTYPE=image/png:https://www.soralia.be/wp-content/uploads/2017/01/calendrier-oct.png
ORGANIZER;CN="FPS Centre & Soignies":MAILTO:fps.cs@solidaris.be
END:VEVENT
BEGIN:VEVENT
DTSTART;TZID=Europe/Paris:20211130T140000
DTEND;TZID=Europe/Paris:20211130T150000
DTSTAMP:20260424T125552
CREATED:20210823T091107Z
LAST-MODIFIED:20210823T091449Z
UID:10005252-1638280800-1638284400@www.soralia.be
SUMMARY:Gym Zen Epinois 
DESCRIPTION:La gym Zen permet un renforcement musculaire général. L’échauffement est réalisé au moyen de pas dynamiques. Ensuite\, des exercices combinés permettent de travailler plusieurs groupes musculaires en même temps. Des exercices au sol sont également proposés. Le cours se termine par des étirements.\nDans une ambiance respectueuse de chacun-e\, ce cours d’activité physique se donne dans un climat de confiance.\nLe prix s’entend pour une carte de dix séances.\n 
URL:https://www.soralia.be/accueil/event/gym-zen-epinois-47/2021-11-30/
LOCATION:Salle communale Epinois\, rue du By 132\, Epinois\, Hainaut\, Belgique
CATEGORIES:Loisirs
ATTACH;FMTTYPE=image/png:https://www.soralia.be/wp-content/uploads/2017/01/calendrier-sept.png
END:VEVENT
END:VCALENDAR