BEGIN:VCALENDAR
VERSION:2.0
PRODID:-//Soralia - ECPv6.15.17.1//NONSGML v1.0//EN
CALSCALE:GREGORIAN
METHOD:PUBLISH
X-WR-CALNAME:Soralia
X-ORIGINAL-URL:https://www.soralia.be/accueil
X-WR-CALDESC:Évènements pour Soralia
REFRESH-INTERVAL;VALUE=DURATION:PT1H
X-Robots-Tag:noindex
X-PUBLISHED-TTL:PT1H
BEGIN:VTIMEZONE
TZID:Europe/Paris
BEGIN:DAYLIGHT
TZOFFSETFROM:+0100
TZOFFSETTO:+0200
TZNAME:CEST
DTSTART:20200329T010000
END:DAYLIGHT
BEGIN:STANDARD
TZOFFSETFROM:+0200
TZOFFSETTO:+0100
TZNAME:CET
DTSTART:20201025T010000
END:STANDARD
BEGIN:DAYLIGHT
TZOFFSETFROM:+0100
TZOFFSETTO:+0200
TZNAME:CEST
DTSTART:20210328T010000
END:DAYLIGHT
BEGIN:STANDARD
TZOFFSETFROM:+0200
TZOFFSETTO:+0100
TZNAME:CET
DTSTART:20211031T010000
END:STANDARD
BEGIN:DAYLIGHT
TZOFFSETFROM:+0100
TZOFFSETTO:+0200
TZNAME:CEST
DTSTART:20220327T010000
END:DAYLIGHT
BEGIN:STANDARD
TZOFFSETFROM:+0200
TZOFFSETTO:+0100
TZNAME:CET
DTSTART:20221030T010000
END:STANDARD
END:VTIMEZONE
BEGIN:VEVENT
DTSTART;TZID=Europe/Paris:20211214T140000
DTEND;TZID=Europe/Paris:20211214T150000
DTSTAMP:20260425T200908
CREATED:20210823T091107Z
LAST-MODIFIED:20210823T091449Z
UID:10005254-1639490400-1639494000@www.soralia.be
SUMMARY:Gym Zen Epinois 
DESCRIPTION:La gym Zen permet un renforcement musculaire général. L’échauffement est réalisé au moyen de pas dynamiques. Ensuite\, des exercices combinés permettent de travailler plusieurs groupes musculaires en même temps. Des exercices au sol sont également proposés. Le cours se termine par des étirements.\nDans une ambiance respectueuse de chacun-e\, ce cours d’activité physique se donne dans un climat de confiance.\nLe prix s’entend pour une carte de dix séances.\n 
URL:https://www.soralia.be/accueil/event/gym-zen-epinois-47/2021-12-14/
LOCATION:Salle communale Epinois\, rue du By 132\, Epinois\, Hainaut\, Belgique
CATEGORIES:Loisirs
ATTACH;FMTTYPE=image/png:https://www.soralia.be/wp-content/uploads/2017/01/calendrier-sept.png
END:VEVENT
END:VCALENDAR