BEGIN:VCALENDAR
VERSION:2.0
PRODID:-//Soralia - ECPv6.15.17.1//NONSGML v1.0//EN
CALSCALE:GREGORIAN
METHOD:PUBLISH
X-ORIGINAL-URL:https://www.soralia.be/accueil
X-WR-CALDESC:Évènements pour Soralia
REFRESH-INTERVAL;VALUE=DURATION:PT1H
X-Robots-Tag:noindex
X-PUBLISHED-TTL:PT1H
BEGIN:VTIMEZONE
TZID:Europe/Paris
BEGIN:DAYLIGHT
TZOFFSETFROM:+0100
TZOFFSETTO:+0200
TZNAME:CEST
DTSTART:20210328T010000
END:DAYLIGHT
BEGIN:STANDARD
TZOFFSETFROM:+0200
TZOFFSETTO:+0100
TZNAME:CET
DTSTART:20211031T010000
END:STANDARD
BEGIN:DAYLIGHT
TZOFFSETFROM:+0100
TZOFFSETTO:+0200
TZNAME:CEST
DTSTART:20220327T010000
END:DAYLIGHT
BEGIN:STANDARD
TZOFFSETFROM:+0200
TZOFFSETTO:+0100
TZNAME:CET
DTSTART:20221030T010000
END:STANDARD
BEGIN:DAYLIGHT
TZOFFSETFROM:+0100
TZOFFSETTO:+0200
TZNAME:CEST
DTSTART:20230326T010000
END:DAYLIGHT
BEGIN:STANDARD
TZOFFSETFROM:+0200
TZOFFSETTO:+0100
TZNAME:CET
DTSTART:20231029T010000
END:STANDARD
END:VTIMEZONE
BEGIN:VEVENT
DTSTART;TZID=Europe/Paris:20220304T093000
DTEND;TZID=Europe/Paris:20220312T170000
DTSTAMP:20260424T172841
CREATED:20220215T113842Z
LAST-MODIFIED:20220215T113842Z
UID:10005450-1646386200-1647104400@www.soralia.be
SUMMARY:Expo - Que portais-tu ce jour-là ?
DESCRIPTION:Dans le cadre de la Journée internationale des droits des femmes\, le comité local FPS de Tubize\, en collaboration avec le Centre culturel de Tubize\, propose l’exposition « Que portais-tu ce jour-là » d’Amnesty Internationale. \nVernissage : le 4 mars à 19h30 \nInfos : anne.gerard@solidaris.be
URL:https://www.soralia.be/accueil/event/expo-que-portais-tu-ce-jour-la/
LOCATION:Centre culturel de Tubize\, Boulevard Georges Deryck\, 124 \, Tubize
CATEGORIES:Brabant wallon,Droit & Citoyenneté,Egalité femme-homme,Régional,Thèmes
ORGANIZER;CN="Comit%C3%A9 local FPS de Tubize":MAILTO:fps.tubize@gmail.com
END:VEVENT
BEGIN:VEVENT
DTSTART;TZID=Europe/Paris:20220307T093000
DTEND;TZID=Europe/Paris:20220307T170000
DTSTAMP:20260424T172841
CREATED:20220214T130321Z
LAST-MODIFIED:20220221T123133Z
UID:10005442-1646645400-1646672400@www.soralia.be
SUMMARY:Insécurité et harcèlement de rue à Namur\, comment agir ?
DESCRIPTION:Dans le cadre de la Journée Internationale des droits des femmes du 8 mars\, nous proposons un atelier intitulé « INSÉCURITÉ ET HARCÈLEMENT DE RUE À NAMUR : COMMENT AGIR ? \n2 journées d’expressions\, d’échanges et de rencontres pour partager ses expériences\, découvrir des outils pour faire face au harcèlement de rue\, reprendre sa place dans l’espace public. \nCes 2 journées sont organisées en partenariat avec l’asbl Garance\, et se dérouleront dans une ambiance conviviale\, les 7 et 8 mars de 9h30 à 17h00 à la Maison Arc-en-ciel\, rue Eugène Hambursin\, 13 à Namur (Salzinnes). \nC’est gratuit\, avec repas le midi\, mais les inscriptions sont obligatoires : fps.provincenamur@solidaris.be pour le 28 février au plus tard. \nProgramme complet sur demande à fps.provincenamur@solidaris.be
URL:https://www.soralia.be/accueil/event/insecurite-et-harcelement-de-rue-a-namur-comment-agir/
LOCATION:Maison Arc-en-Ciel Namur\, rue E. Hambursin 13\, 5000 Namur\, 5000
CATEGORIES:Egalité femme-homme,Général,Namur,Régional,Thèmes
ATTACH;FMTTYPE=image/png:https://www.soralia.be/wp-content/uploads/2017/01/calendrier-mars.png
ORGANIZER;CN="FPS Namur":MAILTO:fps.provincenamur@solidaris.be
END:VEVENT
BEGIN:VEVENT
DTSTART;TZID=Europe/Paris:20220307T100000
DTEND;TZID=Europe/Paris:20220307T130000
DTSTAMP:20260424T172841
CREATED:20210517T093213Z
LAST-MODIFIED:20210517T155320Z
UID:10005134-1646647200-1646658000@www.soralia.be
SUMMARY:Balade -Bains de Forêt
DESCRIPTION:Découvrez les bienfaits des « Bains de Forêt »\nOffrez-vous\, en compagnie de notre thérapeute\, 3 heures de déconnexion totale en forêt pour ressentir un bien-être tant physique que mental ! \nQuand ?\nSoit le samedi 22 mai de 10h 13h\, \nSoit le samedi 29 mai de 10h 13h\, \nSoit le samedi 12 juin de 10h 13h \nOù ?\nEn Forêt de Soignes (départ d’Auderghem) \nCombien ?\n20 euros \nRenseignements :\n02/546 14 07 \nfps-ateliersante@fmsdb.be \n 
URL:https://www.soralia.be/accueil/event/bains-de-foret/2022-03-07/
LOCATION:Forêt de Soignes\, Auderghem\, Belgique
CATEGORIES:Bruxelles,Familles,Général,Loisirs,Régional,Santé,Thèmes
ATTACH;FMTTYPE=image/png:https://www.soralia.be/wp-content/uploads/2017/01/calendrier-mai.png
END:VEVENT
END:VCALENDAR