BEGIN:VCALENDAR
VERSION:2.0
PRODID:-//Soralia - ECPv6.15.17.1//NONSGML v1.0//EN
CALSCALE:GREGORIAN
METHOD:PUBLISH
X-ORIGINAL-URL:https://www.soralia.be/accueil
X-WR-CALDESC:Évènements pour Soralia
REFRESH-INTERVAL;VALUE=DURATION:PT1H
X-Robots-Tag:noindex
X-PUBLISHED-TTL:PT1H
BEGIN:VTIMEZONE
TZID:Europe/Paris
BEGIN:DAYLIGHT
TZOFFSETFROM:+0100
TZOFFSETTO:+0200
TZNAME:CEST
DTSTART:20230326T010000
END:DAYLIGHT
BEGIN:STANDARD
TZOFFSETFROM:+0200
TZOFFSETTO:+0100
TZNAME:CET
DTSTART:20231029T010000
END:STANDARD
BEGIN:DAYLIGHT
TZOFFSETFROM:+0100
TZOFFSETTO:+0200
TZNAME:CEST
DTSTART:20240331T010000
END:DAYLIGHT
BEGIN:STANDARD
TZOFFSETFROM:+0200
TZOFFSETTO:+0100
TZNAME:CET
DTSTART:20241027T010000
END:STANDARD
BEGIN:DAYLIGHT
TZOFFSETFROM:+0100
TZOFFSETTO:+0200
TZNAME:CEST
DTSTART:20250330T010000
END:DAYLIGHT
BEGIN:STANDARD
TZOFFSETFROM:+0200
TZOFFSETTO:+0100
TZNAME:CET
DTSTART:20251026T010000
END:STANDARD
BEGIN:DAYLIGHT
TZOFFSETFROM:+0100
TZOFFSETTO:+0200
TZNAME:CEST
DTSTART:20260329T010000
END:DAYLIGHT
BEGIN:STANDARD
TZOFFSETFROM:+0200
TZOFFSETTO:+0100
TZNAME:CET
DTSTART:20261025T010000
END:STANDARD
BEGIN:DAYLIGHT
TZOFFSETFROM:+0100
TZOFFSETTO:+0200
TZNAME:CEST
DTSTART:20270328T010000
END:DAYLIGHT
BEGIN:STANDARD
TZOFFSETFROM:+0200
TZOFFSETTO:+0100
TZNAME:CET
DTSTART:20271031T010000
END:STANDARD
END:VTIMEZONE
BEGIN:VEVENT
DTSTART;TZID=Europe/Paris:20240416T183000
DTEND;TZID=Europe/Paris:20260416T203000
DTSTAMP:20260421T143414
CREATED:20260421T081017Z
LAST-MODIFIED:20260421T081017Z
UID:10006465-1713292200-1776371400@www.soralia.be
SUMMARY:Escape Game : 9m2
DESCRIPTION:Une expérience immersive pour découvrir autrement la réalité carcérale.  A travers cet escape game\, plongez dans une cellule de prison et questionnez les conditions de détention\, les droits humains et les idées reçues.
URL:https://www.soralia.be/accueil/event/escape-game-9m2/2024-04-16/
LOCATION:Maison de la Laïcité Philippeville\, Boulevard de l'Enseignement 5\, Philippeville\, Namur\, 5600\, Belgique
CATEGORIES:Namur,Régional
END:VEVENT
BEGIN:VEVENT
DTSTART;TZID=Europe/Paris:20241001T140000
DTEND;TZID=Europe/Paris:20241015T200000
DTSTAMP:20260421T143414
CREATED:20230704T150406Z
LAST-MODIFIED:20240923T112833Z
UID:10005817-1727791200-1729022400@www.soralia.be
SUMMARY:Cycle de rencontres “L’extrême-droite : on a déjà essayé !”
DESCRIPTION:Du 1er au 14 octobre à La Louvière\, le Mouvement PAC\, Soralia Centre et Soignies\, le Centre Indigo et le club Achille Chavée vous proposent un cycle de rencontres “L’extrême-droite\, on a déjà essayé !”. \n— \nL’objectif est de se questionner sur la banalisation des idées d’extrême-droite et sur le succès électoral de ses candidat.e.s\, que ce soit en Italie\, en Hongrie\, en Espagne\, en France… mais aussi en Belgique où cette année électorale a vu émerger un parti d’extrême-droite qui maîtrise les codes de la communication\, se soumet au suffrage communal à La Louvière et surfe sur nos peurs pour nous exhorter à devenir toujours plus individualiste\, raciste\, sexiste… \nTout au long du cycle\, vous aurez l’occasion de découvrir « Chez nous aussi\, ça pourrait arriver »\, une exposition proposée par Soralia. Face aux désillusions citoyennes et aux crises successives\, les partis d’extrême droite se présentent comme une solution miracle aux maux d’une société en perte de sens. Pourtant\, ce n’est qu’un leurre. Pire encore\, c’est une réelle menace pour les droits des femmes et des minorités. En cette année d’élections\, Soralia a décidé de tirer la sonnette d’alarme et de mettre en lumière les menaces que représente l’extrême droite au pouvoir. \nPROGRAMME :  \n\nExposition « Chez nous aussi\, ça pourrait arriver » de Soralia\nArpentages et rencontre avec Olivier Starquit autour des livres « Le poing\, la rose et le putois » et « Les mots qui puent »\nConférence gesticulée de Martin Gontier « Moins con qu’un poisson – Pourquoi ne faut-il pas débattre avec l’extrême-droite ? »\nFormation citoyenne « Avec l’extrême-droite\, la cible c’est toi ! »\n\nDécouvrez le programme complet ici  \nINFORMATIONS PRATIQUES :  \n\nDates : Du 1er au 18 octobre\nLieu : La Louvière\nPlus d’infos : animation@pac-g.be
URL:https://www.soralia.be/accueil/event/ateliers-nutrition-et-sante-11-18-et-25-juillet/
LOCATION:Namur
CATEGORIES:Centre & Soignies,Droit & Citoyenneté
ATTACH;FMTTYPE=image/png:https://www.soralia.be/wp-content/uploads/2017/01/calendrier-oct.png
END:VEVENT
BEGIN:VEVENT
DTSTART;TZID=Europe/Paris:20241004T160000
DTEND;TZID=Europe/Paris:20241011T120000
DTSTAMP:20260421T143414
CREATED:20231023T113238Z
LAST-MODIFIED:20240926T105537Z
UID:10005875-1728057600-1728648000@www.soralia.be
SUMMARY:Rendre visible l'invisible - Tournai
DESCRIPTION:
URL:https://www.soralia.be/accueil/event/rendre-visible-linvisible-tournai/
LOCATION:Clos Saint Martin à Tournai\, Clos Saint Martin\, Tournai\, Hainaut\, 7500\, Belgique
CATEGORIES:Culture,Droit & Citoyenneté,Général,Régional,Thèmes,Wallonie-picarde
ATTACH;FMTTYPE=image/png:https://www.soralia.be/wp-content/uploads/2017/01/calendrier-oct.png
ORGANIZER;CN="Soralia Wallonie picarde":MAILTO:soralia.mwp@solidaris.be
END:VEVENT
BEGIN:VEVENT
DTSTART;TZID=Europe/Paris:20241010T193000
DTEND;TZID=Europe/Paris:20241010T210000
DTSTAMP:20260421T143414
CREATED:20240903T123918Z
LAST-MODIFIED:20240917T121450Z
UID:10005952-1728588600-1728594000@www.soralia.be
SUMMARY:Spectacle "Les Grandes Marées" à Braine-l'Alleud
DESCRIPTION:Un récit actuel\, aux enjeux fondamentaux\, au propos urgent.\n\n\n\nUn père débarque chez son fils à l’improviste\, au milieu de la nuit. Un an qu’ils ne se sont plus vus. Le père est bonhomme\, il sourit\, il ne dérangera pas longtemps\, il vient juste causer un peu.\nLe fils est surpris\, contrarié aussi\, des amis l’attendent… On sent vite de la tension entre ces deux-là… Du ressentiment ? Des blessures toujours à vif ? Un père\, un fils qui ne se comprennent plus\, ça arrive. Le fils s’interroge : pourquoi est-il là ? Que se passe-t-il ? Pendant toute une soirée\, ils vont parler\, se jauger\, revivre des souvenirs\, rire\, se faire mal\, comme deux boxeurs dans un ring\, jusqu’au KO final.\n\nÀ travers cette histoire singulière\, chacun\, chacune se retrouvera\, comme parent ou comme enfant\, dans la bonne volonté\, la maladresse\, le sentiment d’échec\, la rébellion\, l’envie d’idéal\, la conviction d’être incompris des personnages. Le suspense vous prend et ne vous lâche plus jusqu’au dénouement final.\n\n\n\nInscription :  avant le 08/10/2024 via : https://forms.office.com/e/PQxv9WcdQS \nPlus d’infos : soralia.bw@solidaris.be ou 0473 52 28 08
URL:https://www.soralia.be/accueil/event/spectacle-les-grandes-marees-a-braine-lalleud/
LOCATION:La Maison du Peuple de BLA\, Place du Môle\, 11\, Braine-l'Alleud\, Brabant wallon\, 1420
CATEGORIES:Brabant wallon,Culture,Droit & Citoyenneté
ATTACH;FMTTYPE=image/png:https://www.soralia.be/wp-content/uploads/2017/01/calendrier-oct.png
ORGANIZER;CN="Soralia Brabant wallon":MAILTO:soralia.bw@solidaris.be
END:VEVENT
END:VCALENDAR