BEGIN:VCALENDAR
VERSION:2.0
PRODID:-//Soralia - ECPv6.15.17.1//NONSGML v1.0//EN
CALSCALE:GREGORIAN
METHOD:PUBLISH
X-ORIGINAL-URL:https://www.soralia.be/accueil
X-WR-CALDESC:Évènements pour Soralia
REFRESH-INTERVAL;VALUE=DURATION:PT1H
X-Robots-Tag:noindex
X-PUBLISHED-TTL:PT1H
BEGIN:VTIMEZONE
TZID:Europe/Paris
BEGIN:DAYLIGHT
TZOFFSETFROM:+0100
TZOFFSETTO:+0200
TZNAME:CEST
DTSTART:20230326T010000
END:DAYLIGHT
BEGIN:STANDARD
TZOFFSETFROM:+0200
TZOFFSETTO:+0100
TZNAME:CET
DTSTART:20231029T010000
END:STANDARD
BEGIN:DAYLIGHT
TZOFFSETFROM:+0100
TZOFFSETTO:+0200
TZNAME:CEST
DTSTART:20240331T010000
END:DAYLIGHT
BEGIN:STANDARD
TZOFFSETFROM:+0200
TZOFFSETTO:+0100
TZNAME:CET
DTSTART:20241027T010000
END:STANDARD
BEGIN:DAYLIGHT
TZOFFSETFROM:+0100
TZOFFSETTO:+0200
TZNAME:CEST
DTSTART:20250330T010000
END:DAYLIGHT
BEGIN:STANDARD
TZOFFSETFROM:+0200
TZOFFSETTO:+0100
TZNAME:CET
DTSTART:20251026T010000
END:STANDARD
BEGIN:DAYLIGHT
TZOFFSETFROM:+0100
TZOFFSETTO:+0200
TZNAME:CEST
DTSTART:20260329T010000
END:DAYLIGHT
BEGIN:STANDARD
TZOFFSETFROM:+0200
TZOFFSETTO:+0100
TZNAME:CET
DTSTART:20261025T010000
END:STANDARD
BEGIN:DAYLIGHT
TZOFFSETFROM:+0100
TZOFFSETTO:+0200
TZNAME:CEST
DTSTART:20270328T010000
END:DAYLIGHT
BEGIN:STANDARD
TZOFFSETFROM:+0200
TZOFFSETTO:+0100
TZNAME:CET
DTSTART:20271031T010000
END:STANDARD
END:VTIMEZONE
BEGIN:VEVENT
DTSTART;TZID=Europe/Paris:20240416T183000
DTEND;TZID=Europe/Paris:20260416T203000
DTSTAMP:20260422T021003
CREATED:20260421T081017Z
LAST-MODIFIED:20260421T081017Z
UID:10006465-1713292200-1776371400@www.soralia.be
SUMMARY:Escape Game : 9m2
DESCRIPTION:Une expérience immersive pour découvrir autrement la réalité carcérale.  A travers cet escape game\, plongez dans une cellule de prison et questionnez les conditions de détention\, les droits humains et les idées reçues.
URL:https://www.soralia.be/accueil/event/escape-game-9m2/2024-04-16/
LOCATION:Maison de la Laïcité Philippeville\, Boulevard de l'Enseignement 5\, Philippeville\, Namur\, 5600\, Belgique
CATEGORIES:Namur,Régional
END:VEVENT
BEGIN:VEVENT
DTSTART;TZID=Europe/Paris:20241126T083000
DTEND;TZID=Europe/Paris:20241206T120000
DTSTAMP:20260422T021003
CREATED:20241127T101836Z
LAST-MODIFIED:20241127T101836Z
UID:10006037-1732609800-1733486400@www.soralia.be
SUMMARY:Exposition "Que portais-tu ce jour là"
DESCRIPTION:En partenariat avec le PCS de Walcourt et le Comité Soralia de Walcourt\, nous proposons une exposition « Que portais-tu ce jour-là? » créée par Amnesty International au sein des locaux de l’administration communale. \nL’objectif de cette exposition est de contrer l’un des mythes les plus répandus dans la société\, à savoir l’idée que la tenue vestimentaire d’une personne est un facteur incitatif au passage à l’acte d’un viol. Ce préjugé a des conséquences dévastatrices\, tant pour les victimes que pour la société dans son ensemble. \nNotre but avec cette expo est de déconstruire cette fausse croyance\, de discuter de l’importance du consentement et de réfléchir à la « culture du viol » présente un peu partout au sein de notre société. \nQuand ?Accessible librement du 26/11 au 06/12 entre 8h30 et 12h.\nOù ? Administration communale\, place de l’Hôtel de Ville 3-5 à 5650 Walcourt \nNous proposons des animations autour de cette expo le lundi 2 décembre à 10h et à 18h sur inscription (Gratuit). \nContact : 071/129 382 – rebecca.maudoux@walcourt.be
URL:https://www.soralia.be/accueil/event/exposition-que-portais-tu-ce-jour-la-2/
LOCATION:Administration communale de Walcourt\, Place de l'Hotel de Ville\,3\, Walcourt\, Namur\, 5650\, Belgium
CATEGORIES:Egalité femme-homme,Namur,Régional,Violences
ATTACH;FMTTYPE=image/jpeg:https://www.soralia.be/wp-content/uploads/2023/11/316211132_2704250609711182_8248614891980483270_n.jpg
END:VEVENT
BEGIN:VEVENT
DTSTART;TZID=Europe/Paris:20241204T190000
DTEND;TZID=Europe/Paris:20241204T213000
DTSTAMP:20260422T021003
CREATED:20241031T143332Z
LAST-MODIFIED:20241031T143503Z
UID:10006014-1733338800-1733347800@www.soralia.be
SUMMARY:
DESCRIPTION:Nous vous invitons à notre table ronde sur le thème des « Violences faites aux femmes« \, avec comme intervenantes Jacqueline Crabbé\, Fatiha Saidi et Yamina Zaazaa. \nIntervenantes: \n\n\n\nJacqueline Crabbé\nJacqueline Crabbé a fait face à de nombreuses embûches dans les vies faites de tours et de détours qu’elle a enchaînées. Jacqueline ne se définit pas comme une grande militante mais affirme sa volonté de lutter et de continuer à lutter pour l’égalité entre les femmes et les hommes. Une égalité qui passe\, à ses yeux\, par l’apprentissage du respect mutuel\, dans un cadre dénué de toutes formes de violences et ce\, dès la prime enfance.\n\n\nFatiha Saidi\nFatiha Saidi\, psychopédagogue et experte en genres\, est Bruxelloise. Mandataire politique de 1999 à 2018\, elle se consacre aujourd’hui à l’écriture. L’égalité\, les droits des femmes\, la justice sociale et le travail de mémoire sont ses princpaux combats.\n\n\nYamine Zaazaa\nYamine Zaazaa est co-directrice du Centre de Prévention des Violences Conjugales et Familiales (CPVCF). Dans ce cadre\, elle déploie de nombreuses activités pour sensibiliser et informer le public sur les violences subies par les femmes migrantes. Des violences multiples qui se conjuguent entre violences conjugales/intrafamiliales\, administratives et judiciaires.\n\nDes violences qui se muent en obstacles et empêchent ces personnes d’accéder aux protections légales et autres. \n\n\n\n\n\n Le mercredi 𝟰 𝗱𝗲́𝗰𝗲𝗺𝗯𝗿𝗲 2024 de 19h15 à 21h30\n Librairie Tram{e} – Av. Van Volxem 71 à 1190 Forest\nhttps://maps.app.goo.gl/itPJhf5b7GLGfaDx7
URL:https://www.soralia.be/accueil/event/20303/
LOCATION:Librairie Tram{e}\, Avenue Van Volxem 71\, Forest\, Bruxelles\, 1190\, Belgique
CATEGORIES:Bruxelles,Culture,Egalité femme-homme,Général,Violences
ATTACH;FMTTYPE=image/png:https://www.soralia.be/wp-content/uploads/2017/01/calendrier-dec.png
ORGANIZER;CN="Soralia":MAILTO:soralia.bxl@solidaris.be
END:VEVENT
END:VCALENDAR