BEGIN:VCALENDAR
VERSION:2.0
PRODID:-//Soralia - ECPv6.15.17.1//NONSGML v1.0//EN
CALSCALE:GREGORIAN
METHOD:PUBLISH
X-ORIGINAL-URL:https://www.soralia.be/accueil
X-WR-CALDESC:Évènements pour Soralia
REFRESH-INTERVAL;VALUE=DURATION:PT1H
X-Robots-Tag:noindex
X-PUBLISHED-TTL:PT1H
BEGIN:VTIMEZONE
TZID:Europe/Paris
BEGIN:DAYLIGHT
TZOFFSETFROM:+0100
TZOFFSETTO:+0200
TZNAME:CEST
DTSTART:20230326T010000
END:DAYLIGHT
BEGIN:STANDARD
TZOFFSETFROM:+0200
TZOFFSETTO:+0100
TZNAME:CET
DTSTART:20231029T010000
END:STANDARD
BEGIN:DAYLIGHT
TZOFFSETFROM:+0100
TZOFFSETTO:+0200
TZNAME:CEST
DTSTART:20240331T010000
END:DAYLIGHT
BEGIN:STANDARD
TZOFFSETFROM:+0200
TZOFFSETTO:+0100
TZNAME:CET
DTSTART:20241027T010000
END:STANDARD
BEGIN:DAYLIGHT
TZOFFSETFROM:+0100
TZOFFSETTO:+0200
TZNAME:CEST
DTSTART:20250330T010000
END:DAYLIGHT
BEGIN:STANDARD
TZOFFSETFROM:+0200
TZOFFSETTO:+0100
TZNAME:CET
DTSTART:20251026T010000
END:STANDARD
BEGIN:DAYLIGHT
TZOFFSETFROM:+0100
TZOFFSETTO:+0200
TZNAME:CEST
DTSTART:20260329T010000
END:DAYLIGHT
BEGIN:STANDARD
TZOFFSETFROM:+0200
TZOFFSETTO:+0100
TZNAME:CET
DTSTART:20261025T010000
END:STANDARD
BEGIN:DAYLIGHT
TZOFFSETFROM:+0100
TZOFFSETTO:+0200
TZNAME:CEST
DTSTART:20270328T010000
END:DAYLIGHT
BEGIN:STANDARD
TZOFFSETFROM:+0200
TZOFFSETTO:+0100
TZNAME:CET
DTSTART:20271031T010000
END:STANDARD
END:VTIMEZONE
BEGIN:VEVENT
DTSTART;TZID=Europe/Paris:20240416T183000
DTEND;TZID=Europe/Paris:20260416T203000
DTSTAMP:20260421T163819
CREATED:20260421T081017Z
LAST-MODIFIED:20260421T081017Z
UID:10006465-1713292200-1776371400@www.soralia.be
SUMMARY:Escape Game : 9m2
DESCRIPTION:Une expérience immersive pour découvrir autrement la réalité carcérale.  A travers cet escape game\, plongez dans une cellule de prison et questionnez les conditions de détention\, les droits humains et les idées reçues.
URL:https://www.soralia.be/accueil/event/escape-game-9m2/2024-04-16/
LOCATION:Maison de la Laïcité Philippeville\, Boulevard de l'Enseignement 5\, Philippeville\, Namur\, 5600\, Belgique
CATEGORIES:Namur,Régional
END:VEVENT
BEGIN:VEVENT
DTSTART;VALUE=DATE:20250307
DTEND;VALUE=DATE:20250511
DTSTAMP:20260421T163819
CREATED:20250205T102350Z
LAST-MODIFIED:20250205T102350Z
UID:10006065-1741305600-1746921599@www.soralia.be
SUMMARY:Exposition – Witches à Verviers
DESCRIPTION:Witches : le renouveau des sorcières\n\nTremblez\, les sorcières sont de retour ! Pas une manifestation sur le droit des femmes sans un rappel à cette figure historique. Witches vise à établir un dialogue entre les sorcières d’hier et d’aujourd’hui\, on y questionne sa représentation à travers les siècles et sa résonance actuelle. Une animatrice accompagnera les visiteurs tout au long de l’exposition grâce à des animations enrichissant votre visite. \n\nActivités complémentaires\nEn complément de l’exposition Witches\, plusieurs activités vous permettront d’explorer la figure des sorcières sous différents angles. Projections\, débats\, ateliers et balades offriront une immersion dans leur histoire\, leur symbolique et leur influence actuelle. Inscrivez-vous dès maintenant pour prolonger cette expérience fascinante. \nCiné-débat\nLes Sorcières d’Akelarre\n12 mars 2025 • 19h30 \nCafé Politique\nTremblez\, les sorcières sont de retour !\n18 mars 2025 • 19h30 \nAtelier Spell Jars\nEcoféminisme et Magie Verte\n26 mars 2025 • 10h-13h ou 14h-17h\n7 mai 2025 • 10h-13h ou 14h-17h \nArpentage littéraire\nSecrets de sorcières\n11 avril 2025 • 18h30-21h30 \nConte pour enfants\nSorcières\, sorcières\n16 avril 2025 • 14h \nBalade sonore\nSur les traces d’Ysabeau Lebarte\n26 avril 2025 • 10h-12h \n\nModalités\nPublic : Tout public \nLieu : Centre touristique Laine & Mode\nRue de la Chapelle 30\, 4800 Verviers \nDates : Du 7 mars au 10 mai 2025 \nHoraires pour l’exposition animée \nPour les groupes :\nDu mardi au vendredi\n10h > 12h / 13h > 15h / 15h > 17h \nPour les particuliers :\n15 mars\, 23 mars\, 5 avril\, 13 avril et 26 avril\nDébut des visites animées à 14h et à 15h30 \nPrix : 1 € • par personne \n\nInscription\nRéservations indispensables\ninfo@aqualaine.be • 087 30 79 20 \n\n\n\n\n\nSoralia Verviers\nPont Saint-Laurent 16\, 4800 Verviers\n087 32 76 37 • soralia.verviers@solidaris.be \nLiens utiles\nSite national de Soralia\nFacebook de Soralia Verviers
URL:https://www.soralia.be/accueil/event/exposition-witches-a-verviers/
LOCATION:Centre touristique Laine & Mode
CATEGORIES:Culture,Droit & Citoyenneté,Egalité femme-homme,Verviers
ATTACH;FMTTYPE=image/png:https://www.soralia.be/wp-content/uploads/2017/01/calendrier-mars.png
END:VEVENT
BEGIN:VEVENT
DTSTART;TZID=Europe/Paris:20250322T140000
DTEND;TZID=Europe/Paris:20250322T180000
DTSTAMP:20260421T163819
CREATED:20250217T135231Z
LAST-MODIFIED:20250217T135505Z
UID:10006106-1742652000-1742666400@www.soralia.be
SUMMARY:[Femmes de Mars] - Les Dodues vident leur dressing #2
DESCRIPTION:S’habiller quand on est une femme grosse c’est souvent le parcours de la combattante. Tant pour trouver des pièces stylées que pour ne pas se ruiner ! Mais ça\, c’était avant.\nAprès une première édition plus que réussie\, le dodue’s Gang réitère l’expérience toujours dans le cadre de Femmes de Mars!\nConcrètement\, à quoi pouvez-vous vous attendre?\n\nSoit vos tiroirs et vos armoires débordent de pépites stylées (à partir de la taille 44) que vous ne portez plus et/ou vous avez envie de renouveler votre garde-robes à petit prix: vous pouvez vous inscrire comme exposante!\n\nSoit vous avez envie de renouveau et de refaire votre garde robe à petit prix dans une ambiance safe et créer de nouveaux contacts.\n\nDans tous les cas\, ce moment sera synonyme de bienveillance et le Dodue’s Gang vous proposera également un atelier qui questionnera les domaines où la grossophobie s’exprime le plus au quotidien.\nCet atelier se déroulera de 15h à 17h toujours au Café Notre-Maison.\nCe sera l’endroit pour se retrouver\, entre meufs\, dans un lieu safe\, bienveillant et fun!\n\nInfos pratiques :– Espace d’essayages à disposition– Evénement accessible aux PMR ainsi que les espaces d’essayages– Pour les exposantes: parking gratuit à proximité– Prix et tailles visibles : pensez à bien organiser vos vêtements sur vos tables.– Vous pouvez venir avec votre tringle (une seule par exposante)– Fixer un prix maximum de vente : organisation du vide dressing dans une alternative économique– Accessoires acceptés mais ratio vêtements /accessoires : 80/20%– Vêtements acceptés : propres\, pas troués\, dans un bon état.– Boissons & petites restaurations prévues– Ambiance musicale de folie– Infos & inscriptions gratuites:Sarah : 0471/93 57 59Sandra : 0474/ 98 29 17\n\nSi tu n’es pas directement concernée par la thématique mais que tu as dans ton entourage des amies qui ont du mal à s’habiller car leur taille sort de la norme\, n’hésite pas à partager\, à les emmener et à venir nous rencontrer \n\nUn évènement proposé dans le cadre de Femmes de Mars – Edition 2025 – Charleroi.\nRetrouvez le programme complet sur www.femmesdemars.be
URL:https://www.soralia.be/accueil/event/femmes-de-mars-les-dodues-vident-leur-dressing-2/
LOCATION:Café Notre Maison\, Boulevard Tirou 169\, Charleroi\, 6000
CATEGORIES:Charleroi,Régional
ATTACH;FMTTYPE=image/png:https://www.soralia.be/wp-content/uploads/2017/01/calendrier-mars.png
END:VEVENT
BEGIN:VEVENT
DTSTART;TZID=Europe/Paris:20250322T163000
DTEND;TZID=Europe/Paris:20250322T200000
DTSTAMP:20260421T163819
CREATED:20250206T075152Z
LAST-MODIFIED:20250206T075152Z
UID:10006076-1742661000-1742673600@www.soralia.be
SUMMARY:Ciné-débat – « Il reste encore demain » à Perwez
DESCRIPTION:Dans le cadre du Perwez International Film Festival\n\n\nLe Centre culturel de Perwez\, « le Foyer »\, projettera le film « Il reste encore demain » (Titre original « C’è ancora domani ») de Paola Cortellesi. Un drame familial poignant où les relations humaines sont mises à l’épreuve dans un contexte social en pleine mutation. \nSoralia proposera une animation en fin de séance sur les violences conjugales. \n\n\n\n\n\nModalités\nPublic : Tout public \nLieu : Centre culturel de Perwez (Perwez) \nDate : Le 22/03/2025 à 16h30 \nPrix : 5€ \n\nInscription\nPas d’inscription nécessaire\, achetez votre place : ici \n\n\n\nLiens utiles\nSite national de Soralia\nFacebook de Soralia Brabant wallon
URL:https://www.soralia.be/accueil/event/cine-debat-il-reste-encore-demain-a-perwez/
LOCATION:Centre culturel de Perwez\, Grand Place\, 32\, Perwez\, Brabant wallon\, 1360\, Belgium
CATEGORIES:Brabant wallon,Egalité femme-homme
ATTACH;FMTTYPE=image/png:https://www.soralia.be/wp-content/uploads/2017/01/calendrier-mars.png
ORGANIZER;CN="Soralia Brabant wallon":MAILTO:soralia.bw@solidaris.be
END:VEVENT
END:VCALENDAR