BEGIN:VCALENDAR
VERSION:2.0
PRODID:-//Soralia - ECPv6.15.17.1//NONSGML v1.0//EN
CALSCALE:GREGORIAN
METHOD:PUBLISH
X-ORIGINAL-URL:https://www.soralia.be/accueil
X-WR-CALDESC:Évènements pour Soralia
REFRESH-INTERVAL;VALUE=DURATION:PT1H
X-Robots-Tag:noindex
X-PUBLISHED-TTL:PT1H
BEGIN:VTIMEZONE
TZID:Europe/Paris
BEGIN:DAYLIGHT
TZOFFSETFROM:+0100
TZOFFSETTO:+0200
TZNAME:CEST
DTSTART:20230326T010000
END:DAYLIGHT
BEGIN:STANDARD
TZOFFSETFROM:+0200
TZOFFSETTO:+0100
TZNAME:CET
DTSTART:20231029T010000
END:STANDARD
BEGIN:DAYLIGHT
TZOFFSETFROM:+0100
TZOFFSETTO:+0200
TZNAME:CEST
DTSTART:20240331T010000
END:DAYLIGHT
BEGIN:STANDARD
TZOFFSETFROM:+0200
TZOFFSETTO:+0100
TZNAME:CET
DTSTART:20241027T010000
END:STANDARD
BEGIN:DAYLIGHT
TZOFFSETFROM:+0100
TZOFFSETTO:+0200
TZNAME:CEST
DTSTART:20250330T010000
END:DAYLIGHT
BEGIN:STANDARD
TZOFFSETFROM:+0200
TZOFFSETTO:+0100
TZNAME:CET
DTSTART:20251026T010000
END:STANDARD
BEGIN:DAYLIGHT
TZOFFSETFROM:+0100
TZOFFSETTO:+0200
TZNAME:CEST
DTSTART:20260329T010000
END:DAYLIGHT
BEGIN:STANDARD
TZOFFSETFROM:+0200
TZOFFSETTO:+0100
TZNAME:CET
DTSTART:20261025T010000
END:STANDARD
BEGIN:DAYLIGHT
TZOFFSETFROM:+0100
TZOFFSETTO:+0200
TZNAME:CEST
DTSTART:20270328T010000
END:DAYLIGHT
BEGIN:STANDARD
TZOFFSETFROM:+0200
TZOFFSETTO:+0100
TZNAME:CET
DTSTART:20271031T010000
END:STANDARD
END:VTIMEZONE
BEGIN:VEVENT
DTSTART;TZID=Europe/Paris:20240416T183000
DTEND;TZID=Europe/Paris:20260416T203000
DTSTAMP:20260421T162349
CREATED:20260421T081017Z
LAST-MODIFIED:20260421T081017Z
UID:10006465-1713292200-1776371400@www.soralia.be
SUMMARY:Escape Game : 9m2
DESCRIPTION:Une expérience immersive pour découvrir autrement la réalité carcérale.  A travers cet escape game\, plongez dans une cellule de prison et questionnez les conditions de détention\, les droits humains et les idées reçues.
URL:https://www.soralia.be/accueil/event/escape-game-9m2/2024-04-16/
LOCATION:Maison de la Laïcité Philippeville\, Boulevard de l'Enseignement 5\, Philippeville\, Namur\, 5600\, Belgique
CATEGORIES:Namur,Régional
END:VEVENT
BEGIN:VEVENT
DTSTART;VALUE=DATE:20250307
DTEND;VALUE=DATE:20250511
DTSTAMP:20260421T162349
CREATED:20250205T102350Z
LAST-MODIFIED:20250205T102350Z
UID:10006065-1741305600-1746921599@www.soralia.be
SUMMARY:Exposition – Witches à Verviers
DESCRIPTION:Witches : le renouveau des sorcières\n\nTremblez\, les sorcières sont de retour ! Pas une manifestation sur le droit des femmes sans un rappel à cette figure historique. Witches vise à établir un dialogue entre les sorcières d’hier et d’aujourd’hui\, on y questionne sa représentation à travers les siècles et sa résonance actuelle. Une animatrice accompagnera les visiteurs tout au long de l’exposition grâce à des animations enrichissant votre visite. \n\nActivités complémentaires\nEn complément de l’exposition Witches\, plusieurs activités vous permettront d’explorer la figure des sorcières sous différents angles. Projections\, débats\, ateliers et balades offriront une immersion dans leur histoire\, leur symbolique et leur influence actuelle. Inscrivez-vous dès maintenant pour prolonger cette expérience fascinante. \nCiné-débat\nLes Sorcières d’Akelarre\n12 mars 2025 • 19h30 \nCafé Politique\nTremblez\, les sorcières sont de retour !\n18 mars 2025 • 19h30 \nAtelier Spell Jars\nEcoféminisme et Magie Verte\n26 mars 2025 • 10h-13h ou 14h-17h\n7 mai 2025 • 10h-13h ou 14h-17h \nArpentage littéraire\nSecrets de sorcières\n11 avril 2025 • 18h30-21h30 \nConte pour enfants\nSorcières\, sorcières\n16 avril 2025 • 14h \nBalade sonore\nSur les traces d’Ysabeau Lebarte\n26 avril 2025 • 10h-12h \n\nModalités\nPublic : Tout public \nLieu : Centre touristique Laine & Mode\nRue de la Chapelle 30\, 4800 Verviers \nDates : Du 7 mars au 10 mai 2025 \nHoraires pour l’exposition animée \nPour les groupes :\nDu mardi au vendredi\n10h > 12h / 13h > 15h / 15h > 17h \nPour les particuliers :\n15 mars\, 23 mars\, 5 avril\, 13 avril et 26 avril\nDébut des visites animées à 14h et à 15h30 \nPrix : 1 € • par personne \n\nInscription\nRéservations indispensables\ninfo@aqualaine.be • 087 30 79 20 \n\n\n\n\n\nSoralia Verviers\nPont Saint-Laurent 16\, 4800 Verviers\n087 32 76 37 • soralia.verviers@solidaris.be \nLiens utiles\nSite national de Soralia\nFacebook de Soralia Verviers
URL:https://www.soralia.be/accueil/event/exposition-witches-a-verviers/
LOCATION:Centre touristique Laine & Mode
CATEGORIES:Culture,Droit & Citoyenneté,Egalité femme-homme,Verviers
ATTACH;FMTTYPE=image/png:https://www.soralia.be/wp-content/uploads/2017/01/calendrier-mars.png
END:VEVENT
BEGIN:VEVENT
DTSTART;TZID=Europe/Paris:20250326T080000
DTEND;TZID=Europe/Paris:20250326T170000
DTSTAMP:20260421T162349
CREATED:20250305T115616Z
LAST-MODIFIED:20250305T115741Z
UID:10006119-1742976000-1743008400@www.soralia.be
SUMMARY:𝗘́𝗰𝗼𝗳𝗲́𝗺𝗶𝗻𝗶𝘀𝗺𝗲 𝗲𝘁 𝗺𝗮𝗴𝗶𝗲 𝘃𝗲𝗿𝘁𝗲 – 𝗔𝘁𝗲𝗹𝗶𝗲𝗿𝘀 𝗦𝗽𝗲𝗹𝗹 𝗝𝗮𝗿𝘀
DESCRIPTION:Découvrir l’écoféminisme à travers un atelier de magie verte\, ça vous tente ? PAC vous propose un moment suspendu\, hors du temps\, pour questionner les rapports de domination et découvrir votre propre capacité à changer les choses.\n★\n𝗖’𝗲𝘀𝘁 𝗾𝘂𝗼𝗶 𝘂𝗻𝗲 𝗦𝗽𝗲𝗹𝗹 𝗝𝗮𝗿𝘀 ?Littéralement « Bouteille à sortilège ». C’est un condensé d’intentions que vous assemblez consciencieusement dans un flacon.\nChaque ingrédient que vous choisirez est chargé d’une symbolique\, qu’il s’agisse d’une plante\, d’une épice\, d’une pierre ou d’un élément\, il possède une signification\, une charge émotionnelle\, un rôle que vous déciderez de lui confier.Au fur et à mesure que vous réalisez la Spell Jar\, vous prenez conscience du pouvoir que vous conférez à cette fiole et vous vous connectez à votre propre puissance.\n★𝗤𝘂𝗮𝗻𝗱 ?Le mercredi 26 mars de 10h à 13h ou de 14h à 17hLe mercredi 7 mai de 10h à 13h ou de 14h à 17h\n𝗢𝘂̀ ? Au CTLM\, Rue de la chapelle\, 30 à 4800 Verviers𝗣𝗿𝗶𝘅 : GratuitDès 15 ans – Groupe de maximum 12 personnes.\n𝗥𝗲𝗻𝘀𝗲𝗶𝗴𝗻𝗲𝗺𝗲𝗻𝘁𝘀 𝗲𝘁 𝗶𝗻𝘀𝗰𝗿𝗶𝗽𝘁𝗶𝗼𝗻𝘀 :pac.verviers@skynet.be – 0498/10 30 40\n★\n\nCes ateliers sont organisés dans le cadre de l’exposition Witches réalisée en partenariat avec 𝑃𝐴𝐶 𝑉𝑒𝑟𝑣𝑖𝑒𝑟𝑠\, 𝑙𝑒 𝐶𝑇𝐿𝑀\, 𝑆𝑜𝑟𝑎𝑙𝑖𝑎 & 𝑙𝑎 𝐵𝑖𝑏𝑙𝑖𝑜𝑡ℎ𝑒̀𝑞𝑢𝑒 𝑑𝑒 𝑉𝑒𝑟𝑣𝑖𝑒𝑟𝑠.
URL:https://www.soralia.be/accueil/event/%f0%9d%97%98%f0%9d%97%b0%f0%9d%97%bc%f0%9d%97%b3%f0%9d%97%b2%f0%9d%97%ba%f0%9d%97%b6%f0%9d%97%bb%f0%9d%97%b6%f0%9d%98%80%f0%9d%97%ba%f0%9d%97%b2-%f0%9d%97%b2%f0%9d%98%81-%f0%9d%97%ba/2025-03-26/1/
LOCATION:Au CTLM\, Rue de la chapelle\, 30 à 4800 Verviers
CATEGORIES:Verviers
ATTACH;FMTTYPE=image/jpeg:https://www.soralia.be/wp-content/uploads/2025/03/spell.jpg
END:VEVENT
BEGIN:VEVENT
DTSTART;TZID=Europe/Paris:20250326T100000
DTEND;TZID=Europe/Paris:20250326T130000
DTSTAMP:20260421T162349
CREATED:20250305T115616Z
LAST-MODIFIED:20250305T115741Z
UID:10006118-1742983200-1742994000@www.soralia.be
SUMMARY:𝗘́𝗰𝗼𝗳𝗲́𝗺𝗶𝗻𝗶𝘀𝗺𝗲 𝗲𝘁 𝗺𝗮𝗴𝗶𝗲 𝘃𝗲𝗿𝘁𝗲 – 𝗔𝘁𝗲𝗹𝗶𝗲𝗿𝘀 𝗦𝗽𝗲𝗹𝗹 𝗝𝗮𝗿𝘀
DESCRIPTION:Découvrir l’écoféminisme à travers un atelier de magie verte\, ça vous tente ? PAC vous propose un moment suspendu\, hors du temps\, pour questionner les rapports de domination et découvrir votre propre capacité à changer les choses.\n★\n𝗖’𝗲𝘀𝘁 𝗾𝘂𝗼𝗶 𝘂𝗻𝗲 𝗦𝗽𝗲𝗹𝗹 𝗝𝗮𝗿𝘀 ?Littéralement « Bouteille à sortilège ». C’est un condensé d’intentions que vous assemblez consciencieusement dans un flacon.\nChaque ingrédient que vous choisirez est chargé d’une symbolique\, qu’il s’agisse d’une plante\, d’une épice\, d’une pierre ou d’un élément\, il possède une signification\, une charge émotionnelle\, un rôle que vous déciderez de lui confier.Au fur et à mesure que vous réalisez la Spell Jar\, vous prenez conscience du pouvoir que vous conférez à cette fiole et vous vous connectez à votre propre puissance.\n★𝗤𝘂𝗮𝗻𝗱 ?Le mercredi 26 mars de 10h à 13h ou de 14h à 17hLe mercredi 7 mai de 10h à 13h ou de 14h à 17h\n𝗢𝘂̀ ? Au CTLM\, Rue de la chapelle\, 30 à 4800 Verviers𝗣𝗿𝗶𝘅 : GratuitDès 15 ans – Groupe de maximum 12 personnes.\n𝗥𝗲𝗻𝘀𝗲𝗶𝗴𝗻𝗲𝗺𝗲𝗻𝘁𝘀 𝗲𝘁 𝗶𝗻𝘀𝗰𝗿𝗶𝗽𝘁𝗶𝗼𝗻𝘀 :pac.verviers@skynet.be – 0498/10 30 40\n★\n\nCes ateliers sont organisés dans le cadre de l’exposition Witches réalisée en partenariat avec 𝑃𝐴𝐶 𝑉𝑒𝑟𝑣𝑖𝑒𝑟𝑠\, 𝑙𝑒 𝐶𝑇𝐿𝑀\, 𝑆𝑜𝑟𝑎𝑙𝑖𝑎 & 𝑙𝑎 𝐵𝑖𝑏𝑙𝑖𝑜𝑡ℎ𝑒̀𝑞𝑢𝑒 𝑑𝑒 𝑉𝑒𝑟𝑣𝑖𝑒𝑟𝑠.
URL:https://www.soralia.be/accueil/event/%f0%9d%97%98%f0%9d%97%b0%f0%9d%97%bc%f0%9d%97%b3%f0%9d%97%b2%f0%9d%97%ba%f0%9d%97%b6%f0%9d%97%bb%f0%9d%97%b6%f0%9d%98%80%f0%9d%97%ba%f0%9d%97%b2-%f0%9d%97%b2%f0%9d%98%81-%f0%9d%97%ba/2025-03-26/2/
LOCATION:Au CTLM\, Rue de la chapelle\, 30 à 4800 Verviers
CATEGORIES:Verviers
ATTACH;FMTTYPE=image/jpeg:https://www.soralia.be/wp-content/uploads/2025/03/spell.jpg
END:VEVENT
BEGIN:VEVENT
DTSTART;TZID=Europe/Paris:20250326T140000
DTEND;TZID=Europe/Paris:20250326T170000
DTSTAMP:20260421T162349
CREATED:20250305T115616Z
LAST-MODIFIED:20250305T115741Z
UID:10006120-1742997600-1743008400@www.soralia.be
SUMMARY:𝗘́𝗰𝗼𝗳𝗲́𝗺𝗶𝗻𝗶𝘀𝗺𝗲 𝗲𝘁 𝗺𝗮𝗴𝗶𝗲 𝘃𝗲𝗿𝘁𝗲 – 𝗔𝘁𝗲𝗹𝗶𝗲𝗿𝘀 𝗦𝗽𝗲𝗹𝗹 𝗝𝗮𝗿𝘀
DESCRIPTION:Découvrir l’écoféminisme à travers un atelier de magie verte\, ça vous tente ? PAC vous propose un moment suspendu\, hors du temps\, pour questionner les rapports de domination et découvrir votre propre capacité à changer les choses.\n★\n𝗖’𝗲𝘀𝘁 𝗾𝘂𝗼𝗶 𝘂𝗻𝗲 𝗦𝗽𝗲𝗹𝗹 𝗝𝗮𝗿𝘀 ?Littéralement « Bouteille à sortilège ». C’est un condensé d’intentions que vous assemblez consciencieusement dans un flacon.\nChaque ingrédient que vous choisirez est chargé d’une symbolique\, qu’il s’agisse d’une plante\, d’une épice\, d’une pierre ou d’un élément\, il possède une signification\, une charge émotionnelle\, un rôle que vous déciderez de lui confier.Au fur et à mesure que vous réalisez la Spell Jar\, vous prenez conscience du pouvoir que vous conférez à cette fiole et vous vous connectez à votre propre puissance.\n★𝗤𝘂𝗮𝗻𝗱 ?Le mercredi 26 mars de 10h à 13h ou de 14h à 17hLe mercredi 7 mai de 10h à 13h ou de 14h à 17h\n𝗢𝘂̀ ? Au CTLM\, Rue de la chapelle\, 30 à 4800 Verviers𝗣𝗿𝗶𝘅 : GratuitDès 15 ans – Groupe de maximum 12 personnes.\n𝗥𝗲𝗻𝘀𝗲𝗶𝗴𝗻𝗲𝗺𝗲𝗻𝘁𝘀 𝗲𝘁 𝗶𝗻𝘀𝗰𝗿𝗶𝗽𝘁𝗶𝗼𝗻𝘀 :pac.verviers@skynet.be – 0498/10 30 40\n★\n\nCes ateliers sont organisés dans le cadre de l’exposition Witches réalisée en partenariat avec 𝑃𝐴𝐶 𝑉𝑒𝑟𝑣𝑖𝑒𝑟𝑠\, 𝑙𝑒 𝐶𝑇𝐿𝑀\, 𝑆𝑜𝑟𝑎𝑙𝑖𝑎 & 𝑙𝑎 𝐵𝑖𝑏𝑙𝑖𝑜𝑡ℎ𝑒̀𝑞𝑢𝑒 𝑑𝑒 𝑉𝑒𝑟𝑣𝑖𝑒𝑟𝑠.
URL:https://www.soralia.be/accueil/event/%f0%9d%97%98%f0%9d%97%b0%f0%9d%97%bc%f0%9d%97%b3%f0%9d%97%b2%f0%9d%97%ba%f0%9d%97%b6%f0%9d%97%bb%f0%9d%97%b6%f0%9d%98%80%f0%9d%97%ba%f0%9d%97%b2-%f0%9d%97%b2%f0%9d%98%81-%f0%9d%97%ba/2025-03-26/3/
LOCATION:Au CTLM\, Rue de la chapelle\, 30 à 4800 Verviers
CATEGORIES:Verviers
ATTACH;FMTTYPE=image/jpeg:https://www.soralia.be/wp-content/uploads/2025/03/spell.jpg
END:VEVENT
END:VCALENDAR