BEGIN:VCALENDAR
VERSION:2.0
PRODID:-//Soralia - ECPv6.15.17.1//NONSGML v1.0//EN
CALSCALE:GREGORIAN
METHOD:PUBLISH
X-WR-CALNAME:Soralia
X-ORIGINAL-URL:https://www.soralia.be/accueil
X-WR-CALDESC:Évènements pour Soralia
REFRESH-INTERVAL;VALUE=DURATION:PT1H
X-Robots-Tag:noindex
X-PUBLISHED-TTL:PT1H
BEGIN:VTIMEZONE
TZID:Europe/Paris
BEGIN:DAYLIGHT
TZOFFSETFROM:+0100
TZOFFSETTO:+0200
TZNAME:CEST
DTSTART:20250330T010000
END:DAYLIGHT
BEGIN:STANDARD
TZOFFSETFROM:+0200
TZOFFSETTO:+0100
TZNAME:CET
DTSTART:20251026T010000
END:STANDARD
BEGIN:DAYLIGHT
TZOFFSETFROM:+0100
TZOFFSETTO:+0200
TZNAME:CEST
DTSTART:20260329T010000
END:DAYLIGHT
BEGIN:STANDARD
TZOFFSETFROM:+0200
TZOFFSETTO:+0100
TZNAME:CET
DTSTART:20261025T010000
END:STANDARD
BEGIN:DAYLIGHT
TZOFFSETFROM:+0100
TZOFFSETTO:+0200
TZNAME:CEST
DTSTART:20270328T010000
END:DAYLIGHT
BEGIN:STANDARD
TZOFFSETFROM:+0200
TZOFFSETTO:+0100
TZNAME:CET
DTSTART:20271031T010000
END:STANDARD
END:VTIMEZONE
BEGIN:VEVENT
DTSTART;VALUE=DATE:20260303
DTEND;VALUE=DATE:20260423
DTSTAMP:20260422T005924
CREATED:20260127T083926Z
LAST-MODIFIED:20260127T083926Z
UID:10006389-1772496000-1776902399@www.soralia.be
SUMMARY:Exposition – No Pasaran à Liège
DESCRIPTION:¡No Pasarán! : immersion au cœur de l’histoire du fascisme\n\n\nNous vous donnons rendez-vous au printemps au B3\, du 3 mars au 22 avril 2026\, pour découvrir l’exposition « No Pasarán ! »\, organisée à l’occasion du 90ᵉ anniversaire de la guerre civile espagnole. Une immersion au coeur du fascisme et des actes de résistance qui ont marqué cette période. \nEn 1936\, les Républicains espagnols n’ont pas gagné la guerre contre le dictateur Franco mais ce sont les premiers à se battre contre le fascisme qui voulait anéantir la démocratie. Ils n’ont tiré aucune gloire de leur engagement\, leur combat a été celui d’hommes et de femmes de devoir\, d’hommes et de femmes au service de la liberté. Ils sont une leçon d’histoire\, une leçon de citoyenneté ! Et\, aujourd’hui\, ils résistent encore et continuent de lutter… “Ils ne passeront pas !” tel était le cri de ralliement des résistants antifascistes en Espagne !À travers cet outil des Territoires de la Mémoire\, les visiteurs de l’exposition découvriront qu’il est indispensable de se rassembler\, aujourd’hui encore\, pour dire « non ! » au fascisme. \n\n\nDédiée aux partisans de la Seconde République espagnole\, les apatrides et tous les résistants à toutes formes de tentatives liberticides\, « ¡No Pasarán! » s’adresse à un public jeune et adulte. \nSon didactisme ainsi que ses 4 niveaux de lecture permettent de découvrir l’une des périodes les plus tragiques de l’Europe Occidentale. \n\nUne organisation de PAC Liège\, Soralia Liège\, Promotion&Culture et Médiathèque Nouvelle.\nExposition réalisée par Les Territoires de la Mémoire.\n\nActivités complémentaires\nEn complément de l’exposition « ¡No Pasarán! »\, plusieurs activités vous permettront d’explorer différentes thématiques en lien. \nVernissage\n¡No Pasarán!\n[Informations à venir] \nPour vous inscrire à l’un de ces évènement ou en savoir plus : nopasaran.expo@gmail.com \n\nModalités\nPublic : Dès 16 ans • Accès PMR \nLieu : Au B3 (Place des Arts 1\, 4020 Liège • Belgique) \nDates : Du 3 mars au 22 avril 2026 \nHoraires pour l’exposition animée\nDu lundi au vendredi de 9h à 18/samedi de 10h à 16h • Sur réservation \nPrix : Gratuit \n\nInscription\nRéservations indispensables : nopasaran.expo@gmail.com \n\n\n\n\nSoralia Liège\nRue Douffet 36\, 4020 Liège\n04/223 01 50 • soralia.liege@solidaris.be \nLiens utiles\nSite national de Soralia\nFacebook de Soralia Liège
URL:https://www.soralia.be/accueil/event/exposition-no-pasaran-a-liege/
CATEGORIES:Culture,Droit & Citoyenneté,Liège
ATTACH;FMTTYPE=image/png:https://www.soralia.be/wp-content/uploads/2017/01/calendrier-mars.png
END:VEVENT
BEGIN:VEVENT
DTSTART;TZID=Europe/Paris:20260421T080000
DTEND;TZID=Europe/Paris:20260421T170000
DTSTAMP:20260422T005924
CREATED:20260121T082625Z
LAST-MODIFIED:20260121T082625Z
UID:10006314-1776758400-1776790800@www.soralia.be
SUMMARY:« Créa Terre » - Mouscron
DESCRIPTION:« Créa Terre » dans le cadre de la journée mondiale de la terre \nAtelier créatif pour donner une seconde vie aux objets pour transformer\, inventer et réimaginer ce que vous avez sous la main.\nUn moment convivial pour apprendre\, partager à notre manière. \nQuand ? Le mardi 21 avril 2026 de 13h à 16h \nOù ? Maison de la Transition de Mouscron\nPôle Eléa – rue du Blanc Pignon 33 à Mouscron \nInfos ? daphne.meersman@solidaris.be ou samira.bouguerra@solidaris.be \nInscriptions ? Soralia WAPI 068/84 84 98\nou soralia.mwp@solidaris.be \n  \n \n 
URL:https://www.soralia.be/accueil/event/crea-terre-mouscron/
LOCATION:Maison de la transition Mouscron\, rue du Blanc Pignon 33\, Mouscron\, Hainaut\, 7700\, Belgium
CATEGORIES:Droit & Citoyenneté,Environnement,Wallonie-picarde
ATTACH;FMTTYPE=image/png:https://www.soralia.be/wp-content/uploads/2017/01/calendrier-avril.png
ORGANIZER;CN="Soralia Wallonie picarde":MAILTO:soralia.mwp@solidaris.be
END:VEVENT
BEGIN:VEVENT
DTSTART;TZID=Europe/Paris:20260421T133000
DTEND;TZID=Europe/Paris:20260421T153000
DTSTAMP:20260422T005924
CREATED:20260127T082319Z
LAST-MODIFIED:20260128T121331Z
UID:10006399-1776778200-1776785400@www.soralia.be
SUMMARY:Café Papote au féminin à Verviers
DESCRIPTION:Des échanges bienveillants et conviviaux entre femmes\n\n\n\nEnvie de passer un moment convivial\, de rencontrer d’autres femmes et d’échanger dans une ambiance bienveillante ?\nDeux fois par mois\, en journée\, nous nous retrouvons autour d’un café pour partager\, discuter et participer à une activité différente à chaque séance : \n jeux\n balades thématiques\n discussions libres ou autour de thèmes\n activités créatives\n… et bien d’autres surprises ! \nAucune obligation de participer à toutes les séances : tu peux venir à un seul atelier ou à plusieurs\, selon tes envies et tes disponibilités. \n Snacks et boissons offerts\n Espace chaleureux\, respectueux et ouvert à toutes\n Moment de détente\, de rencontres et de partage \nViens comme tu es\, pour papoter\, rire\, échanger ou simplement passer un bon moment entre femmes \nEn collaboration avec le Centre Femmes – Hommes Verviers. \n\nModalités\nPublic : 18-99 ans \nLieu : Rue de Hodimont\, 44 (Verviers • Belgique) \nDate :  de 13h30 à 15h30 les :\nMardi 17 février 26\nLundi 23 février 26\nLundi 16 mars 26\nMardi 24 mars 26\nMardi 21 avril 26\nLundi 27 avril 26\nMardi 5 mai 26\nMardi 19 mai 26\nMardi 16 juin 26\nMardi 23 juin 26\nMardi 7 juillet 26\nMardi 14 juillet 26  \nPrix : Gratuit \n\nInscription\nRenseignements et inscriptions via : info@cfhv.be ou par téléphone : 0473 52 00 54
URL:https://www.soralia.be/accueil/event/cafe-papote-au-feminin-a-verviers/2026-04-21/
CATEGORIES:Droit & Citoyenneté,Egalité femme-homme,Verviers
END:VEVENT
BEGIN:VEVENT
DTSTART;TZID=Europe/Paris:20260421T142412
DTEND;TZID=Europe/Paris:20260421T220000
DTSTAMP:20260422T005924
CREATED:20260421T122411Z
LAST-MODIFIED:20260421T122411Z
UID:10006471-1776781452-1776808800@www.soralia.be
SUMMARY:Cycle de 5 ateliers d'autodéfense financière pour femmes
DESCRIPTION:Soralia et Financité organisent à Namur un cycle de 5 ateliers d’autodéfense financière à destination des femmes. Ces ateliers offrent un espace d’échange bienveillant\, entre femmes\, pour discuter de questions financières essentielles pour atteindre l’autonomie et prévenir les violences économiques.
URL:https://www.soralia.be/accueil/event/cycle-de-5-ateliers-dautodefense-financiere-pour-femmes/2026-04-21/
LOCATION:Mabaliyo\, Rue des Brasseurs\,13\, Namur\, Namur\, 5000\, Belgium
CATEGORIES:Namur,Régional
ATTACH;FMTTYPE=image/png:https://www.soralia.be/wp-content/uploads/2026/04/SORALIA_Logo_Couleurs_RVB-small.png
END:VEVENT
BEGIN:VEVENT
DTSTART;TZID=Europe/Paris:20260421T180000
DTEND;TZID=Europe/Paris:20260421T203000
DTSTAMP:20260422T005924
CREATED:20260121T095125Z
LAST-MODIFIED:20260121T095125Z
UID:10006337-1776794400-1776803400@www.soralia.be
SUMMARY:Atelier Inspire et Tangle - Dottignies
DESCRIPTION:Atelier d’initiation inspiré de la méthode Zentangle pour se détendre\, respirer et stimuler sa créativité. \nIl combine exercices de respiration\, méditation et dessin intuitif (motifs répétitifs) pour aider à lâcher prise et se recentrer. \nCréations collectives autour du 8 mars avec les groupes Tangle de Soralia. \nAucun niveau en dessin requis\, matériel fourni. \nActivité gratuite et ouverte à tou.te.s. \nDates : Les mardis 14/4\, 21/4\, 12/5\, 26/5\, 9/6/26 \nHeure : 18h à 20h30 \nLieu : Réseau des bibliothèques de Mouscron – Dottignies\nrue Julien Mullie\, 35 à 7711 Dottignies \nInfos & inscriptions : 056/86 06 80\npar mail : bibliotheque@bibliotheque-mouscron.be\nou sur place\, dans l’une des antennes aux heures d’ouverture
URL:https://www.soralia.be/accueil/event/atelier-inspire-et-tangle-dottignies-2/
LOCATION:Réseau des Bibliothèques de Mouscron – Dottignies\, rue Julien Mullie 35\, Dottignies\, Hainaut\, 7711\, Belgium
CATEGORIES:Loisirs,Wallonie-picarde
ATTACH;FMTTYPE=image/png:https://www.soralia.be/wp-content/uploads/2017/01/calendrier-avril.png
ORGANIZER;CN="Soralia Wallonie picarde":MAILTO:soralia.mwp@solidaris.be
END:VEVENT
END:VCALENDAR