BEGIN:VCALENDAR
VERSION:2.0
PRODID:-//Soralia - ECPv6.15.17.1//NONSGML v1.0//EN
CALSCALE:GREGORIAN
METHOD:PUBLISH
X-WR-CALNAME:Soralia
X-ORIGINAL-URL:https://www.soralia.be/accueil
X-WR-CALDESC:Évènements pour Soralia
REFRESH-INTERVAL;VALUE=DURATION:PT1H
X-Robots-Tag:noindex
X-PUBLISHED-TTL:PT1H
BEGIN:VTIMEZONE
TZID:Europe/Paris
BEGIN:DAYLIGHT
TZOFFSETFROM:+0100
TZOFFSETTO:+0200
TZNAME:CEST
DTSTART:20240331T010000
END:DAYLIGHT
BEGIN:STANDARD
TZOFFSETFROM:+0200
TZOFFSETTO:+0100
TZNAME:CET
DTSTART:20241027T010000
END:STANDARD
BEGIN:DAYLIGHT
TZOFFSETFROM:+0100
TZOFFSETTO:+0200
TZNAME:CEST
DTSTART:20250330T010000
END:DAYLIGHT
BEGIN:STANDARD
TZOFFSETFROM:+0200
TZOFFSETTO:+0100
TZNAME:CET
DTSTART:20251026T010000
END:STANDARD
BEGIN:DAYLIGHT
TZOFFSETFROM:+0100
TZOFFSETTO:+0200
TZNAME:CEST
DTSTART:20260329T010000
END:DAYLIGHT
BEGIN:STANDARD
TZOFFSETFROM:+0200
TZOFFSETTO:+0100
TZNAME:CET
DTSTART:20261025T010000
END:STANDARD
END:VTIMEZONE
BEGIN:VEVENT
DTSTART;TZID=Europe/Paris:20250616T173000
DTEND;TZID=Europe/Paris:20250616T193000
DTSTAMP:20260421T142333
CREATED:20250213T150054Z
LAST-MODIFIED:20250213T150054Z
UID:10006101-1750095000-1750102200@www.soralia.be
SUMMARY:Chorale - Mons
DESCRIPTION:Infos pratiques\n\nPour qui ? Dès 18 ans \n\nQuand ? Le lundi de 17h30 à 19h30\nProchaines dates : 16/06 – 30/06 \n\nOù ? Bâtiment Solidaris\navenue des Nouvelles Technologies\, 24 à 7080 Frameries \n\nPrix ? Gratuit \n\nSur inscription\nSoralia Mons-Borinage\n068/84 84 98 – soralia.mwp@solidaris.be
URL:https://www.soralia.be/accueil/event/chorale-mons-7/
LOCATION:Solidaris Frameries\, Avenue des Nouvelles Technologies\, 24\, Frameries\, Hainaut\, 7080\, Belgique
CATEGORIES:Culture,Général,Loisirs,Mons-Borinage,Régional
ATTACH;FMTTYPE=image/png:https://www.soralia.be/wp-content/uploads/2017/01/calendrier-juin.png
ORGANIZER;CN="Soralia Mons-Borinage":MAILTO:soralia.mwp@solidaris.be
END:VEVENT
BEGIN:VEVENT
DTSTART;TZID=Europe/Paris:20250619T130000
DTEND;TZID=Europe/Paris:20250619T153000
DTSTAMP:20260421T142333
CREATED:20250429T123940Z
LAST-MODIFIED:20250429T123940Z
UID:10006133-1750338000-1750347000@www.soralia.be
SUMMARY:Arpentage féministe 📚
DESCRIPTION:Tu aimerais découvrir une façon collective et participative de lire un livre ? Tu aimerais te nourrir d’écrits sur les femmes\, le droit des femmes\, le genre\, etc. ? Tu aimerais connaître les pensées d’autres femmes à propos des discriminations et des difficultés que l’on vit lorsqu’on est une femme ? Viens participer à cet atelier gratuit ! Il permet d’explorer ensemble le contenu d’un ouvrage en discutant et en s’inspirant les unes les autres. \nNous arpenterons des livres qui permettent de nous rappeler que tous les êtres humains sont égaux en droits et en dignité\, et qu’ensemble nous pouvons imaginer\, réfléchir et penser un monde avec plus d’égalité.Chaque atelier sera à propos d’un livre différent 📚 \n📅 Les prochains rendez-vous:\nDe 13h à 15h30 à la Maison des Femmes au 253 Rue Josaphat à 1030 Schaerbeek les : \n\n\njeudi 19 juin 2025\njeudi 11 septembre 2025\njeudi 25 septembre 2025\njeudi 9 octobre 2025\n\n Les ateliers sont gratuits et sur réservation à soralia.bxl@solidaris.be\n On vous y attend nombreux.ses !
URL:https://www.soralia.be/accueil/event/arpentage-feministe-%f0%9f%93%9a-4/
LOCATION:Maison des Femmes\, 253 Rue Josaphat\, Schaerbeek\, Bruxelles\, 1030\, Belgium
CATEGORIES:Bruxelles,Culture,Droit & Citoyenneté,Egalité femme-homme,Familles,Général,Santé,Sexualité,Violences
ATTACH;FMTTYPE=image/png:https://www.soralia.be/wp-content/uploads/2017/01/calendrier-mai.png
ORGANIZER;CN="Soralia":MAILTO:soralia.bxl@solidaris.be
END:VEVENT
BEGIN:VEVENT
DTSTART;TZID=Europe/Paris:20250621T100000
DTEND;TZID=Europe/Paris:20250621T120000
DTSTAMP:20260421T142333
CREATED:20250213T145208Z
LAST-MODIFIED:20250213T145208Z
UID:10006095-1750500000-1750507200@www.soralia.be
SUMMARY:Chorale - Ath
DESCRIPTION:Chorale à Ath\nRejoignez notre chorale athoise !\nAvec notre cheffe de chœurs Comète Waf\, apprenez à faire groupe. \nChanter ensemble pour sortir de la solitude\, créer le lien et envisager de sortir de sa zone de confort ! \nLa chorale de Ath existe depuis juin 2024 pour rassembler autour de titres connus les individus ! De la pop\, des grands classiques… on chante\, pour le plaisir ! De temps à autre\, des propositions de titres plus engagés sont proposés au groupe\, au grès des actualités et au regard des valeurs de Soralia. \nInfos pratiques\n\nPour qui ? Dès 18 ans \n\nQuand ? 2 à 3 samedis par mois de 10h à 12h\nProchaines dates : 21/06 – 06/09 – 13/09 – 11/10 – 18/10 – 15/11 – 29/11 – 13/12 \n\nOù ? Bâtiment Solidaris\nrue du Fort 48 à Ath \n\nPrix ? Gratuit \n\nSur inscription\nSoralia Wallonie picarde\n068/84 84 98 – soralia.mwp@solidaris.be
URL:https://www.soralia.be/accueil/event/chorale-ath-13/
LOCATION:Solidaris Ath\, rue du Fort\, 48\, Ath\, Hainaut\, 7800\, Belgique
CATEGORIES:Culture,Général,Loisirs,Régional,Wallonie-picarde
ATTACH;FMTTYPE=image/png:https://www.soralia.be/wp-content/uploads/2017/01/calendrier-juin.png
ORGANIZER;CN="Soralia Wallonie picarde":MAILTO:soralia.mwp@solidaris.be
END:VEVENT
END:VCALENDAR