BEGIN:VCALENDAR
VERSION:2.0
PRODID:-//Soralia - ECPv6.15.17.1//NONSGML v1.0//EN
CALSCALE:GREGORIAN
METHOD:PUBLISH
X-ORIGINAL-URL:https://www.soralia.be/accueil
X-WR-CALDESC:Évènements pour Soralia
REFRESH-INTERVAL;VALUE=DURATION:PT1H
X-Robots-Tag:noindex
X-PUBLISHED-TTL:PT1H
BEGIN:VTIMEZONE
TZID:Europe/Paris
BEGIN:DAYLIGHT
TZOFFSETFROM:+0100
TZOFFSETTO:+0200
TZNAME:CEST
DTSTART:20250330T010000
END:DAYLIGHT
BEGIN:STANDARD
TZOFFSETFROM:+0200
TZOFFSETTO:+0100
TZNAME:CET
DTSTART:20251026T010000
END:STANDARD
BEGIN:DAYLIGHT
TZOFFSETFROM:+0100
TZOFFSETTO:+0200
TZNAME:CEST
DTSTART:20260329T010000
END:DAYLIGHT
BEGIN:STANDARD
TZOFFSETFROM:+0200
TZOFFSETTO:+0100
TZNAME:CET
DTSTART:20261025T010000
END:STANDARD
BEGIN:DAYLIGHT
TZOFFSETFROM:+0100
TZOFFSETTO:+0200
TZNAME:CEST
DTSTART:20270328T010000
END:DAYLIGHT
BEGIN:STANDARD
TZOFFSETFROM:+0200
TZOFFSETTO:+0100
TZNAME:CET
DTSTART:20271031T010000
END:STANDARD
END:VTIMEZONE
BEGIN:VEVENT
DTSTART;TZID=Europe/Paris:20260305T140000
DTEND;TZID=Europe/Paris:20260305T160000
DTSTAMP:20260424T164536
CREATED:20260121T094639Z
LAST-MODIFIED:20260121T094639Z
UID:10006334-1772719200-1772726400@www.soralia.be
SUMMARY:Atelier Inspire et Tangle - Mouscron
DESCRIPTION:Atelier d’initiation inspiré de la méthode Zentangle pour se détendre\, respirer et stimuler sa créativité. \nIl combine exercices de respiration\, méditation et dessin intuitif (motifs répétitifs) pour aider à lâcher prise et se recentrer. \nCréations collectives autour du 8 mars avec les groupes Tangle de Soralia. \nAucun niveau en dessin requis\, matériel fourni. \nActivité gratuite et ouverte à tou.te.s. \nDe janvier à mars\, on se retrouve pour créer autour des droits des femmes et préparer une expo collective unique\, qui prendra vie au Centre culturel de Mouscron ! \nDates : Les jeudis 22/1\, 5/2\, 12/2\, 19/2\, 5/3\, 16/4\, 28/5/26 \nHeure : 14h à 16h \nLieu : Asbl Maux à mots\, avenue des Fougères\, 2 – 7712 Herseaux \nInfos & inscriptions : secretariat.demauxamots@gmail.com
URL:https://www.soralia.be/accueil/event/atelier-inspire-et-tangle-mouscron-5/
LOCATION:asbl Maux à mots\, avenue des Fougères 2\, Herseaux\, Hainaut\, 7712\, Belgium
CATEGORIES:Loisirs,Wallonie-picarde
ATTACH;FMTTYPE=image/png:https://www.soralia.be/wp-content/uploads/2017/01/calendrier-mars.png
ORGANIZER;CN="Soralia Wallonie picarde":MAILTO:soralia.mwp@solidaris.be
END:VEVENT
BEGIN:VEVENT
DTSTART;TZID=Europe/Paris:20260307T140000
DTEND;TZID=Europe/Paris:20260307T180000
DTSTAMP:20260424T164536
CREATED:20260310T095106Z
LAST-MODIFIED:20260310T095106Z
UID:10006437-1772892000-1772906400@www.soralia.be
SUMMARY:Histoires de femmes : Jeu de piste féministe
DESCRIPTION:Venez vous amuser\, tout en (re)découvrant la Ville de La Louvière et ses figures féminines.Nous vous proposons un jeu de piste\, ouvert à tous.tes\, le temps d’une balade de +/- 3km\, jalonnée d’épreuves diverses et ludiques pour découvrir le féminisme autrement.\n\n\nInfos pratiques\n\n\n Le 7 mars à 14h\n Gratuit\n\n 𝐈𝐧𝐟𝐨𝐫𝐦𝐚𝐭𝐢𝐨𝐧𝐬 𝐞𝐭 𝐢𝐧𝐬𝐜𝐫𝐢𝐩𝐭𝐢𝐨𝐧𝐬 : 𝟎𝟕𝟏/𝟓𝟎𝟕 𝟖𝟐𝟎 ou soralia.cs@solidaris.be
URL:https://www.soralia.be/accueil/event/jeudepiste/
LOCATION:Bruxelles
CATEGORIES:Centre & Soignies,Egalité femme-homme,Général,Loisirs
ATTACH;FMTTYPE=image/png:https://www.soralia.be/wp-content/uploads/2017/01/calendrier-mars.png
END:VEVENT
BEGIN:VEVENT
DTSTART;TZID=Europe/Paris:20260310T090000
DTEND;TZID=Europe/Paris:20260310T090000
DTSTAMP:20260424T164536
CREATED:20260220T134719Z
LAST-MODIFIED:20260220T135449Z
UID:10006430-1773133200-1773133200@www.soralia.be
SUMMARY:🎥 Projection du film « Les Baronnes »
DESCRIPTION:Dans le cadre des activités autour du 8 mars (Journée internationale des droits des femmes)\, Faouzia Hariche (présidente du comité Soralia Bruxelles)\, Delphine Houba (échevine de l’égalité des chances) et Fadila Laanan (présidente de l’espace Magh) vous invitent à la projection du film « Les Baronnes » en présence des co-réalisateurs Nabil Ben Yadir et Mokhtaria Badaoui. \n« Face à la trahison\, Fatima refuse de se laisser enfermer dans un rôle de victime et décide de réaliser son rêve: faire du théâtre. Avec le soutien de ses amies\, elle se lance dans l’aventure! » \nUne magnifique mise en scène de la capacité des femmes à prendre leur destin en main\, dépaser leurs blessures\, déployer leur courage et leur talent en affirmant leur créativités\, leur intelligence et leur humour! \nAu delà de l’histoire personnelle de Fatima\, c’est l’amitié\, le courage\, la résilience et la sororoité qui sont célébrés. \nCe film met en avant d’extraordinaires femmes ordinaires et souligne le droit essentiel\, le besoin et l’envie des femmes de s’exprimer dans leur singularité et de changer les mentalités.  \nQuand? Le mardi 10 mars 2026 à 9h\nOù? Espace Magh – rue du Poinçon 17 à 1000 Bruxelles\nPrix? Gratuit et petit-déjeuner servi à 9h 🥐\nInfos & réservation? Infos à soralia.bxl@solidaris.be & réservation(s) obligatoire au 02/279 49 10 \nAu plaisir de vous y retrouver ! ♀️🫶🏻
URL:https://www.soralia.be/accueil/event/%f0%9f%8e%a5-projection-du-film-les-baronnes/
LOCATION:Espace Magh\, Rue du poinçon 17\, Bruxelles\, Bruxelles\, 1000\, Belgium
CATEGORIES:Bruxelles,Culture,Droit & Citoyenneté,Egalité femme-homme,Familles,Général,Loisirs,parentalité
ATTACH;FMTTYPE=image/png:https://www.soralia.be/wp-content/uploads/2017/01/calendrier-mars.png
END:VEVENT
BEGIN:VEVENT
DTSTART;TZID=Europe/Paris:20260312T180000
DTEND;TZID=Europe/Paris:20260312T203000
DTSTAMP:20260424T164536
CREATED:20260304T135613Z
LAST-MODIFIED:20260304T142809Z
UID:10006436-1773338400-1773347400@www.soralia.be
SUMMARY:Atelier Arpentage féministe 📚
DESCRIPTION:L’arpentage est une activité qui permet de se plonger à plusieurs dans les thématiques d’un livre. Issu du mouvement populaire de résistance ouvrière\, cela permet des moments collectifs amusants et vivants en échangeant les points de vues et les ressentis vis-à-vis d’un écrit\, en somme que du bon!\n\n📙Le livre « Les hommes ont tué l’amour » de S. Erin Gin\nAu cours d’une lecture collective\, nous découvrirons l’essai de Sabrina Erin Gin\, consacré à la relation amoureuse dans un monde où celle-ci n’est autre qu’une construction sociale ❤️ \n📆🕐Quand? Jeudi 12 mars de 18h à 20h30 (accueil dès 17h30)\n📍Où? Amazone – rue du Méridien 10 à 1210 Saint-Josse-ten-Noode\n💶Tarif : Atelier gratuit\nℹ️Inscription : Réservation nécessaire par mail à soralia.bxl@solidaris.be\n☕🥤Boissons chaudes et en-cas prévus ! \nÉvénements Facebook
URL:https://www.soralia.be/accueil/event/arpentages/
LOCATION:Amazone asbl\, Rue du méridien 10\, Saint-Josse-Ten-Noode\, Bruxelles\, 1210\, Belgium
CATEGORIES:Bruxelles,Culture,Droit & Citoyenneté,Egalité femme-homme,Général,Loisirs,Sexualité
ATTACH;FMTTYPE=image/png:https://www.soralia.be/wp-content/uploads/2017/01/calendrier-mars.png
END:VEVENT
BEGIN:VEVENT
DTSTART;TZID=Europe/Paris:20260313T094500
DTEND;TZID=Europe/Paris:20260313T120000
DTSTAMP:20260424T164536
CREATED:20251223T161036Z
LAST-MODIFIED:20251223T161036Z
UID:10006297-1773395100-1773403200@www.soralia.be
SUMMARY:Atelier créatif féministe
DESCRIPTION:De nouveaux ateliers créatifs ont vu le jour à Schaerbeek dans un nouveau tiers-lieu\, le Marbré ! \nSoralia\, en collaboration avec ArtiCulE \, invite à réfléchir collectivement à des thèmes qui concernent l’égalité des genres tout en mettant la main à la pâte. Sculpture en argile\, collage\, peinture\, création de pins\, dessin\, écriture\, photo … que de moyens créatifs pour exprimer ses expériences\, ses revendications ou même son lâcher-prise ! Aucun niveau préalable est requis\, nous sommes ici pour expérimenter différentes techniques et pour passer un moment agréable.\nEt comme nous savons qu’un moment collectif de qualité nécessite un cadre de confiance\, nous fonctionnons avec une charte discutée en groupe. \nLe but est d’avoir des participant.es qui se retrouvent deux fois pas mois pour pouvoir créer une œuvre collective d’ici les prochains mois. \n🗓️ Date : vendredi 13 mars 2026 entre 9h45 et 12h\n📍Lieu : Le Marbré – rue des Palais\, 32 à 1030 Schaerbeek\n💶Tarif: gratuit\n✍🏻Inscription : en scannant le QR-code ou en complétant le formulaire en ligne suivant: Inscription ateliers créatifs féministes | Framaforms.org \nNous espérons vous y retrouver nombreuses et nombreux ! \nEvénement Facebook: Ateliers créatifs féministes | Facebook \n 
URL:https://www.soralia.be/accueil/event/atelier-creatif-feministe-7/
LOCATION:Marbré\, Rue des Palais\, 32-34\, Schaerbeek\, Bruxelles\, 1030\, Belgium
CATEGORIES:Bruxelles,Culture,Egalité femme-homme,Général,Loisirs
ATTACH;FMTTYPE=image/png:https://www.soralia.be/wp-content/uploads/2017/01/calendrier-mars.png
END:VEVENT
BEGIN:VEVENT
DTSTART;TZID=Europe/Paris:20260314T120000
DTEND;TZID=Europe/Paris:20260314T160000
DTSTAMP:20260424T164536
CREATED:20260220T125347Z
LAST-MODIFIED:20260220T132235Z
UID:10006428-1773489600-1773504000@www.soralia.be
SUMMARY:Création d'une oeuvre commune
DESCRIPTION:Dans le cadre des activités autour du 8 mars (Journée internationale des droits des femmes)\, le comité Soralia Koekelberg vous convie à la 6ème édition de la Création d’une œuvre commune sur le thème « Les femmes et la réforme du chômage: la question des aidants proches« . \nQuand? Le samedi 14 mars 2026 de 12h à 16h\nOù? 4 Rue des Tisserands à 1081 Koekelberg (Rez de chaussée)\nPrix? Activité gratuite\nInfos? via mail à soralia.bxl@solidaris.be \nOn vous y attend nombreux.ses !🫶🏼 \n 
URL:https://www.soralia.be/accueil/event/creation-dune-oeuvre-commune-4/
LOCATION:Rue des Tisserands 4\, Rue des Tisserands 4\, Koekelberg\, Bruxelles\, 1081\, Belgium
CATEGORIES:Bruxelles,Culture,Droit & Citoyenneté,Egalité femme-homme,Familles,Général,Loisirs
ATTACH;FMTTYPE=image/png:https://www.soralia.be/wp-content/uploads/2017/01/calendrier-mars.png
ORGANIZER;CN="Soralia Koekelberg":MAILTO:karimasaida@hotmail.com
END:VEVENT
BEGIN:VEVENT
DTSTART;TZID=Europe/Paris:20260317T093000
DTEND;TZID=Europe/Paris:20260317T120000
DTSTAMP:20260424T164536
CREATED:20260121T092610Z
LAST-MODIFIED:20260121T092939Z
UID:10006326-1773739800-1773748800@www.soralia.be
SUMMARY:Atelier d’écriture – Au Fil des mots "Être une femme" - Mouscron
DESCRIPTION: Atelier d’écriture – Au Fil des mots « Être une femme »  avec le Moc Wallonie PicardeUn espace doux et bienveillant pour poser les mots\, partager les vécus\, explorer la créativité et faire entendre sa voix de femme.Que vous écriviez déjà ou non\, cet atelier est une invitation à : se reconnecter à soi écrire librement\, sans jugement partager (ou simplement écouter) créer du lien entre femmes prochaine date : le 17 mars de 9h30 à 12h locaux du CPAS de Mouscron rue Victor Corne 5 à 7700 Mouscron de 13h à 15h30 Atelier réservé aux femmes Inscriptions & infos samira.bouguerra@solidaris.be ou 068/84.83.20 \n 
URL:https://www.soralia.be/accueil/event/atelier-decriture-au-fil-des-mots-etre-une-femme-mouscron-2/
LOCATION:CPAS de Mouscron\, rue Victor Corne 5\, Mouscron\, Hainaut\, 7700\, Belgium
CATEGORIES:Loisirs,Wallonie-picarde
ATTACH;FMTTYPE=image/png:https://www.soralia.be/wp-content/uploads/2017/01/calendrier-mars.png
ORGANIZER;CN="Soralia Wallonie picarde":MAILTO:soralia.mwp@solidaris.be
END:VEVENT
BEGIN:VEVENT
DTSTART;TZID=Europe/Paris:20260319T180000
DTEND;TZID=Europe/Paris:20260319T203000
DTSTAMP:20260424T164536
CREATED:20260121T095828Z
LAST-MODIFIED:20260121T095856Z
UID:10006342-1773943200-1773952200@www.soralia.be
SUMMARY:Atelier Inspire et Tangle - Tournai
DESCRIPTION:Atelier d’initiation inspiré de la méthode Zentangle pour se détendre\, respirer et stimuler sa créativité. \nIl combine exercices de respiration\, méditation et dessin intuitif (motifs répétitifs) pour aider à lâcher prise et se recentrer. \nCréations collectives autour du 8 mars avec les groupes Tangle de Soralia. \nAucun niveau en dessin requis\, matériel fourni. \nActivité gratuite et ouverte à tou.te.s. \nDates : Les jeudis 22/01\, 19/2\, 19/3\, 23/4\, 21/5\, 11/6/26 \nHeure : 18h00 à 20h30 \nLieu : CMT – Centre Mutuelliste du Tournaisis\n2ème étage – Rue de Cordes\, 8 à 7500 Tournai \nInfos & inscriptions : Soralia WAPI\n068/84 84 98 ou soralia.mwp@solidaris.be
URL:https://www.soralia.be/accueil/event/atelier-inspire-et-tangle-tournai-3/
LOCATION:Centre Mutuelliste Tournaisien\, rue de Cordes\, 8\, Tournai\, Hainaut\, 7500\, Belgique
CATEGORIES:Loisirs,Wallonie-picarde
ATTACH;FMTTYPE=image/png:https://www.soralia.be/wp-content/uploads/2017/01/calendrier-mars.png
ORGANIZER;CN="Soralia Wallonie picarde":MAILTO:soralia.mwp@solidaris.be
END:VEVENT
BEGIN:VEVENT
DTSTART;TZID=Europe/Paris:20260326T180000
DTEND;TZID=Europe/Paris:20260326T200000
DTSTAMP:20260424T164536
CREATED:20260116T122012Z
LAST-MODIFIED:20260116T122012Z
UID:10006302-1774548000-1774555200@www.soralia.be
SUMMARY:Atelier santé: Yoga sur chaise
DESCRIPTION:Venez découvrir une pause bienfaisante pour le corps et l’esprit pour toutes personnes en quête de bien-être ! Cet atelier vous propose un yoga facile et accessible à toutes et tous\, grâce à des exercices ciblés permettant de relâcher les tensions\, de stimuler la bonne humeur et de retrouver vitalité et sérénité. Être assis.e. améliore la posture et vous invite à une respiration consciente. N’attendez plus\, laissez-vous guider par notre professeur pour un moment de douceur et d’énergie positive. \nLes Ateliers Santé vous emmèneront sur le chemin du bien-être\, du moment “pour soi” et du regard sur votre santé ! Ouverts à toutes et tous\, ils sont assurés par des professionnel.e.s de la thématique et s’organisent en petits groupes afin de garantir le confort des séances. \nQuand? Jeudi 26 mars 2026 de 18h à 20h\nOù? Solidaris Brabant – Boulevard M. Lemonnier\, 41 à 1000 Bruxelles (2ème étage – salle Mandela/Pierson)\nCombien? 20 euros\nInscriptions au préalable : par courriel à  soralia.bxl@solidaris.be ou par téléphone au 02/546 14 07
URL:https://www.soralia.be/accueil/event/atelier-sante-yoga-sur-chaise/
LOCATION:Solidaris Brabant Bd Maurice Lemonnier 41 à 1000 Bruxelles\, Bd Maurice Lemonnier 41\, Bruxelles\, Bruxelles\, 1000\, Belgique
CATEGORIES:Bruxelles,Familles,Général,Loisirs,Santé
ATTACH;FMTTYPE=image/png:https://www.soralia.be/wp-content/uploads/2017/01/calendrier-mars.png
END:VEVENT
BEGIN:VEVENT
DTSTART;TZID=Europe/Paris:20260327T094500
DTEND;TZID=Europe/Paris:20260327T120000
DTSTAMP:20260424T164536
CREATED:20251223T161150Z
LAST-MODIFIED:20251223T161150Z
UID:10006298-1774604700-1774612800@www.soralia.be
SUMMARY:Atelier créatif féministe
DESCRIPTION:De nouveaux ateliers créatifs ont vu le jour à Schaerbeek dans un nouveau tiers-lieu\, le Marbré ! \nSoralia\, en collaboration avec ArtiCulE \, invite à réfléchir collectivement à des thèmes qui concernent l’égalité des genres tout en mettant la main à la pâte. Sculpture en argile\, collage\, peinture\, création de pins\, dessin\, écriture\, photo … que de moyens créatifs pour exprimer ses expériences\, ses revendications ou même son lâcher-prise ! Aucun niveau préalable est requis\, nous sommes ici pour expérimenter différentes techniques et pour passer un moment agréable.\nEt comme nous savons qu’un moment collectif de qualité nécessite un cadre de confiance\, nous fonctionnons avec une charte discutée en groupe. \nLe but est d’avoir des participant.es qui se retrouvent deux fois pas mois pour pouvoir créer une œuvre collective d’ici les prochains mois. \n🗓️ Date : vendredi 27 mars 2026 entre 9h45 et 12h\n📍Lieu : Le Marbré – rue des Palais\, 32 à 1030 Schaerbeek\n💶Tarif: gratuit\n✍🏻Inscription : en scannant le QR-code ou en complétant le formulaire en ligne suivant: Inscription ateliers créatifs féministes | Framaforms.org \nNous espérons vous y retrouver nombreuses et nombreux ! \nEvénement Facebook: Ateliers créatifs féministes | Facebook \n 
URL:https://www.soralia.be/accueil/event/atelier-creatif-feministe-8/
LOCATION:Marbré\, Rue des Palais\, 32-34\, Schaerbeek\, Bruxelles\, 1030\, Belgium
CATEGORIES:Bruxelles,Culture,Egalité femme-homme,Général,Loisirs
ATTACH;FMTTYPE=image/png:https://www.soralia.be/wp-content/uploads/2017/01/calendrier-mars.png
END:VEVENT
BEGIN:VEVENT
DTSTART;TZID=Europe/Paris:20260328T100000
DTEND;TZID=Europe/Paris:20260328T120000
DTSTAMP:20260424T164536
CREATED:20260116T122859Z
LAST-MODIFIED:20260116T122942Z
UID:10006303-1774692000-1774699200@www.soralia.be
SUMMARY:Atelier santé: Zen Shiatsu & Do In en plein air
DESCRIPTION:Mieux-être en plein air dans un parc ! Bien dans votre corps\, bien dans votre vie : Shiatsu et Do-in. Cet atelier propose une initiation à des techniques de relaxation et d’ancrage inspirées de la médecine chinoise. A travers des exercices de respiration\, des mouvements doux et des pratiques comme le Zen Shiatsu et le Do-In\, vous serez amené.e.s. à vous reconnecter à votre corps et votre énergie vitale dans un cadre naturel et apaisant. \nLes Ateliers Santé vous emmèneront sur le chemin du bien-être\, du moment “pour soi” et du regard sur votre santé ! Ouverts à toutes et tous\, ils sont assurés par des professionnel.e.s de la thématique et s’organisent en petits groupes afin de garantir le confort des séances. \nQuand? Samedi 28 mars 2026 de 10h à 12h\nOù? Jardins de l’Abbaye de la Cambre à 1050 Ixelles\nCombien? 20 euros\nInscriptions au préalable : par courriel à  soralia.bxl@solidaris.be ou par téléphone au 02/546 14 07
URL:https://www.soralia.be/accueil/event/atelier-sante-zen-shiatsu-do-in-en-plein-air/
LOCATION:Abbaye de la Cambre\, Jardins de l'Abbaye de la Cambre\, Ixelles\, Bruxelles\, 1050\, Belgium
CATEGORIES:Bruxelles,Familles,Général,Loisirs,Santé
ATTACH;FMTTYPE=image/png:https://www.soralia.be/wp-content/uploads/2017/01/calendrier-mars.png
END:VEVENT
BEGIN:VEVENT
DTSTART;TZID=Europe/Paris:20260329T143000
DTEND;TZID=Europe/Paris:20260329T170000
DTSTAMP:20260424T164536
CREATED:20260304T091723Z
LAST-MODIFIED:20260304T091723Z
UID:10006433-1774794600-1774803600@www.soralia.be
SUMMARY:Bingo à Mons
DESCRIPTION:
URL:https://www.soralia.be/accueil/event/bingo-a-mons/
LOCATION:Petite Maison Folie\, Rue de Nimy\, 46\, Mons\, Hainaut\, 7000\, Belgium
CATEGORIES:Loisirs,Mons-Borinage
ATTACH;FMTTYPE=image/png:https://www.soralia.be/wp-content/uploads/2017/01/calendrier-mars.png
END:VEVENT
END:VCALENDAR