BEGIN:VCALENDAR
VERSION:2.0
PRODID:-//Soralia - ECPv6.15.17.1//NONSGML v1.0//EN
CALSCALE:GREGORIAN
METHOD:PUBLISH
X-WR-CALNAME:Soralia
X-ORIGINAL-URL:https://www.soralia.be/accueil
X-WR-CALDESC:Évènements pour Soralia
REFRESH-INTERVAL;VALUE=DURATION:PT1H
X-Robots-Tag:noindex
X-PUBLISHED-TTL:PT1H
BEGIN:VTIMEZONE
TZID:Europe/Paris
BEGIN:DAYLIGHT
TZOFFSETFROM:+0100
TZOFFSETTO:+0200
TZNAME:CEST
DTSTART:20230326T010000
END:DAYLIGHT
BEGIN:STANDARD
TZOFFSETFROM:+0200
TZOFFSETTO:+0100
TZNAME:CET
DTSTART:20231029T010000
END:STANDARD
BEGIN:DAYLIGHT
TZOFFSETFROM:+0100
TZOFFSETTO:+0200
TZNAME:CEST
DTSTART:20240331T010000
END:DAYLIGHT
BEGIN:STANDARD
TZOFFSETFROM:+0200
TZOFFSETTO:+0100
TZNAME:CET
DTSTART:20241027T010000
END:STANDARD
BEGIN:DAYLIGHT
TZOFFSETFROM:+0100
TZOFFSETTO:+0200
TZNAME:CEST
DTSTART:20250330T010000
END:DAYLIGHT
BEGIN:STANDARD
TZOFFSETFROM:+0200
TZOFFSETTO:+0100
TZNAME:CET
DTSTART:20251026T010000
END:STANDARD
END:VTIMEZONE
BEGIN:VEVENT
DTSTART;TZID=Europe/Paris:20241205T200000
DTEND;TZID=Europe/Paris:20241205T230000
DTSTAMP:20260421T223823
CREATED:20241119T101533Z
LAST-MODIFIED:20241119T101533Z
UID:10006036-1733428800-1733439600@www.soralia.be
SUMMARY:Spectacle - Maux Bleus à Perwez
DESCRIPTION:Dans le cadre du projet de sensibilisation contre les violences faites aux femmes\n✋ « Il fait déjà noir ? Je ne me rappelle pas d’avoir fait une sieste\, mais par contre j’ai vraiment mal partout. Ma mâchoire me fait vraiment souffrir. Le temps de reprendre mes esprits\, je m’assieds sur le lit. Mon pyjama est totalement déchiré aux épaules. C’est là que tout me revient en mémoire. Je ne sais pas pour quelle raison\, je ne saurai jamais pour quelle raison il a hurlé et m’a bousculée\, une fois de plus… Je me rappelle les douleurs\, les odeurs\, les cris\, le cœur qui se serre à m’en donner la nausée. Comment j’en suis arrivée là ? Je ferme les yeux\, me raccroche à la réalité et prends un pas de recul sur cette histoire\, mon histoire\, mais aussi celle de millions d’autres femmes.» \nLes Chanceuses de Solidarité Femmes ont choisi d’enfiler leurs armures de papier et de replonger au cœur de l’enfer des violences conjugales. Porteuses de paroles et guerrières survivantes\, elles témoignent pour toutes celles qui ne pourront plus témoigner\, et nous racontent les maux bleus\, l’emprise\, les violences\, le silence\,  la fuite et la renaissance. \nUne collaboration Soralia\, Ni Coups Ni Injures\, PAC Brabant wallon\, Centre Culturel de Perwez\, Théâtre des Rues\, Solidarité Femmes. \n \n  \nInfos pratiques\n📆 Date : Jeudi 5 décembre\n🕜 Heure : 20h\n📍 Lieu : Centre culturel de Perwez (salle Le Foyer) – Grand Place\, 32 à 1360 Perwez\n💰 Prix : 4€\n⚠️ Billeterie : Maux bleus – Théâtre des Rues\n📞 Contact : 081 23 45 55 · reservation@foyerperwez.be
URL:https://www.soralia.be/accueil/event/spectacle-maux-bleus-a-perwez/
LOCATION:Centre culturel de Perwez\, Grand Place\, 32\, Perwez\, Brabant wallon\, 1360\, Belgium
CATEGORIES:Brabant wallon,Culture,Violences
ATTACH;FMTTYPE=image/png:https://www.soralia.be/wp-content/uploads/2017/01/calendrier-dec.png
ORGANIZER;CN="PAC Brabant wallon":MAILTO:christophe.demos@pac-bw.be
END:VEVENT
END:VCALENDAR