BEGIN:VCALENDAR
VERSION:2.0
PRODID:-//Soralia - ECPv6.15.17.1//NONSGML v1.0//EN
CALSCALE:GREGORIAN
METHOD:PUBLISH
X-WR-CALNAME:Soralia
X-ORIGINAL-URL:https://www.soralia.be/accueil
X-WR-CALDESC:Évènements pour Soralia
REFRESH-INTERVAL;VALUE=DURATION:PT1H
X-Robots-Tag:noindex
X-PUBLISHED-TTL:PT1H
BEGIN:VTIMEZONE
TZID:Europe/Paris
BEGIN:DAYLIGHT
TZOFFSETFROM:+0100
TZOFFSETTO:+0200
TZNAME:CEST
DTSTART:20230326T010000
END:DAYLIGHT
BEGIN:STANDARD
TZOFFSETFROM:+0200
TZOFFSETTO:+0100
TZNAME:CET
DTSTART:20231029T010000
END:STANDARD
BEGIN:DAYLIGHT
TZOFFSETFROM:+0100
TZOFFSETTO:+0200
TZNAME:CEST
DTSTART:20240331T010000
END:DAYLIGHT
BEGIN:STANDARD
TZOFFSETFROM:+0200
TZOFFSETTO:+0100
TZNAME:CET
DTSTART:20241027T010000
END:STANDARD
BEGIN:DAYLIGHT
TZOFFSETFROM:+0100
TZOFFSETTO:+0200
TZNAME:CEST
DTSTART:20250330T010000
END:DAYLIGHT
BEGIN:STANDARD
TZOFFSETFROM:+0200
TZOFFSETTO:+0100
TZNAME:CET
DTSTART:20251026T010000
END:STANDARD
END:VTIMEZONE
BEGIN:VEVENT
DTSTART;TZID=Europe/Paris:20241201T093000
DTEND;TZID=Europe/Paris:20241201T180000
DTSTAMP:20260424T165837
CREATED:20200813T084118Z
LAST-MODIFIED:20240905T070531Z
UID:10004971-1733045400-1733076000@www.soralia.be
SUMMARY:Atelier Wendo : Autodéfense verbale
DESCRIPTION:L’ASBL D-Clic et Soralia vous proposent des stages pour développer la confiance en soi et découvrir sa force. \n\nL’idéal est d’éviter l’affrontement physique ! Les agressions verbales font partie du quotidien et polluent votre vie ? Ce stage vous propose une approche de base : identifier les différents types d’agressions\, poser ses limites\, apprendre à développer des stratégies\, gérer ses émotions… pour améliorer sa qualité de vie. \nPourquoi le Wendo ?\nL’agressivité est aussi bien physique que verbale\, on la rencontre partout\, dans la rue\, au travail\, à l’école\, dans la famille… \nLe Wendo\, c’est prendre conscience de sa force et de son énergie quelle que soit sa condition physique afin d’assurer sa protection. Il permet également de prendre conscience de sa valeur\, de son importance en tant que femme. Le Wendo c’est aussi développer la confiance en soi\, sentir ses limites et les faire respecter\, oser prendre sa place en tout lieu et en toute circonstance. Développer la vigilance et éviter les situations dangereuses. \nCe stage vous permettra d’acquérir des techniques d’autodéfense\, simples et efficaces\, élaborées à partir de situations concrètes et quotidiennes. Le Wendo tient compte des différences de morphologie entre les femmes et les hommes\, de la façon dont la violence a été intégrée et de la spécificité des agressions contre les femmes. \nIl remet en cause les conditionnements qui mènent à la peur et à la soumission face à la violence. \n\nModalités\nPublic : femmes à partir de 16 ans\nNombre d’inscriptions limité \nLieu : Esenca Liège (Les Associations Solidaris – Longdoz)\nRue Edouard Remouchamps\, 2\, 4020 Liège • Près de la Médiacité \nDates :\n01/12/2024 de 9h30 à 18h \nPrix :  45 € • 1 journée\nRéduction directe de 5 € pour les affilié·e·s Solidaris Wallonie \n\n> En savoir plus sur D-Clic et connaître toutes les dates de stages \n\nInscription\n0485/46 74 83 ou wendo@skynet.be\nPar D-Clic\, en collaboration avec Soralia Liège
URL:https://www.soralia.be/accueil/event/wendo-autodefense-verbale-4/
LOCATION:Les Associations Solidaris – Longdoz\, Rue Edouard Remouchamps 2\, Liège\, Liège\, 4020\, Belgique
CATEGORIES:Egalité femme-homme,Général,Liège,Régional,Thèmes
ATTACH;FMTTYPE=image/png:https://www.soralia.be/wp-content/uploads/2017/01/calendrier-dec.png
END:VEVENT
END:VCALENDAR