BEGIN:VCALENDAR
VERSION:2.0
PRODID:-//Soralia - ECPv6.15.17.1//NONSGML v1.0//EN
CALSCALE:GREGORIAN
METHOD:PUBLISH
X-ORIGINAL-URL:https://www.soralia.be/accueil
X-WR-CALDESC:Évènements pour Soralia
REFRESH-INTERVAL;VALUE=DURATION:PT1H
X-Robots-Tag:noindex
X-PUBLISHED-TTL:PT1H
BEGIN:VTIMEZONE
TZID:Europe/Paris
BEGIN:DAYLIGHT
TZOFFSETFROM:+0100
TZOFFSETTO:+0200
TZNAME:CEST
DTSTART:20240331T010000
END:DAYLIGHT
BEGIN:STANDARD
TZOFFSETFROM:+0200
TZOFFSETTO:+0100
TZNAME:CET
DTSTART:20241027T010000
END:STANDARD
BEGIN:DAYLIGHT
TZOFFSETFROM:+0100
TZOFFSETTO:+0200
TZNAME:CEST
DTSTART:20250330T010000
END:DAYLIGHT
BEGIN:STANDARD
TZOFFSETFROM:+0200
TZOFFSETTO:+0100
TZNAME:CET
DTSTART:20251026T010000
END:STANDARD
BEGIN:DAYLIGHT
TZOFFSETFROM:+0100
TZOFFSETTO:+0200
TZNAME:CEST
DTSTART:20260329T010000
END:DAYLIGHT
BEGIN:STANDARD
TZOFFSETFROM:+0200
TZOFFSETTO:+0100
TZNAME:CET
DTSTART:20261025T010000
END:STANDARD
END:VTIMEZONE
BEGIN:VEVENT
DTSTART;VALUE=DATE:20250221
DTEND;VALUE=DATE:20250222
DTSTAMP:20260422T090330
CREATED:20250205T124836Z
LAST-MODIFIED:20250205T124836Z
UID:10006071-1740096000-1740182399@www.soralia.be
SUMMARY:Spectacle – Les Fleurs de l’ombre à Liège
DESCRIPTION:Création théâtrale collective sur l’égalité et la justice\nDepuis janvier 2023\, Voix De Femmes et la Maison des femmes d’ici et d’ailleurs animent un cycle d’ateliers d’expression guidé par Catherine Wilkin\, comédienne et autrice. De ces rencontres est née Les fleurs de l’ombre (titre provisoire)\, une création théâtrale où huit femmes partagent des fragments de leurs histoires. Autour d’une machine à coudre\, elles tissent récits de déracinements et luttes personnelles\, défiant le silence pour manifester leur force collective. La représentation sera suivie d’un échange avec les participantes et l’équipe artistique. \n\nModalités\nPublic : Dès 10 ans (niveau débutant en français requis) \nLieu : CC Les Chiroux (Place des Carmes 8\, 4000 Liège) \nDate : Le 21 février à 13h \nPrix : Gratuit \n\nInscription\n1/ Inscrivez-vous via\njeviens@voixdefemmes.org \n2. Validez votre inscription\nVotre participation vous sera confirmé en réponse. \n\n\n\nSoralia Liège\n\nRue Douffet 36\, 4020 Liège\n04/223 01 50 • soralia.liege@solidaris.be \nLiens utiles\nSite national de Soralia\nFacebook de Soralia Liège
URL:https://www.soralia.be/accueil/event/spectacle-les-fleurs-de-lombre-a-liege/
CATEGORIES:Culture,Droit & Citoyenneté,Egalité femme-homme,Liège
ATTACH;FMTTYPE=image/png:https://www.soralia.be/wp-content/uploads/2017/01/calendrier-fevrier.png
END:VEVENT
END:VCALENDAR