BEGIN:VCALENDAR
VERSION:2.0
PRODID:-//Soralia - ECPv6.15.17.1//NONSGML v1.0//EN
CALSCALE:GREGORIAN
METHOD:PUBLISH
X-WR-CALNAME:Soralia
X-ORIGINAL-URL:https://www.soralia.be/accueil
X-WR-CALDESC:Évènements pour Soralia
REFRESH-INTERVAL;VALUE=DURATION:PT1H
X-Robots-Tag:noindex
X-PUBLISHED-TTL:PT1H
BEGIN:VTIMEZONE
TZID:Europe/Paris
BEGIN:DAYLIGHT
TZOFFSETFROM:+0100
TZOFFSETTO:+0200
TZNAME:CEST
DTSTART:20240331T010000
END:DAYLIGHT
BEGIN:STANDARD
TZOFFSETFROM:+0200
TZOFFSETTO:+0100
TZNAME:CET
DTSTART:20241027T010000
END:STANDARD
BEGIN:DAYLIGHT
TZOFFSETFROM:+0100
TZOFFSETTO:+0200
TZNAME:CEST
DTSTART:20250330T010000
END:DAYLIGHT
BEGIN:STANDARD
TZOFFSETFROM:+0200
TZOFFSETTO:+0100
TZNAME:CET
DTSTART:20251026T010000
END:STANDARD
BEGIN:DAYLIGHT
TZOFFSETFROM:+0100
TZOFFSETTO:+0200
TZNAME:CEST
DTSTART:20260329T010000
END:DAYLIGHT
BEGIN:STANDARD
TZOFFSETFROM:+0200
TZOFFSETTO:+0100
TZNAME:CET
DTSTART:20261025T010000
END:STANDARD
END:VTIMEZONE
BEGIN:VEVENT
DTSTART;VALUE=DATE:20250318
DTEND;VALUE=DATE:20250319
DTSTAMP:20260420T195941
CREATED:20250205T123830Z
LAST-MODIFIED:20250205T123830Z
UID:10006068-1742256000-1742342399@www.soralia.be
SUMMARY:Table de conversation – Héroïnoscope\, la vraie histoire des femme à Villers-le-Bouillet
DESCRIPTION:Redécouvrez des femmes inspirantes à travers un jeu de cartes interactif\nPlongez dans l’histoire fascinante de femmes extraordinaires grâce au nouveau jeu de cartes de Soralia\, conçu pour mettre en lumière celles qui ont longtemps été invisibilisées. Leurs actions et combats\, souvent oubliés\, ont pourtant façonné le monde tel que nous le connaissons aujourd’hui. Cette activité s’inscrit dans un cycle de trois rencontres organisées par les Séniors Actifs de la Fédération du PS Huy-Waremme\, en collaboration avec PAC Huy-Waremme et Soralia Liège-Verviers. Une belle opportunité de partager des échanges riches autour de figures féminines inspirantes. Plus d’infos sur héroïnoscope. \n\nModalités\nPublic : Tout public \nLieu : Maison des Solidarités de Villers-le-Bouillet (Rue de Waremme\, 29) \nDate : Le 18 mars à 10h \nPrix : Gratuit \n\nInscription\n1/ Inscrivez-vous avant le 12 mars via\nphilizin2@gmail.com \n2. Validez votre inscription\nVotre participation vous sera confirmé en réponse. \n\n\n\nSoralia Liège\n\nRue Douffet 36\, 4020 Liège\n04/223 01 50 • soralia.liege@solidaris.be \nLiens utiles\nSite national de Soralia\nFacebook de Soralia Liège
URL:https://www.soralia.be/accueil/event/table-de-conversation-heroinoscope-la-vraie-histoire-des-femme-a-villers-le-bouillet/
CATEGORIES:Egalité femme-homme,Liège
ATTACH;FMTTYPE=image/png:https://www.soralia.be/wp-content/uploads/2017/01/calendrier-mars.png
END:VEVENT
END:VCALENDAR