BEGIN:VCALENDAR
VERSION:2.0
PRODID:-//Soralia - ECPv6.15.17.1//NONSGML v1.0//EN
CALSCALE:GREGORIAN
METHOD:PUBLISH
X-ORIGINAL-URL:https://www.soralia.be/accueil
X-WR-CALDESC:Évènements pour Soralia
REFRESH-INTERVAL;VALUE=DURATION:PT1H
X-Robots-Tag:noindex
X-PUBLISHED-TTL:PT1H
BEGIN:VTIMEZONE
TZID:Europe/Paris
BEGIN:DAYLIGHT
TZOFFSETFROM:+0100
TZOFFSETTO:+0200
TZNAME:CEST
DTSTART:20240331T010000
END:DAYLIGHT
BEGIN:STANDARD
TZOFFSETFROM:+0200
TZOFFSETTO:+0100
TZNAME:CET
DTSTART:20241027T010000
END:STANDARD
BEGIN:DAYLIGHT
TZOFFSETFROM:+0100
TZOFFSETTO:+0200
TZNAME:CEST
DTSTART:20250330T010000
END:DAYLIGHT
BEGIN:STANDARD
TZOFFSETFROM:+0200
TZOFFSETTO:+0100
TZNAME:CET
DTSTART:20251026T010000
END:STANDARD
BEGIN:DAYLIGHT
TZOFFSETFROM:+0100
TZOFFSETTO:+0200
TZNAME:CEST
DTSTART:20260329T010000
END:DAYLIGHT
BEGIN:STANDARD
TZOFFSETFROM:+0200
TZOFFSETTO:+0100
TZNAME:CET
DTSTART:20261025T010000
END:STANDARD
END:VTIMEZONE
BEGIN:VEVENT
DTSTART;VALUE=DATE:20250308
DTEND;VALUE=DATE:20250309
DTSTAMP:20260420T222053
CREATED:20250307T133210Z
LAST-MODIFIED:20250307T133210Z
UID:10006121-1741392000-1741478399@www.soralia.be
SUMMARY:Evènement - Cycloparade féministe à Liège
DESCRIPTION:Rejoignez-nous le 8 mars dans les rues de Liège pour manifester et défendre les droits économiques des femmes !\n\nPour la 7e année consécutive\, la plateforme Collectives et Ardentes\, dont nos Associations font partie\, vous convie à sa Cycloparade féministe ! Le 8 mars 2024\, à l’occasion de la Journée internationale de lutte pour les des droits des femmes\, rejoignez-nous dès 13h au B3 (nouvelle bibliothèque de Liège)\, sur l’esplanade\, Place des Arts 1\, à Liège. \nCette année\, notre mobilisation est dirigée contre les violences économiques infligées aux femmes. Notre présence dans l’espace public est un symbole fort qui réaffirme la véritable signification de cette journée. Il ne s’agit pas d’une célébration stéréotypée\, mais d’une marche pour les droits des femmes ! Dans de nombreuses régions du monde\, être une femme à vélo est encore considéré comme un acte punissable. Ensemble\, nous sommes plus fort·es ! Rejoignez-nous. \n\nProgramme de la journée :\n13h00 : Rendez-vous sur l’Esplanade du B3 ► animations sous chapiteau \n14h30 : Départ de la parade \n16h00 : Retour de la parade sur l’Esplanade du B3 \n17h00 : Fin et clôture du village associatif \nCet horaire est donné à titre indicatif. Le départ et l’arrivée de la parade dépendent de plusieurs facteurs et pourraient donc légèrement varier en conséquence. \n\nModalités\nPublic : tout public • avec ou sans handicap (accessibilité PMR) \nLieu : B3 (Liège) \nParade : venez à vélo\, en trottinette… ou tout autre objet roulant ou à pied\, avec vos slogans\, vos revendications… \nPlus d’infos : www.cycloparade.be \nRejoignez la page Facebook de l’événement : https://fb.me/e/2OZSTJKah
URL:https://www.soralia.be/accueil/event/evenement-cycloparade-feministe-a-liege/
CATEGORIES:Egalité femme-homme,Liège
ATTACH;FMTTYPE=image/png:https://www.soralia.be/wp-content/uploads/2017/01/calendrier-mars.png
END:VEVENT
END:VCALENDAR