BEGIN:VCALENDAR
VERSION:2.0
PRODID:-//Soralia - ECPv6.15.17.1//NONSGML v1.0//EN
CALSCALE:GREGORIAN
METHOD:PUBLISH
X-WR-CALNAME:Soralia
X-ORIGINAL-URL:https://www.soralia.be/accueil
X-WR-CALDESC:Évènements pour Soralia
REFRESH-INTERVAL;VALUE=DURATION:PT1H
X-Robots-Tag:noindex
X-PUBLISHED-TTL:PT1H
BEGIN:VTIMEZONE
TZID:Europe/Paris
BEGIN:DAYLIGHT
TZOFFSETFROM:+0100
TZOFFSETTO:+0200
TZNAME:CEST
DTSTART:20240331T010000
END:DAYLIGHT
BEGIN:STANDARD
TZOFFSETFROM:+0200
TZOFFSETTO:+0100
TZNAME:CET
DTSTART:20241027T010000
END:STANDARD
BEGIN:DAYLIGHT
TZOFFSETFROM:+0100
TZOFFSETTO:+0200
TZNAME:CEST
DTSTART:20250330T010000
END:DAYLIGHT
BEGIN:STANDARD
TZOFFSETFROM:+0200
TZOFFSETTO:+0100
TZNAME:CET
DTSTART:20251026T010000
END:STANDARD
BEGIN:DAYLIGHT
TZOFFSETFROM:+0100
TZOFFSETTO:+0200
TZNAME:CEST
DTSTART:20260329T010000
END:DAYLIGHT
BEGIN:STANDARD
TZOFFSETFROM:+0200
TZOFFSETTO:+0100
TZNAME:CET
DTSTART:20261025T010000
END:STANDARD
END:VTIMEZONE
BEGIN:VEVENT
DTSTART;TZID=Europe/Paris:20250515T080000
DTEND;TZID=Europe/Paris:20250515T170000
DTSTAMP:20260420T060925
CREATED:20250515T085237Z
LAST-MODIFIED:20250515T085237Z
UID:10006143-1747296000-1747328400@www.soralia.be
SUMMARY:Café Papote à Spa
DESCRIPTION:Venez rencontrer Soralia lors d’une soirée gratuite\, conviviale et créative\nEnvie d’un moment chaleureux et détendu ? Rejoignez-nous pour un Café Papote au cœur de Spa : une rencontre ouverte à toutes et tous\, pour échanger autour d’un café\, partager un goûter\, et laisser libre cours à votre créativité grâce à un petit atelier participatif. ’est aussi l’occasion idéale pour faire connaissance avec le comité Soralia Spa\, découvrir ses projets\, ses valeurs\, et pourquoi pas\, vous y impliquer ! \n\nModalités\nPublic : Tout public \nLieu : Centre culturel de Spa (salle des Capucins)\nRue du Waux-Hall 39\, 4900 Spa \nDate : Mercredi 5 novembre 2025 à 19h \nPrix : Gratuit \n\nInscription\n1/ Inscrivez-vous en contactant Jacqueline : 0495 30 35 58
URL:https://www.soralia.be/accueil/event/cafe-papote-a-spa/
CATEGORIES:Egalité femme-homme,Verviers
ATTACH;FMTTYPE=image/png:https://www.soralia.be/wp-content/uploads/2024/10/Soralia-ICONE-site-internet-novembre-e1728985096858.png
END:VEVENT
BEGIN:VEVENT
DTSTART;TZID=Europe/Paris:20250517T120000
DTEND;TZID=Europe/Paris:20250517T180000
DTSTAMP:20260420T060925
CREATED:20250515T070611Z
LAST-MODIFIED:20250515T080024Z
UID:10006139-1747483200-1747504800@www.soralia.be
SUMMARY:Héroïnoscope au Festival Libertad
DESCRIPTION:Soralia Verviers sera présent au village associatif de Festival Libertad\, de 12h à 18h le samedi 17 mai avec l’animation Héroïnoscope. \nPlus d’informations sur le festival :\nhttps://www.facebook.com/events/s/-festival-libertad-2025-concer/1321483855725337/
URL:https://www.soralia.be/accueil/event/heroinoscope-au-festival-libertad/
CATEGORIES:Egalité femme-homme,Verviers
END:VEVENT
END:VCALENDAR