BEGIN:VCALENDAR
VERSION:2.0
PRODID:-//Soralia - ECPv6.15.17.1//NONSGML v1.0//EN
CALSCALE:GREGORIAN
METHOD:PUBLISH
X-ORIGINAL-URL:https://www.soralia.be/accueil
X-WR-CALDESC:Évènements pour Soralia
REFRESH-INTERVAL;VALUE=DURATION:PT1H
X-Robots-Tag:noindex
X-PUBLISHED-TTL:PT1H
BEGIN:VTIMEZONE
TZID:Europe/Paris
BEGIN:DAYLIGHT
TZOFFSETFROM:+0100
TZOFFSETTO:+0200
TZNAME:CEST
DTSTART:20200329T010000
END:DAYLIGHT
BEGIN:STANDARD
TZOFFSETFROM:+0200
TZOFFSETTO:+0100
TZNAME:CET
DTSTART:20201025T010000
END:STANDARD
BEGIN:DAYLIGHT
TZOFFSETFROM:+0100
TZOFFSETTO:+0200
TZNAME:CEST
DTSTART:20210328T010000
END:DAYLIGHT
BEGIN:STANDARD
TZOFFSETFROM:+0200
TZOFFSETTO:+0100
TZNAME:CET
DTSTART:20211031T010000
END:STANDARD
BEGIN:DAYLIGHT
TZOFFSETFROM:+0100
TZOFFSETTO:+0200
TZNAME:CEST
DTSTART:20220327T010000
END:DAYLIGHT
BEGIN:STANDARD
TZOFFSETFROM:+0200
TZOFFSETTO:+0100
TZNAME:CET
DTSTART:20221030T010000
END:STANDARD
END:VTIMEZONE
BEGIN:VEVENT
DTSTART;VALUE=DATE:20210910
DTEND;VALUE=DATE:20210925
DTSTAMP:20260419T171229
CREATED:20210830T095854Z
LAST-MODIFIED:20210902T090218Z
UID:10005320-1631232000-1632527999@www.soralia.be
SUMMARY:Ateliers et expo "Patrimoine\, vous avez dit Matrimoine ?"
DESCRIPTION:Le weekend des 11 et 12 septembre \n« Matrimoine\, n.m. : bien matériel ou immatériel ayant une importance artistique ou historique hérité des femmes dans leur rôle\, leur fonction\, leur apport\, leur gestion\, leur empreinte\, leur souvenir – » \nEn collaboration avec le Centre culturel de Thuin\, Soralia de Charleroi vous proposeront pendant ce weekend des ateliers artistiques qui mettront en valeur des figures de femmes qui ont eu un rôle prépondérant à Thuin. Ces ateliers se dérouleront tout le weekend de 10 à 12h et de 14 à 16h. \nDe plus l’exposition « Parcours de Combattantes » réalisée par Soralia en collaboration avec l’IHOES (Institut d’Histoire Ouvrière\, Economique et Sociale) sera visible tous le mois de septembre 2021. \nEvénement Facebook \nAu travers de celle-ci\, venez découvrir 125 ans de luttes politiques des femmes en Belgique . \nGageons que cette édition nous en apprendra beaucoup sur les liens entre la majorité de l’humanité et le patrimoine immobilier.
URL:https://www.soralia.be/accueil/event/le-weekend-des-11-et-12-septembre-patrimoine-vous-avez-dit-matrimoine/
LOCATION:Centre culturel Haute Sambre\, rue des Nobles 32\, Thuin\, Hainaut\, 6530\, Belgique
CATEGORIES:Charleroi,Droit & Citoyenneté,Egalité femme-homme,Général,Régional,Thèmes
ATTACH;FMTTYPE=image/png:https://www.soralia.be/wp-content/uploads/2017/01/calendrier-sept.png
END:VEVENT
BEGIN:VEVENT
DTSTART;TZID=Europe/Paris:20210911T140000
DTEND;TZID=Europe/Paris:20210911T163000
DTSTAMP:20260419T171229
CREATED:20210728T093114Z
LAST-MODIFIED:20210902T090622Z
UID:10005209-1631368800-1631377800@www.soralia.be
SUMMARY:Cycle de réflexion sur la précarité des femmes
DESCRIPTION:Soralia de Forest vous proposent un cycle de réflexion sur la précarité des femmes. \nLors de cette deuxième rencontre\, nous recevrons Fatiha Saidi qui nous parlera de l’extrême pauvreté des femmes et de son expérience par le biais de son livre « Dans la peau d’une femme mendiante ». \nIntéressé.e ?\nAlors rejoignez-nous :\nLe samedi 11 septembre 2021 à 14h00\nSalle Les Eglantines-Maison de la solidarité\nRue des Glands 31 à 1190 Forest \nInscription obligatoire par mail:\npatricia.seront@fmsb.be\nou par téléphone: 02/546 14 13
URL:https://www.soralia.be/accueil/event/cycle-de-reflexion-sur-la-precarite-des-femmes-2/
LOCATION:Salle les Eglantines – Maison de la Solidarité\, Rue de Glands 31\, Bruxelles\, Bruxelles\, 1190
CATEGORIES:Bruxelles,Droit & Citoyenneté,Egalité femme-homme,Général,Régional,Thèmes
ATTACH;FMTTYPE=image/png:https://www.soralia.be/wp-content/uploads/2017/01/calendrier-sept.png
END:VEVENT
BEGIN:VEVENT
DTSTART;TZID=Europe/Paris:20210920T100000
DTEND;TZID=Europe/Paris:20211021T170000
DTSTAMP:20260419T171229
CREATED:20210908T140906Z
LAST-MODIFIED:20210909T074209Z
UID:10005330-1632132000-1634835600@www.soralia.be
SUMMARY:Expo "Le droit de vivre"
DESCRIPTION:Basée sur la BD d’Harald « Un coeur en commun »\, cette expo vous fera (re)découvrir l’histoire de la Sécurité sociale en Belgique\, de façon originale\, ludique\, et adaptée à tous publics. \nVisites animées sur inscription : du lundi au vendredi : 10h-12h/13h-15h/15h-17h – possibilité de 17h30 à 19h30 les mardis uniquement. \nInfos et inscriptions : exposition.ledroitdevivre@gmail.com ou 081/64 99 58 \nEn partenariat avec Afico\, PAC Namur\, CAL Namur\, le RWLP\, Les jeunes FGTB\, Latitudes Jeunes réseau Solidaris\, et le Collectif La Casserole.
URL:https://www.soralia.be/accueil/event/expo-le-droit-de-vivre/
LOCATION:Collectif La Casserole\, rue du Moulin Lavigne 19B\, 5002 Namur\, 5002\, Belgique
CATEGORIES:Droit & Citoyenneté,Namur,Régional,Santé,Thèmes
ATTACH;FMTTYPE=image/png:https://www.soralia.be/wp-content/uploads/2017/01/calendrier-sept.png
ORGANIZER;CN="FPS Namur":MAILTO:fps.provincenamur@solidaris.be
END:VEVENT
BEGIN:VEVENT
DTSTART;TZID=Europe/Paris:20210924T100000
DTEND;TZID=Europe/Paris:20210924T120000
DTSTAMP:20260419T171229
CREATED:20210830T095440Z
LAST-MODIFIED:20210830T095440Z
UID:10005317-1632477600-1632484800@www.soralia.be
SUMMARY:Atelier d'écriture en ligne
DESCRIPTION:L’écriture est un terrain de jeu car écrire\, c’est jouer. Nous vous proposons des exercices d’écriture\, des jeux de mots pour écrire des choses inhabituelles qui nous entraîneront dans l’écriture de façon dynamique\, surprenante\, inattendue à notre sauce féministe ! \nA partir de photos que vous chérissez\, celles de votre été\, de livres découverts\, des morceaux de musiques\, d’objets insolites\, nous nous plongerons dans l’écriture et ses textes créatifs et/ou engagés composés de mots\, de phrases transformés\, détournés\, répétés… \nAmbiance chaleureuse et respectueuse. \nAtelier gratuit en ligne via la plateforme teams  \n1 rdv par mois \nInfos & inscription au 071/507.819 ou via fps.charleroi@solidaris.be  \n  \n 
URL:https://www.soralia.be/accueil/event/atelier-decriture-en-ligne/2021-09-24/
LOCATION:plateforme en ligne Teams
CATEGORIES:Charleroi,Droit & Citoyenneté,Egalité femme-homme,Régional,Thèmes
ATTACH;FMTTYPE=image/png:https://www.soralia.be/wp-content/uploads/2017/01/calendrier-sept.png
END:VEVENT
BEGIN:VEVENT
DTSTART;TZID=Europe/Paris:20210928T180000
DTEND;TZID=Europe/Paris:20210928T210000
DTSTAMP:20260419T171229
CREATED:20210830T100909Z
LAST-MODIFIED:20210902T091255Z
UID:10005321-1632852000-1632862800@www.soralia.be
SUMMARY:Conférence débat - Capitalisme\, richesses et limites 
DESCRIPTION:Dans le cadre de la venue du Musée du Capitalisme à Charleroi en janvier 2022\, les partenaires de celui-ci\, dont Soralia de Charleroi\, se penchent sur différentes facettes du capitalisme afin de mieux les mettre en débat. \nCapitalisme\, richesses et limites de quoi parle-t-on ? Cette rencontre souhaite nourrir nos connaissances sur le capitalisme : les richesses\, les limites révélatrices d’inégalités.  Resituons nous un peu face aux mécanismes du capitalisme\, les richesses et les limites qui en découlent qui engendrent des inégalités comme celles du patrimoine\, les questions d’héritages\, la taxation et la redistribution … \nAvec Edouard Delruelle Président Union Nationale des Mutualités Socialistes – Solidaris  et Olivier Bonfond  économiste et conseiller au CEPAG. \nEvénement gratuit \nLieu : à confirmer \nInscriptions : 071/507.819 ou fps.charleroi@solidaris.be
URL:https://www.soralia.be/accueil/event/conference-debat-capitalisme-richesses-et-limites/
LOCATION:Bruxelles
CATEGORIES:Charleroi,Droit & Citoyenneté,Egalité femme-homme,Général,Régional,Thèmes
ATTACH;FMTTYPE=image/png:https://www.soralia.be/wp-content/uploads/2017/01/calendrier-sept.png
END:VEVENT
END:VCALENDAR