BEGIN:VCALENDAR
VERSION:2.0
PRODID:-//Soralia - ECPv6.15.17.1//NONSGML v1.0//EN
CALSCALE:GREGORIAN
METHOD:PUBLISH
X-WR-CALNAME:Soralia
X-ORIGINAL-URL:https://www.soralia.be/accueil
X-WR-CALDESC:Évènements pour Soralia
REFRESH-INTERVAL;VALUE=DURATION:PT1H
X-Robots-Tag:noindex
X-PUBLISHED-TTL:PT1H
BEGIN:VTIMEZONE
TZID:Europe/Paris
BEGIN:DAYLIGHT
TZOFFSETFROM:+0100
TZOFFSETTO:+0200
TZNAME:CEST
DTSTART:20240331T010000
END:DAYLIGHT
BEGIN:STANDARD
TZOFFSETFROM:+0200
TZOFFSETTO:+0100
TZNAME:CET
DTSTART:20241027T010000
END:STANDARD
BEGIN:DAYLIGHT
TZOFFSETFROM:+0100
TZOFFSETTO:+0200
TZNAME:CEST
DTSTART:20250330T010000
END:DAYLIGHT
BEGIN:STANDARD
TZOFFSETFROM:+0200
TZOFFSETTO:+0100
TZNAME:CET
DTSTART:20251026T010000
END:STANDARD
BEGIN:DAYLIGHT
TZOFFSETFROM:+0100
TZOFFSETTO:+0200
TZNAME:CEST
DTSTART:20260329T010000
END:DAYLIGHT
BEGIN:STANDARD
TZOFFSETFROM:+0200
TZOFFSETTO:+0100
TZNAME:CET
DTSTART:20261025T010000
END:STANDARD
END:VTIMEZONE
BEGIN:VEVENT
DTSTART;TZID=Europe/Paris:20250603T093000
DTEND;TZID=Europe/Paris:20250603T113000
DTSTAMP:20260423T163807
CREATED:20250526T084646Z
LAST-MODIFIED:20250526T084823Z
UID:10006191-1748943000-1748950200@www.soralia.be
SUMMARY:Rencontre: "Sortir de l'enfermement et de la violence"
DESCRIPTION:Sortir de l’enfermement et de la violence\n\n📣 Le comité soralia de Bruxelles-ville  vous invite à une rencontre avec le CPVCF (Centre de Prévention des Violences Conjugales et Familiales) autour du thème « Sortir de l’enfermement et de la violence« . La rencontre sera rythmée par une courte-projection 🎬\, un quizz 🧠 et des témoignages 🗣.\n\n En Belgique\, environ 1 personne sur 3 (quasi exclusievement des femmes)\, âgées de 17 à 74 ans a déjà subi des violences sexuelles\, physiques ou psychologiques par un (ex-)partenaire intime et 15% des femmes ont subi des violences physiques par un partenaire. Mais qu’est-ce qu’une violence ? Quelles sont ses formes ? Comment les reconnaitre ? Comment sortir de la violence ou prêter assistance quand on en est témoin ? Qui peut nous y aider ? \n Quand? Le mardi 3 juin 2025 🕐 à 9h30\n Où? Centre Pôle Nord – Chaussée d’Anvers 208 à 1000 Bruxelles\n Prix? Gratuit mais réservation obligatoire 📞\n Infos et inscription OBLIGATOIRE  en téléphonant au 02/279.49.10  ou par email à cabinet.f.hariche@brucity.be \nUn événement à ne pas rater! Nous vous y attendons nombreux.ses \n\nAvec le soutien du CPVCF
URL:https://www.soralia.be/accueil/event/rencontre-sortir-de-lenfermement-et-de-la-violence/
CATEGORIES:Bruxelles,Culture,Droit & Citoyenneté,Egalité femme-homme,Général,Violences
ATTACH;FMTTYPE=image/png:https://www.soralia.be/wp-content/uploads/2017/01/calendrier-juin.png
END:VEVENT
BEGIN:VEVENT
DTSTART;TZID=Europe/Paris:20250605T130000
DTEND;TZID=Europe/Paris:20250605T153000
DTSTAMP:20260423T163807
CREATED:20250429T123731Z
LAST-MODIFIED:20250429T124554Z
UID:10006132-1749128400-1749137400@www.soralia.be
SUMMARY:Arpentage féministe 📚
DESCRIPTION:Tu aimerais découvrir une façon collective et participative de lire un livre ? Tu aimerais te nourrir d’écrits sur les femmes\, le droit des femmes\, le genre\, etc. ? Tu aimerais connaître les pensées d’autres femmes à propos des discriminations et des difficultés que l’on vit lorsqu’on est une femme ? Viens participer à cet atelier gratuit ! Il permet d’explorer ensemble le contenu d’un ouvrage en discutant et en s’inspirant les unes les autres. \nNous arpenterons des livres qui permettent de nous rappeler que tous les êtres humains sont égaux en droits et en dignité\, et qu’ensemble nous pouvons imaginer\, réfléchir et penser un monde avec plus d’égalité. Chaque atelier sera à propos d’un livre différent 📚 \n📅 Les prochains rendez-vous:\nDe 13h à 15h30 à la Maison des Femmes au 253 Rue Josaphat à 1030 Schaerbeek les : \n\n\njeudi 5 juin 2025\njeudi 19 juin 2025\njeudi 11 septembre 2025\njeudi 25 septembre 2025\njeudi 9 octobre 2025\n\n Les ateliers sont gratuits et sur réservation à soralia.bxl@solidaris.be\n On vous y attend nombreux.ses !
URL:https://www.soralia.be/accueil/event/arpentage-feministe-%f0%9f%93%9a-3/
LOCATION:Maison des Femmes\, 253 Rue Josaphat\, Schaerbeek\, Bruxelles\, 1030\, Belgium
CATEGORIES:Bruxelles,Culture,Droit & Citoyenneté,Egalité femme-homme,Familles,Général,Santé,Sexualité,Violences
ATTACH;FMTTYPE=image/png:https://www.soralia.be/wp-content/uploads/2017/01/calendrier-mai.png
ORGANIZER;CN="Soralia":MAILTO:soralia.bxl@solidaris.be
END:VEVENT
BEGIN:VEVENT
DTSTART;TZID=Europe/Paris:20250610T140000
DTEND;TZID=Europe/Paris:20250610T163000
DTSTAMP:20260423T163807
CREATED:20250526T083953Z
LAST-MODIFIED:20250526T083953Z
UID:10006190-1749564000-1749573000@www.soralia.be
SUMMARY:Arpentage féministe 📚
DESCRIPTION:Tu aimerais découvrir une façon collective et participative de lire un livre ? Tu aimerais te nourrir d’écrits sur les femmes\, le droit des femmes\, le genre\, etc. ? Tu aimerais connaître les pensées d’autres femmes à propos des discriminations et des difficultés que l’on vit lorsqu’on est une femme ? Viens participer à cet atelier gratuit ! Il permet d’explorer ensemble le contenu d’un ouvrage en discutant et en s’inspirant les unes les autres. \nCe mardi 10 juin 2025 de 14h à 16h30 \, nous arpenterons des livres qui permettent de nous rappeler que tous les êtres humains sont égaux en droits et en dignité\, et qu’ensemble nous pouvons imaginer\, réfléchir et penser un monde avec plus d’égalité. Chaque atelier sera à propos d’un livre différent 📚 \n📅 Les prochains rendez-vous:\nDe 13h à 15h30 à la Maison des Femmes au 253 Rue Josaphat à 1030 Schaerbeek les : \n\n\njeudi 19 juin 2025\njeudi 11 septembre 2025\njeudi 25 septembre 2025\njeudi 9 octobre 2025\n\n Les ateliers sont gratuits et sur réservation à soralia.bxl@solidaris.be\n On vous y attend nombreux.ses !
URL:https://www.soralia.be/accueil/event/arpentage-feministe-%f0%9f%93%9a-6/
LOCATION:Maison des Femmes\, 253 Rue Josaphat\, Schaerbeek\, Bruxelles\, 1030\, Belgium
CATEGORIES:Bruxelles,Culture,Droit & Citoyenneté,Egalité femme-homme,Familles,Général,Santé,Sexualité,Violences
ATTACH;FMTTYPE=image/png:https://www.soralia.be/wp-content/uploads/2017/01/calendrier-juin.png
ORGANIZER;CN="Soralia":MAILTO:soralia.bxl@solidaris.be
END:VEVENT
BEGIN:VEVENT
DTSTART;TZID=Europe/Paris:20250612T180000
DTEND;TZID=Europe/Paris:20250612T200000
DTSTAMP:20260423T163807
CREATED:20250429T125315Z
LAST-MODIFIED:20250429T125315Z
UID:10006135-1749751200-1749758400@www.soralia.be
SUMMARY:Cercle de parole & de soutien pour les Femmes
DESCRIPTION:📣 Le prochain cercle de parole ouvert à toutes les femmes et les personnes qui s’identifient femmes aura lieu le jeudi 12 juin 2025 de 17h30 à 20h (accueil dès 17h30 – début 18h) au Planning Familial Rosa\, rue du midi\, 118/120\, 1000 Bruxelles.\nUn moment en toute confidentialité pour parler de sujets que l’on souhaite.\nNous vous y accueillerons avec plaisir ! ❤️\nRéservation souhaitée à : soralia.bxl@solidaris.be \n👉🏻 Evénement Facebook : https://www.facebook.com/events/1618528528812547/ \n📅 La prochaine date du cercle est :\nLe jeudi 26 juin 2025 de 17h30 à 20h (accueil dès 17h30 – début 18h)
URL:https://www.soralia.be/accueil/event/cercle-de-parole-de-soutien-pour-les-femmes/
LOCATION:Centre de planning familial Rosa\, Rue du Midi 120\, Bruxelles\, Bruxelles\, 1000\, Belgique
CATEGORIES:Bruxelles,Culture,Droit & Citoyenneté,Egalité femme-homme,Familles,Général,Santé,Sexualité,Violences
ATTACH;FMTTYPE=image/png:https://www.soralia.be/wp-content/uploads/2017/01/calendrier-juin.png
ORGANIZER;CN="Soralia":MAILTO:soralia.bxl@solidaris.be
END:VEVENT
BEGIN:VEVENT
DTSTART;TZID=Europe/Paris:20250619T130000
DTEND;TZID=Europe/Paris:20250619T153000
DTSTAMP:20260423T163807
CREATED:20250429T123940Z
LAST-MODIFIED:20250429T123940Z
UID:10006133-1750338000-1750347000@www.soralia.be
SUMMARY:Arpentage féministe 📚
DESCRIPTION:Tu aimerais découvrir une façon collective et participative de lire un livre ? Tu aimerais te nourrir d’écrits sur les femmes\, le droit des femmes\, le genre\, etc. ? Tu aimerais connaître les pensées d’autres femmes à propos des discriminations et des difficultés que l’on vit lorsqu’on est une femme ? Viens participer à cet atelier gratuit ! Il permet d’explorer ensemble le contenu d’un ouvrage en discutant et en s’inspirant les unes les autres. \nNous arpenterons des livres qui permettent de nous rappeler que tous les êtres humains sont égaux en droits et en dignité\, et qu’ensemble nous pouvons imaginer\, réfléchir et penser un monde avec plus d’égalité.Chaque atelier sera à propos d’un livre différent 📚 \n📅 Les prochains rendez-vous:\nDe 13h à 15h30 à la Maison des Femmes au 253 Rue Josaphat à 1030 Schaerbeek les : \n\n\njeudi 19 juin 2025\njeudi 11 septembre 2025\njeudi 25 septembre 2025\njeudi 9 octobre 2025\n\n Les ateliers sont gratuits et sur réservation à soralia.bxl@solidaris.be\n On vous y attend nombreux.ses !
URL:https://www.soralia.be/accueil/event/arpentage-feministe-%f0%9f%93%9a-4/
LOCATION:Maison des Femmes\, 253 Rue Josaphat\, Schaerbeek\, Bruxelles\, 1030\, Belgium
CATEGORIES:Bruxelles,Culture,Droit & Citoyenneté,Egalité femme-homme,Familles,Général,Santé,Sexualité,Violences
ATTACH;FMTTYPE=image/png:https://www.soralia.be/wp-content/uploads/2017/01/calendrier-mai.png
ORGANIZER;CN="Soralia":MAILTO:soralia.bxl@solidaris.be
END:VEVENT
BEGIN:VEVENT
DTSTART;VALUE=DATE:20250622
DTEND;VALUE=DATE:20250623
DTSTAMP:20260423T163807
CREATED:20250603T140600Z
LAST-MODIFIED:20250603T140600Z
UID:10006207-1750550400-1750636799@www.soralia.be
SUMMARY:Atelier – Spell Jar à Liège
DESCRIPTION:Ecoféminisme et magie verte\n\n\nDécouvrir l’écoféminisme à travers un atelier de magie verte\, ça vous tente ? Les Amis de la Terre\, le PAC et Soralia Liège vous invitent à un moment suspendu\, hors du temps\, pour questionner les rapports de domination et découvrir notre propre capacité à changer les choses. Durant cette rencontre\, nous créerons notre propre définition de l’écoféminisme et apprendrons à réaliser une Spell Jar. \nC’est quoi une Spell Jar? \n\n\nLittéralement « Bouteille à sortilège ». C’est un condensé d’intentions que vous assemblez consciencieusement dans un flacon. Chaque ingrédient que vous choisirez est chargé d’une symbolique\, qu’il s’agisse d’une plante\, d’une épice\, d’une pierre ou d’un élément\, il possède une signification\, un rôle que vous déciderez de lui confier. \n\n\n\nModalités\nPublic : Dès 18 ans. \nLieu : A confirmer (Liège • Belgique) \nDate : Le 22/06/2025  de 10h à 13h \nPrix : Gratuit \n\nInscription\nPas d’inscription nécessaire
URL:https://www.soralia.be/accueil/event/atelier-spell-jar-a-liege/
CATEGORIES:Droit & Citoyenneté,Environnement,Liège,Santé
ATTACH;FMTTYPE=image/png:https://www.soralia.be/wp-content/uploads/2017/01/calendrier-juin.png
END:VEVENT
BEGIN:VEVENT
DTSTART;TZID=Europe/Paris:20250627T193000
DTEND;TZID=Europe/Paris:20250627T220000
DTSTAMP:20260423T163807
CREATED:20250522T121658Z
LAST-MODIFIED:20250522T121658Z
UID:10006189-1751052600-1751061600@www.soralia.be
SUMMARY:Ciné-débat - "Maria Montessori\, la nouvelle femme" à Beauvechain
DESCRIPTION:Avec la maison de la Laïcité Condorcet nous vous invitons à un cycle de cinéma pas comme les autres. Trois projections\, trois histoires puissantes qui interrogent\, émeuvent et font réfléchir.\n\n\n\n\n 𝟮𝟳 𝗝𝗨𝗜𝗡 : « 𝗠𝗮𝗿𝗶𝗮 𝗠𝗼𝗻𝘁𝗲𝘀𝘀𝗼𝗿𝗶\, 𝗹𝗮 𝗻𝗼𝘂𝘃𝗲𝗹𝗹𝗲 𝗳𝗲𝗺𝗺𝗲 » 𝗱𝗲 𝗟𝗲́𝗮 𝗧𝗼𝗱𝗼𝗿𝗼𝘃\n𝗦𝘆𝗻𝗼𝗽𝘀𝗶𝘀 : En 1900\, Lili d’Alengy\, célèbre courtisane parisienne\, a un secret honteux : sa fille Tina\, née avec un handicap. Peu disposée à s’occuper d’une enfant qui menace sa carrière\, elle décide de quitter Paris pour Rome. Elle y fait la connaissance de Maria Montessori\, une femme médecin qui développe une méthode d’apprentissage révolutionnaire pour les enfants qu’on appelle alors « déficients ». Mais Maria cache elle aussi un secret : un enfant né hors mariage. Ensemble\, les deux femmes vont s’entraider pour gagner leur place dans ce monde d’hommes et écrire l’Histoire.\n\n𝗜𝗡𝗙𝗢𝗥𝗠𝗔𝗧𝗜𝗢𝗡𝗦 :\n 𝗛𝗼𝗿𝗮𝗶𝗿𝗲 :19h30 : accueil20h : début de la projection21h30 : verre de l’amitié\n\n 𝗢𝗿𝗴𝗮𝗻𝗶𝘀𝗮𝘁𝗶𝗼𝗻 :Cycle organisé en partenariat avec Laicité Brabant wallon\n\n\nModalités\nPublic : Tout public \nLieu : Maison de la laïcité CondorcetAv. du Centenaire 20\, 1320 Beauvechain \nDate : Le 27/06/2025 à 19h30 \nPrix : Gratuit \n\nInscription\nRéservations : 010 22 31 91 ou eventsbw@laicite.net \n 
URL:https://www.soralia.be/accueil/event/cine-debat-maria-montessori-la-nouvelle-femme-a-beauvechain/
CATEGORIES:Brabant wallon,Droit & Citoyenneté,Egalité femme-homme,Familles
ATTACH;FMTTYPE=image/png:https://www.soralia.be/wp-content/uploads/2017/01/calendrier-juin.png
ORGANIZER;CN="Soralia Brabant wallon":MAILTO:soralia.bw@solidaris.be
END:VEVENT
END:VCALENDAR