BEGIN:VCALENDAR
VERSION:2.0
PRODID:-//Soralia - ECPv6.15.17.1//NONSGML v1.0//EN
CALSCALE:GREGORIAN
METHOD:PUBLISH
X-ORIGINAL-URL:https://www.soralia.be/accueil
X-WR-CALDESC:Évènements pour Soralia
REFRESH-INTERVAL;VALUE=DURATION:PT1H
X-Robots-Tag:noindex
X-PUBLISHED-TTL:PT1H
BEGIN:VTIMEZONE
TZID:Europe/Paris
BEGIN:DAYLIGHT
TZOFFSETFROM:+0100
TZOFFSETTO:+0200
TZNAME:CEST
DTSTART:20240331T010000
END:DAYLIGHT
BEGIN:STANDARD
TZOFFSETFROM:+0200
TZOFFSETTO:+0100
TZNAME:CET
DTSTART:20241027T010000
END:STANDARD
BEGIN:DAYLIGHT
TZOFFSETFROM:+0100
TZOFFSETTO:+0200
TZNAME:CEST
DTSTART:20250330T010000
END:DAYLIGHT
BEGIN:STANDARD
TZOFFSETFROM:+0200
TZOFFSETTO:+0100
TZNAME:CET
DTSTART:20251026T010000
END:STANDARD
BEGIN:DAYLIGHT
TZOFFSETFROM:+0100
TZOFFSETTO:+0200
TZNAME:CEST
DTSTART:20260329T010000
END:DAYLIGHT
BEGIN:STANDARD
TZOFFSETFROM:+0200
TZOFFSETTO:+0100
TZNAME:CET
DTSTART:20261025T010000
END:STANDARD
END:VTIMEZONE
BEGIN:VEVENT
DTSTART;TZID=Europe/Paris:20250913T173000
DTEND;TZID=Europe/Paris:20250913T203000
DTSTAMP:20260420T155813
CREATED:20250825T141815Z
LAST-MODIFIED:20250825T144744Z
UID:10006239-1757784600-1757795400@www.soralia.be
SUMMARY:Soirée solidaire au profit de Cap48
DESCRIPTION:Soirée solidaire au profit de Cap48 \nLe comité Soralia Anderlecht\, avec le soutien du PS Anderlecht\, vous convient à une soirée solidaire au profit de CAP 48. Au programme: Repas (spaghetti bolo ou végétarien\, au choix) et musique « live » avec entre autres les chanteurs Mich Morgan \,Toby\, Michel Mary \, Edith et Willy mais aussi quizz musical\, tombola\, etc. Dès 22h\, soirée dansante avec DJ Bernard aux platines ! \nQuand? Le samedi 13 septembre 2025 de 17h30 à 20h30\nOù? École Les Peupliers – Rue des Fruits 73 à 1070 Anderlecht\nCombien? Repas + soirée : 15€/personne – Soirée uniquement\, à partir de 21h : 5€/personne\nInscription? Prévente obligatoire pour le repas et/ou la soirée auprès de Sandra Van Assche 0476 25 42 79 et Michel Arnoldi 0495 71 26 57
URL:https://www.soralia.be/accueil/event/soiree-solidaire-au-profit-de-cap48/
LOCATION:Ecole les Peupliers\, Rue des Fruits 73\, Anderlecht\, Bruxelles\, 1070\, Belgium
CATEGORIES:Bruxelles,Droit & Citoyenneté,Egalité femme-homme,Familles,Général,Loisirs,Santé
ATTACH;FMTTYPE=image/png:https://www.soralia.be/wp-content/uploads/2017/01/calendrier-sept.png
END:VEVENT
BEGIN:VEVENT
DTSTART;TZID=Europe/Paris:20250916T100000
DTEND;TZID=Europe/Paris:20250916T170000
DTSTAMP:20260420T155813
CREATED:20250825T144649Z
LAST-MODIFIED:20250825T144649Z
UID:10006240-1758016800-1758042000@www.soralia.be
SUMMARY:Marché annuel d’Anderlecht
DESCRIPTION:Marché annuel d’Anderlecht\n\nSoralia et Samen Vrouw*\, notre pendant néerlandophone\, participeront au marché annuel d’Anderlecht.\nVenez participer à notre animation et nous rencontrer ! Nous vous apprendrons peut-être quelque chose et vous nous apprendrez peut-être quelque chose aussi ! \nQuand? Le mardi 16 septembre de 10h à 17h\nOù? Place de la Vaillance à 1070 Anderlecht
URL:https://www.soralia.be/accueil/event/marche-annuel-danderlecht/
LOCATION:Marché d’Anderlecht\, Place de la Vaillance\, Anderlecht\, Bruxelles\, 1070\, Belgium
CATEGORIES:Bruxelles,Culture,Droit & Citoyenneté,Egalité femme-homme,Familles,Général,Loisirs,parentalité,Santé
ATTACH;FMTTYPE=image/png:https://www.soralia.be/wp-content/uploads/2017/01/calendrier-sept.png
ORGANIZER;CN="Soralia":MAILTO:soralia.bxl@solidaris.be
END:VEVENT
BEGIN:VEVENT
DTSTART;TZID=Europe/Paris:20250925T180000
DTEND;TZID=Europe/Paris:20250925T200000
DTSTAMP:20260420T155813
CREATED:20250429T125801Z
LAST-MODIFIED:20250905T132648Z
UID:10006136-1758823200-1758830400@www.soralia.be
SUMMARY:Cercle de parole et de soutien pour les Femmes
DESCRIPTION:📣 Les cercles de parole pour les femmes continuent cette année au Planning Familial Rosa\, chaque dernier jeudi du mois (sauf exception). Nous accueillons toujours de nouvelles participantes ! Un moment en toute confidentialité ouvert à toutes les femmes et les personnes qui s’identifient femmes pour parler de sujets que l’on souhaite. Nous vous y accueillerons avec plaisir !❤️\n \nLe prochain cercle de parole aura lieu le jeudi 25 septembre 2025 de 18h à 20h (accueil dès 17h30). \nQuand? Le jeudi 25 septembre 2025 de 18h à 20h (accueil dès 17h30)\nOù? Planning Familial Rosa – Rue du Midi\, 118/120 à 1000 Bruxelles\nCombien? Activité gratuite\nInscription? Réservation souhaitée à soralia.bxl@solidaris.be\n \n\n👉🏻 Evénement Facebook www.facebook.com/events/1173560938013166 \n📅 La prochaine date du cercle est :\nLe jeudi 27 novembre 2025 de 18h à 20h (accueil dès 17h30)
URL:https://www.soralia.be/accueil/event/cercle-de-parole-et-de-soutien-pour-les-femmes-2/
LOCATION:Centre de planning familial Rosa\, Rue du Midi 120\, Bruxelles\, Bruxelles\, 1000\, Belgique
CATEGORIES:Bruxelles,Culture,Droit & Citoyenneté,Egalité femme-homme,Environnement,Familles,Général,Loisirs,parentalité,Santé,Sexualité,Violences
ATTACH;FMTTYPE=image/png:https://www.soralia.be/wp-content/uploads/2017/01/calendrier-sept.png
ORGANIZER;CN="Soralia":MAILTO:soralia.bxl@solidaris.be
END:VEVENT
BEGIN:VEVENT
DTSTART;TZID=Europe/Paris:20250926T173000
DTEND;TZID=Europe/Paris:20250926T203000
DTSTAMP:20260420T155813
CREATED:20250905T123509Z
LAST-MODIFIED:20250929T134035Z
UID:10006250-1758907800-1758918600@www.soralia.be
SUMMARY:Projection du film 'Annie Colère'
DESCRIPTION:Le 28 septembre 2025 prochain sera la journée internationale du droit à l’avortement. Cette journée attire l’attention du monde entier sur le droit et l’accès à un avortement légal et sûr\, qui n’est même pas entièrement garantit en Belgique. En collaboration avec Samen Vrouwen*\, nous organisons un après-midi cinéma au cours duquel nous projetterons le film ‘Annie Colère’. Ce film montre Annie\, qui tombe enceinte de manière imprévue dans la France rurale de 1974. L’avortement étant illégal à l’époque\, Annie n’a pas beaucoup d’options pour y remédier\, jusqu’à ce qu’elle rencontre les membres du MLAC (Mouvement pour la liberté de l’avortement et de la contraception). Ce groupe d’action offre une aide pratique aux femmes et diffuse des connaissances et des informations. Annie est rapidement accueillie en leur sein et s’engage dans la lutte pour la modification de la loi sur l’avortement. Venez le visionner et en discuter avec nous ! \nL’accueil débute à 15h30 avec un drink offert\, suivi d’une présentation du film par l’asbl Elles Tournent à 16h. La projection du film dure deux heures et sera suivie d’un échange d’une trentaine de minutes avec Cynthia Deverchin\, la coordinatrice du planning familial Rosa. \nQuand? Le vendredi 26 septembre 2025 de 17h30 à 20h30\nOù? Amazone asbl (Salle Marie Popelin) – Rue du Méridien 10 à 1210 Saint-Josse-Ten-Noode\nCombien? Le prix de l’entrée est de 3€ (à payer sur place en espèces ou par Payconiq)\nInformations sur le film? Film en VO français sous titré en Néerlandais. Comédie dramatique de Blandine Lenoir par Blandine Lenoir et Axelle Ropert avec Laure Calamy\, Zita Hanrot et India Hair\nInscription? via l’adresse internet suivante: https://shorturl.at/yw9nx
URL:https://www.soralia.be/accueil/event/projection-du-film-annie-colere/
LOCATION:Amazone asbl\, Rue du méridien 10\, Saint-Josse-Ten-Noode\, Bruxelles\, 1210\, Belgium
CATEGORIES:Bruxelles,Culture,Droit & Citoyenneté,Egalité femme-homme,Familles,Général,Santé
ATTACH;FMTTYPE=image/png:https://www.soralia.be/wp-content/uploads/2017/01/calendrier-sept.png
END:VEVENT
BEGIN:VEVENT
DTSTART;TZID=Europe/Paris:20250929T190000
DTEND;TZID=Europe/Paris:20250929T220000
DTSTAMP:20260420T155813
CREATED:20250515T081845Z
LAST-MODIFIED:20250828T092204Z
UID:10006142-1759172400-1759183200@www.soralia.be
SUMMARY:Ciné-débat – Annie Colère à Spa
DESCRIPTION:À l’occasion de la Journée mondiale pour le droit à l’avortement\, le comité Soralia de Spa vous invite à la projection du film Annie Colère de Blandine Lenoir\, en collaboration avec le Centre culturel de Spa-Jalhay-Stoumont. \nLe film : Février 1974. Annie\, ouvrière et mère de deux enfants\, tombe enceinte par accident. Elle rencontre alors le MLAC – Mouvement pour la Liberté de l’Avortement et de la Contraception. Ce collectif engagé\, qui pratique des avortements illégaux\, va bouleverser sa vie. À travers cette immersion\, Annie découvre la solidarité\, l’émancipation\, et un combat qui va donner un tout nouveau sens à son existence. \n\nModalités\nPublic : Tout public \nLieu : Centre culturel de Spa (salle des Capucins)\nRue du Waux-Hall 39\, 4900 Spa \nDate : Lundi 29 septembre 2025 à 18h45 \nPrix : Gratuit \n\nInscription\n1/ Inscrivez vous en cliquant sur ce lien
URL:https://www.soralia.be/accueil/event/cine-debat-annie-colere-a-spa/
LOCATION:Bruxelles
CATEGORIES:Droit & Citoyenneté,Egalité femme-homme,Familles,Santé,Sexualité,Verviers
ATTACH;FMTTYPE=image/jpeg:https://www.soralia.be/wp-content/uploads/2024/08/Aswal-Img-mise-en-avant-1200x630px-Agenda-Soralia-Sept.jpg
END:VEVENT
END:VCALENDAR