BEGIN:VCALENDAR
VERSION:2.0
PRODID:-//Soralia - ECPv6.15.17.1//NONSGML v1.0//EN
CALSCALE:GREGORIAN
METHOD:PUBLISH
X-ORIGINAL-URL:https://www.soralia.be/accueil
X-WR-CALDESC:Évènements pour Soralia
REFRESH-INTERVAL;VALUE=DURATION:PT1H
X-Robots-Tag:noindex
X-PUBLISHED-TTL:PT1H
BEGIN:VTIMEZONE
TZID:Europe/Paris
BEGIN:DAYLIGHT
TZOFFSETFROM:+0100
TZOFFSETTO:+0200
TZNAME:CEST
DTSTART:20200329T010000
END:DAYLIGHT
BEGIN:STANDARD
TZOFFSETFROM:+0200
TZOFFSETTO:+0100
TZNAME:CET
DTSTART:20201025T010000
END:STANDARD
BEGIN:DAYLIGHT
TZOFFSETFROM:+0100
TZOFFSETTO:+0200
TZNAME:CEST
DTSTART:20210328T010000
END:DAYLIGHT
BEGIN:STANDARD
TZOFFSETFROM:+0200
TZOFFSETTO:+0100
TZNAME:CET
DTSTART:20211031T010000
END:STANDARD
BEGIN:DAYLIGHT
TZOFFSETFROM:+0100
TZOFFSETTO:+0200
TZNAME:CEST
DTSTART:20220327T010000
END:DAYLIGHT
BEGIN:STANDARD
TZOFFSETFROM:+0200
TZOFFSETTO:+0100
TZNAME:CET
DTSTART:20221030T010000
END:STANDARD
END:VTIMEZONE
BEGIN:VEVENT
DTSTART;VALUE=DATE:20210611
DTEND;VALUE=DATE:20210617
DTSTAMP:20260422T015859
CREATED:20210528T092641Z
LAST-MODIFIED:20210531T071420Z
UID:10005169-1623369600-1623887999@www.soralia.be
SUMMARY:Exposition “Le Droit de vivre”
DESCRIPTION:L’exposition «le droit de vivre»\, réalisée par Harald Franssen\, retrace l’existence de la sécurité sociale en Belgique. Une aventure «pas gagnée d’avance» pour donner à toutes et tous des droits fondamentaux et un avenir qui nous lie les un·e·s aux autres. \nÀ travers une scénographie originale et dessinée inspirée de la BD «Un coeur en commun\, la belge histoire de la sécurité sociale»\, Harald Franssen nous fait voyager sur deux siècles d’histoire et de combats. Exposition accessible en groupe gratuitement du 11 juin au 16 juillet\, durant les heures d’ouverture de l’Espace Tremplin à Dison. \nDes animations sont également organisées pour les groupes sur réservation. \nModalités ​​\nL’exposition se tient du 11 juin au 16 juillet 2021 à L’Espace Tremplin (rue du moulin\, 30a à Dison). \nLes visites et animations se font en groupes sur réservation dans les heures d’ouverture de l’Espace Tremplin de Dison. \nEn semaine : de 9h00 à 19h00. Le week-end : de 11h00 à 19h00 \nRéservations nécessaires : \nTél.: 0495/52 31 65\nMail : exposition.ledroitdevivre@gmail.com\nSuivez l’exposition sur Facebook : https://www.facebook.com/expoledroitdevivre
URL:https://www.soralia.be/accueil/event/exposition-le-droit-de-vivre/
LOCATION:Espace Tremplin\, Rue du moulin 30a\, Dison
CATEGORIES:Droit & Citoyenneté,Général,Liège,Régional,Thèmes
ATTACH;FMTTYPE=image/png:https://www.soralia.be/wp-content/uploads/2017/01/calendrier-juin.png
ORGANIZER;CN="FPS Li%C3%A8ge":MAILTO:associations.liege@solidaris.be
END:VEVENT
BEGIN:VEVENT
DTSTART;TZID=Europe/Paris:20210614T170000
DTEND;TZID=Europe/Paris:20210614T180000
DTSTAMP:20260422T015859
CREATED:20210528T093319Z
LAST-MODIFIED:20210531T071910Z
UID:10005170-1623690000-1623693600@www.soralia.be
SUMMARY:Facebook live - Et les jeunes là-dedans ?
DESCRIPTION:A l’heure où la lumière se laisse de plus en plus entrevoir au bout du tunnel\, nous souhaitions remettre les jeunes au coeur du débat. Non pas celui qui pointerait leurs manquements mais celui qui tend à rappeler qu’ils et elles ont été bien peu écoutés\, et encore moins entendus\, durant cette crise. \nAu sortir (?) d’une longue période d’isolement forcé\, la santé mentale de nos jeunes a été mise à mal\, comme en témoignent de nombreux pédopsychiatres : anxiété\, décrochage scolaire\, suicides… On les a pointés du doigt\, ignoré leurs appels à l’aide\, minimisé leurs souffrances\, leur détresse financière. On a peu soutenu et admiré leur force de résilience\, l’énergie qu’ils et elles ont dû déployer pour développer de nouvelles compétences (informatiques notamment) et accepter de renoncer à leurs contacts sociaux et leurs hobbys. On a négligé leur besoin de liberté lorsqu’il se fait probablement le plus ressentir et on les a plongés dans un monde sans vrai lendemain… \nLes jeunes ont-ils été les oublié‧e‧s de la crise ? Quelles leçons sont à tirer de tout cela ? On en parle le lundi 14 juin à 17h en présence de jeunes et avec Bernard Devos\, Délégué général aux droits de l’enfant de la Communauté française de Belgique (DGDE) \nModalités\nCet échange sera transmis en direct sur les pages Facebook des FPS Liège et Latitude Jeunes Liège\, asbl organisatrices de cet évènement le 14 juin de 17h à 18h \nwww.facebook.com/fpsliege
URL:https://www.soralia.be/accueil/event/facebook-live-et-les-jeunes-la-dedans/
LOCATION:www.facebook.com/fpsliege/
CATEGORIES:Droit & Citoyenneté,Général,Liège,Régional,Thèmes
ATTACH;FMTTYPE=image/png:https://www.soralia.be/wp-content/uploads/2017/01/calendrier-juin.png
ORGANIZER;CN="FPS Li%C3%A8ge":MAILTO:associations.liege@solidaris.be
END:VEVENT
END:VCALENDAR