BEGIN:VCALENDAR
VERSION:2.0
PRODID:-//Soralia - ECPv6.15.17.1//NONSGML v1.0//EN
CALSCALE:GREGORIAN
METHOD:PUBLISH
X-ORIGINAL-URL:https://www.soralia.be/accueil
X-WR-CALDESC:Évènements pour Soralia
REFRESH-INTERVAL;VALUE=DURATION:PT1H
X-Robots-Tag:noindex
X-PUBLISHED-TTL:PT1H
BEGIN:VTIMEZONE
TZID:Europe/Paris
BEGIN:DAYLIGHT
TZOFFSETFROM:+0100
TZOFFSETTO:+0200
TZNAME:CEST
DTSTART:20200329T010000
END:DAYLIGHT
BEGIN:STANDARD
TZOFFSETFROM:+0200
TZOFFSETTO:+0100
TZNAME:CET
DTSTART:20201025T010000
END:STANDARD
BEGIN:DAYLIGHT
TZOFFSETFROM:+0100
TZOFFSETTO:+0200
TZNAME:CEST
DTSTART:20210328T010000
END:DAYLIGHT
BEGIN:STANDARD
TZOFFSETFROM:+0200
TZOFFSETTO:+0100
TZNAME:CET
DTSTART:20211031T010000
END:STANDARD
BEGIN:DAYLIGHT
TZOFFSETFROM:+0100
TZOFFSETTO:+0200
TZNAME:CEST
DTSTART:20220327T010000
END:DAYLIGHT
BEGIN:STANDARD
TZOFFSETFROM:+0200
TZOFFSETTO:+0100
TZNAME:CET
DTSTART:20221030T010000
END:STANDARD
END:VTIMEZONE
BEGIN:VEVENT
DTSTART;TZID=Europe/Paris:20210625T180000
DTEND;TZID=Europe/Paris:20210625T200000
DTSTAMP:20260422T015856
CREATED:20210608T141538Z
LAST-MODIFIED:20210608T141841Z
UID:10005185-1624644000-1624651200@www.soralia.be
SUMMARY:Atelier slogans - Toutes soeurcières !
DESCRIPTION:Dans le cadre du projet « toutes soeurcières » en collaboration avec le PAC MB\, la Maison Losseau et le secteur littérature de la province du Hainaut. \nInauguration de la guinguette littéraire à la Maison Losseau (Mons). Dans ce cadre\, le PAC en collaboration avec Soralia animeront un atelier slogans autour de la thématique des sorcières. \nTout au long de l’été\, différents ateliers d’écriture seront également proposés autour de l’expo « avant le coucher du soleil » :    https://www.maisonlosseau.be/event/atelier-decriture-deambulatoire-expo/
URL:https://www.soralia.be/accueil/event/toutes-soeurcieres/
LOCATION:Maison Losseau (Mons).
CATEGORIES:Droit & Citoyenneté,Egalité femme-homme,Général,Mons-Borinage,Régional,Thèmes
ATTACH;FMTTYPE=image/png:https://www.soralia.be/wp-content/uploads/2017/01/calendrier-juin.png
ORGANIZER;CN="FPS Mons Borinage":MAILTO:fps.315@solidaris.be
END:VEVENT
END:VCALENDAR