BEGIN:VCALENDAR
VERSION:2.0
PRODID:-//Soralia - ECPv6.15.17.1//NONSGML v1.0//EN
CALSCALE:GREGORIAN
METHOD:PUBLISH
X-WR-CALNAME:Soralia
X-ORIGINAL-URL:https://www.soralia.be/accueil
X-WR-CALDESC:Évènements pour Soralia
REFRESH-INTERVAL;VALUE=DURATION:PT1H
X-Robots-Tag:noindex
X-PUBLISHED-TTL:PT1H
BEGIN:VTIMEZONE
TZID:Europe/Paris
BEGIN:DAYLIGHT
TZOFFSETFROM:+0100
TZOFFSETTO:+0200
TZNAME:CEST
DTSTART:20200329T010000
END:DAYLIGHT
BEGIN:STANDARD
TZOFFSETFROM:+0200
TZOFFSETTO:+0100
TZNAME:CET
DTSTART:20201025T010000
END:STANDARD
BEGIN:DAYLIGHT
TZOFFSETFROM:+0100
TZOFFSETTO:+0200
TZNAME:CEST
DTSTART:20210328T010000
END:DAYLIGHT
BEGIN:STANDARD
TZOFFSETFROM:+0200
TZOFFSETTO:+0100
TZNAME:CET
DTSTART:20211031T010000
END:STANDARD
BEGIN:DAYLIGHT
TZOFFSETFROM:+0100
TZOFFSETTO:+0200
TZNAME:CEST
DTSTART:20220327T010000
END:DAYLIGHT
BEGIN:STANDARD
TZOFFSETFROM:+0200
TZOFFSETTO:+0100
TZNAME:CET
DTSTART:20221030T010000
END:STANDARD
END:VTIMEZONE
BEGIN:VEVENT
DTSTART;TZID=Europe/Paris:20210826T140000
DTEND;TZID=Europe/Paris:20210826T170000
DTSTAMP:20260422T033157
CREATED:20210726T075009Z
LAST-MODIFIED:20210728T113050Z
UID:10005206-1629986400-1629997200@www.soralia.be
SUMMARY:CET ÉTÉ\, VENEZ JOUER AVEC NOUS !
DESCRIPTION:CET ÉTÉ\, VENEZ JOUER AVEC NOUS !\nEn 2020\,  deux groupes de travail des FPS ont mis au point deux nouveaux outils d’animation que nous avons hâte de vous faire découvrir.\nIl s’agit de deux jeux interactifs portant sur des matières parfois difficiles à aborder avec des groupes et qui par leur caractère ludique rend ces sujets beaucoup plus abordable.\nNous avons eu à maintes reprises l’occasion de collaborer ensemble dans votre association ou dans votre groupe local\, c’est pourquoi nous aimerions vous présenter ces deux nouveautés en avant première. \nFAMILIAL PURSUIT\n\nCet outil prend la forme d’un jeu de plateau  et suit le fil narratif suivant : un personnage malfaisant (nommé « M. Capital ») prend les rênes de Solidar’Land et entreprend de réduire au maximum les dépenses publiques. Le bien-être et les droits des 8 familles du jeu sont alors menacés. Les participant·e·s doivent s’unir pour relever des défis et ainsi contrer la mise en place des mesures nocives. \nAujourd’hui\, et plus que jamais\, face à la précarisation et à l’évolution des formes familiales\, il nous a semblé essentiel de renforcer les familles dans la compréhension de leurs droits des politiques familiales mises en œuvre dans la lasagne institutionnelle. Le jeu permet de répondre à une multitudes de questions de la vie de tous les jours des familles. \nLe jeudi 26/08/21 de 14h à 17\nFMSB\, Bd. lemonnier 41 à 1000 bruxelles (2ème étage – salle Mandela/Pierson) \nParticipation gratuite – Inscription indispensable et infos au 02 546 14 12 ou 13 ou sur fps-fam@fmsb.be (nombre de places limitées) \nAttestation de participation délivrée.
URL:https://www.soralia.be/accueil/event/cet-ete-venez-jouer-avec-nous-2/
LOCATION:Solidaris Brabant Bd Maurice Lemonnier 41 à 1000 Bruxelles\, Bd Maurice Lemonnier 41\, Bruxelles\, Bruxelles\, 1000\, Belgique
CATEGORIES:Bruxelles,Droit & Citoyenneté,Egalité femme-homme,Familles,Régional,Thèmes
ATTACH;FMTTYPE=image/png:https://www.soralia.be/wp-content/uploads/2017/01/calendrier-aout.png
END:VEVENT
END:VCALENDAR