BEGIN:VCALENDAR
VERSION:2.0
PRODID:-//Soralia - ECPv6.15.17.1//NONSGML v1.0//EN
CALSCALE:GREGORIAN
METHOD:PUBLISH
X-WR-CALNAME:Soralia
X-ORIGINAL-URL:https://www.soralia.be/accueil
X-WR-CALDESC:Évènements pour Soralia
REFRESH-INTERVAL;VALUE=DURATION:PT1H
X-Robots-Tag:noindex
X-PUBLISHED-TTL:PT1H
BEGIN:VTIMEZONE
TZID:Europe/Paris
BEGIN:DAYLIGHT
TZOFFSETFROM:+0100
TZOFFSETTO:+0200
TZNAME:CEST
DTSTART:20200329T010000
END:DAYLIGHT
BEGIN:STANDARD
TZOFFSETFROM:+0200
TZOFFSETTO:+0100
TZNAME:CET
DTSTART:20201025T010000
END:STANDARD
BEGIN:DAYLIGHT
TZOFFSETFROM:+0100
TZOFFSETTO:+0200
TZNAME:CEST
DTSTART:20210328T010000
END:DAYLIGHT
BEGIN:STANDARD
TZOFFSETFROM:+0200
TZOFFSETTO:+0100
TZNAME:CET
DTSTART:20211031T010000
END:STANDARD
BEGIN:DAYLIGHT
TZOFFSETFROM:+0100
TZOFFSETTO:+0200
TZNAME:CEST
DTSTART:20220327T010000
END:DAYLIGHT
BEGIN:STANDARD
TZOFFSETFROM:+0200
TZOFFSETTO:+0100
TZNAME:CET
DTSTART:20221030T010000
END:STANDARD
END:VTIMEZONE
BEGIN:VEVENT
DTSTART;TZID=Europe/Paris:20211022T100000
DTEND;TZID=Europe/Paris:20211022T120000
DTSTAMP:20260419T204745
CREATED:20210830T095440Z
LAST-MODIFIED:20210830T095440Z
UID:10005318-1634896800-1634904000@www.soralia.be
SUMMARY:Atelier d'écriture en ligne
DESCRIPTION:L’écriture est un terrain de jeu car écrire\, c’est jouer. Nous vous proposons des exercices d’écriture\, des jeux de mots pour écrire des choses inhabituelles qui nous entraîneront dans l’écriture de façon dynamique\, surprenante\, inattendue à notre sauce féministe ! \nA partir de photos que vous chérissez\, celles de votre été\, de livres découverts\, des morceaux de musiques\, d’objets insolites\, nous nous plongerons dans l’écriture et ses textes créatifs et/ou engagés composés de mots\, de phrases transformés\, détournés\, répétés… \nAmbiance chaleureuse et respectueuse. \nAtelier gratuit en ligne via la plateforme teams  \n1 rdv par mois \nInfos & inscription au 071/507.819 ou via fps.charleroi@solidaris.be  \n  \n 
URL:https://www.soralia.be/accueil/event/atelier-decriture-en-ligne/2021-10-22/
LOCATION:plateforme en ligne Teams
CATEGORIES:Charleroi,Droit & Citoyenneté,Egalité femme-homme,Régional,Thèmes
ATTACH;FMTTYPE=image/png:https://www.soralia.be/wp-content/uploads/2017/01/calendrier-sept.png
END:VEVENT
END:VCALENDAR