BEGIN:VCALENDAR
VERSION:2.0
PRODID:-//Soralia - ECPv6.15.17.1//NONSGML v1.0//EN
CALSCALE:GREGORIAN
METHOD:PUBLISH
X-ORIGINAL-URL:https://www.soralia.be/accueil
X-WR-CALDESC:Évènements pour Soralia
REFRESH-INTERVAL;VALUE=DURATION:PT1H
X-Robots-Tag:noindex
X-PUBLISHED-TTL:PT1H
BEGIN:VTIMEZONE
TZID:Europe/Paris
BEGIN:DAYLIGHT
TZOFFSETFROM:+0100
TZOFFSETTO:+0200
TZNAME:CEST
DTSTART:20200329T010000
END:DAYLIGHT
BEGIN:STANDARD
TZOFFSETFROM:+0200
TZOFFSETTO:+0100
TZNAME:CET
DTSTART:20201025T010000
END:STANDARD
BEGIN:DAYLIGHT
TZOFFSETFROM:+0100
TZOFFSETTO:+0200
TZNAME:CEST
DTSTART:20210328T010000
END:DAYLIGHT
BEGIN:STANDARD
TZOFFSETFROM:+0200
TZOFFSETTO:+0100
TZNAME:CET
DTSTART:20211031T010000
END:STANDARD
BEGIN:DAYLIGHT
TZOFFSETFROM:+0100
TZOFFSETTO:+0200
TZNAME:CEST
DTSTART:20220327T010000
END:DAYLIGHT
BEGIN:STANDARD
TZOFFSETFROM:+0200
TZOFFSETTO:+0100
TZNAME:CET
DTSTART:20221030T010000
END:STANDARD
END:VTIMEZONE
BEGIN:VEVENT
DTSTART;TZID=Europe/Paris:20211128T140000
DTEND;TZID=Europe/Paris:20211128T210000
DTSTAMP:20260424T183447
CREATED:20211115T150235Z
LAST-MODIFIED:20211115T161648Z
UID:10005370-1638108000-1638133200@www.soralia.be
SUMMARY:Exposition "Femmes debout à travers l’art"
DESCRIPTION:Exposition femmes debout à travers l’art \nDans le cadre de la journée internationale pour l’élimination de la violence à l’égard des femmes\, les Femmes Prévoyantes Socialistes de Koekelberg ont choisi de mettre à l’honneur les femmes à travers l’art. \nLe dimanche 28 novembre 2021 \nEntrée libre  \nSalle De Platoo \nAvenue du Panthéon 14 à Koekelberg  \n  \nProgramme: \n14:00 début de l’exposition \n16:00 poésie \n18:00 chant \n19:00 poésie \n20:00 musique et spectacle de clôture de la soirée. \n  \nLes artistes qui vont présenter leur œuvres sont: \nZineb Azmani Matar \nAnca Codrea \nHafida Lamarti \nCatherine Reynaerts \nMalika Jami \nGhezala Cherifi \nMyriam Van Kerk \nBernard Genon \nAmina Boujeddaine \nVisney Piroska
URL:https://www.soralia.be/accueil/event/exposition-femmes-debout-a-travers-lart/
LOCATION:De Platoo\, 14 Avenue du Panthéon\, Koekelberg\, Bruxelles\, 1081\, Belgique
CATEGORIES:Bruxelles,Culture,Droit & Citoyenneté,Egalité femme-homme,Général,Loisirs,Régional,Thèmes
ATTACH;FMTTYPE=image/png:https://www.soralia.be/wp-content/uploads/2017/01/calendrier-nov.png
END:VEVENT
END:VCALENDAR