BEGIN:VCALENDAR
VERSION:2.0
PRODID:-//Soralia - ECPv6.15.17.1//NONSGML v1.0//EN
CALSCALE:GREGORIAN
METHOD:PUBLISH
X-ORIGINAL-URL:https://www.soralia.be/accueil
X-WR-CALDESC:Évènements pour Soralia
REFRESH-INTERVAL;VALUE=DURATION:PT1H
X-Robots-Tag:noindex
X-PUBLISHED-TTL:PT1H
BEGIN:VTIMEZONE
TZID:Europe/Paris
BEGIN:DAYLIGHT
TZOFFSETFROM:+0100
TZOFFSETTO:+0200
TZNAME:CEST
DTSTART:20200329T010000
END:DAYLIGHT
BEGIN:STANDARD
TZOFFSETFROM:+0200
TZOFFSETTO:+0100
TZNAME:CET
DTSTART:20201025T010000
END:STANDARD
BEGIN:DAYLIGHT
TZOFFSETFROM:+0100
TZOFFSETTO:+0200
TZNAME:CEST
DTSTART:20210328T010000
END:DAYLIGHT
BEGIN:STANDARD
TZOFFSETFROM:+0200
TZOFFSETTO:+0100
TZNAME:CET
DTSTART:20211031T010000
END:STANDARD
BEGIN:DAYLIGHT
TZOFFSETFROM:+0100
TZOFFSETTO:+0200
TZNAME:CEST
DTSTART:20220327T010000
END:DAYLIGHT
BEGIN:STANDARD
TZOFFSETFROM:+0200
TZOFFSETTO:+0100
TZNAME:CET
DTSTART:20221030T010000
END:STANDARD
END:VTIMEZONE
BEGIN:VEVENT
DTSTART;TZID=Europe/Paris:20210423T100000
DTEND;TZID=Europe/Paris:20210423T120000
DTSTAMP:20260424T170754
CREATED:20210211T132046Z
LAST-MODIFIED:20210407T080231Z
UID:10005042-1619172000-1619179200@www.soralia.be
SUMMARY:Animation sur l'individualisation des droits sociaux
DESCRIPTION:Une société égalitaire passe aussi par l’individualisation des droits sociaux \nEn cotisant à la Sécurité sociale\, les travailleur.ses s’ouvrent des droits sociaux propres mais aussi des droits dérivés pour leurs enfants et éventuellement leur partenaire s’il ou elle est sans revenu professionnel. Jusqu’à l’heure actuelle\, les droits sociaux mais aussi les allocations sociales sont conditionnés par la situation familiale et plongent les bénéficiaires des droits dérivés dans une situation de dépendance. Une personne ne percevra donc pas le même montant si elle est mariée\, cohabitante ou isolée. Historiquement\, le système de Sécurité sociale fonctionne selon le modèle familial homme gagne-pain et femme au foyer. Notre société évolue et de nouvelles configurations familiales ont vu le jour\, il est donc important de concevoir les droits sociaux en fonction de l’individu et non plus de sa situation familiale. \nVous souhaitez en savoir plus sur l’individualisation des droits sociaux\, les raisons de ces mesures\, leurs conséquences dans l’optique de lutter pour une société plus égalitaire ? \nParticipez à l’animation virtuelle le 23 avril de 10h à 12h\, c’est gratuit ! \nPlus d’infos et inscriptions :  fps.provincenamur@solidaris.be ou au 081/777.194 \n 
URL:https://www.soralia.be/accueil/event/animation-sur-lindividualisation-des-droits-sociaux/
LOCATION:Solidaris Saint-Servais\, chaussée de Waterloo 182\, 5002 Saint-Servais\, Namur\, 5002\, Belgique
CATEGORIES:Droit & Citoyenneté,Général,Namur,Régional,Thèmes
ATTACH;FMTTYPE=image/png:https://www.soralia.be/wp-content/uploads/2017/01/calendrier-avril.png
ORGANIZER;CN="FPS Namur":MAILTO:fps.provincenamur@solidaris.be
END:VEVENT
END:VCALENDAR