BEGIN:VCALENDAR
VERSION:2.0
PRODID:-//Soralia - ECPv6.15.17.1//NONSGML v1.0//EN
CALSCALE:GREGORIAN
METHOD:PUBLISH
X-ORIGINAL-URL:https://www.soralia.be/accueil
X-WR-CALDESC:Évènements pour Soralia
REFRESH-INTERVAL;VALUE=DURATION:PT1H
X-Robots-Tag:noindex
X-PUBLISHED-TTL:PT1H
BEGIN:VTIMEZONE
TZID:Europe/Paris
BEGIN:DAYLIGHT
TZOFFSETFROM:+0100
TZOFFSETTO:+0200
TZNAME:CEST
DTSTART:20200329T010000
END:DAYLIGHT
BEGIN:STANDARD
TZOFFSETFROM:+0200
TZOFFSETTO:+0100
TZNAME:CET
DTSTART:20201025T010000
END:STANDARD
BEGIN:DAYLIGHT
TZOFFSETFROM:+0100
TZOFFSETTO:+0200
TZNAME:CEST
DTSTART:20210328T010000
END:DAYLIGHT
BEGIN:STANDARD
TZOFFSETFROM:+0200
TZOFFSETTO:+0100
TZNAME:CET
DTSTART:20211031T010000
END:STANDARD
BEGIN:DAYLIGHT
TZOFFSETFROM:+0100
TZOFFSETTO:+0200
TZNAME:CEST
DTSTART:20220327T010000
END:DAYLIGHT
BEGIN:STANDARD
TZOFFSETFROM:+0200
TZOFFSETTO:+0100
TZNAME:CET
DTSTART:20221030T010000
END:STANDARD
END:VTIMEZONE
BEGIN:VEVENT
DTSTART;TZID=Europe/Paris:20210622T193000
DTEND;TZID=Europe/Paris:20210622T213000
DTSTAMP:20260422T062847
CREATED:20210602T101143Z
LAST-MODIFIED:20210604T082645Z
UID:10005176-1624390200-1624397400@www.soralia.be
SUMMARY:Cycle de rencontres - Résister et militer au féminin
DESCRIPTION:A l’initiative des FPS d’Evere le projet « Résister et militer au féminin » est porté aujourd’hui par la Régionale des FPS du Brabant et l’ensemble de ses comités locaux. \nIl s’agit de rencontres avec des femmes qui ont une action positive et significative dans la lutte pour l’égalité. Elles sont actives dans beaucoup de domaines de la vie où subsistent des discriminations de genre\, que ce soit dans la culture\, l’action sociale\, l’enseignement ou encore pour surmonter un handicap. Chaque rencontre fera l’objet d’un échange avec le public. Tous ces témoignages seront ensuite publiés dans un recueil qui paraîtra au printemps 2022. \nLa première rencontre se déroulera le mardi 22 juin 2021 avec Pascale FALEK sur le thème « Construire des ponts pour favoriser l’échange » \nPour tous renseignements et les dates des rencontres\, veuillez contacter l’équipe des FPS du Brabant au 02 546 14 12 ou 13 – fps-fam@fmsb.be
URL:https://www.soralia.be/accueil/event/resister-et-militer-au-feminin/
LOCATION:Salle Freddy Thielemans – Rue de Wand 93 à 1020 Laeken\, Rue de Wand 93\, Laeken\, Bruxelles\, 1020\, Belgique
CATEGORIES:Bruxelles,Droit & Citoyenneté,Egalité femme-homme,Général,Régional,Thèmes
ATTACH;FMTTYPE=image/png:https://www.soralia.be/wp-content/uploads/2017/01/calendrier-juin.png
ORGANIZER;CN="Comit%C3%A9 local FPS de Evere":MAILTO:fps-fam@fmsb.be
END:VEVENT
BEGIN:VEVENT
DTSTART;TZID=Europe/Paris:20210624T183000
DTEND;TZID=Europe/Paris:20210624T203000
DTSTAMP:20260422T062847
CREATED:20210212T095503Z
LAST-MODIFIED:20210614T071604Z
UID:10005044-1624559400-1624566600@www.soralia.be
SUMMARY:Les ateliers Théâtre-action des Sans poids ni loi
DESCRIPTION:Vous voulez vous exprimer par le théâtre ? Créer\, écrire\, jouer des saynètes ? Venez rejoindre la troupe des Sans poids ni loi deux jeudis par mois. \nOù ? Centre Culturel de Chapelle-Lez-Herlaimont – Place de l’Hôtel de Ville 17\nGratuit \nRenseignements et inscriptions obligatoires : 071/507 820 – fps.cs@solidaris.be \n 
URL:https://www.soralia.be/accueil/event/les-ateliers-theatre-action-des-sans-poids-ni-loi-evenement-en-ligne/
CATEGORIES:Centre & Soignies,Droit & Citoyenneté,Général,Régional,Thèmes
ATTACH;FMTTYPE=image/png:https://www.soralia.be/wp-content/uploads/2017/01/calendrier-juin.png
ORGANIZER;CN="FPS Centre & Soignies":MAILTO:fps.cs@solidaris.be
END:VEVENT
BEGIN:VEVENT
DTSTART;TZID=Europe/Paris:20210625T180000
DTEND;TZID=Europe/Paris:20210625T200000
DTSTAMP:20260422T062847
CREATED:20210608T141538Z
LAST-MODIFIED:20210608T141841Z
UID:10005185-1624644000-1624651200@www.soralia.be
SUMMARY:Atelier slogans - Toutes soeurcières !
DESCRIPTION:Dans le cadre du projet « toutes soeurcières » en collaboration avec le PAC MB\, la Maison Losseau et le secteur littérature de la province du Hainaut. \nInauguration de la guinguette littéraire à la Maison Losseau (Mons). Dans ce cadre\, le PAC en collaboration avec Soralia animeront un atelier slogans autour de la thématique des sorcières. \nTout au long de l’été\, différents ateliers d’écriture seront également proposés autour de l’expo « avant le coucher du soleil » :    https://www.maisonlosseau.be/event/atelier-decriture-deambulatoire-expo/
URL:https://www.soralia.be/accueil/event/toutes-soeurcieres/
LOCATION:Maison Losseau (Mons).
CATEGORIES:Droit & Citoyenneté,Egalité femme-homme,Général,Mons-Borinage,Régional,Thèmes
ATTACH;FMTTYPE=image/png:https://www.soralia.be/wp-content/uploads/2017/01/calendrier-juin.png
ORGANIZER;CN="FPS Mons Borinage":MAILTO:fps.315@solidaris.be
END:VEVENT
BEGIN:VEVENT
DTSTART;TZID=Europe/Paris:20210626T103000
DTEND;TZID=Europe/Paris:20210626T120000
DTSTAMP:20260422T062847
CREATED:20210607T150612Z
LAST-MODIFIED:20210609T124919Z
UID:10005179-1624703400-1624708800@www.soralia.be
SUMMARY:Cycle de réflexion sur la précarité des femmes
DESCRIPTION:Soralia de Forest vous proposent un cycle de réflexion sur la précarité des femmes.\nLors de cette deuxième rencontre\, nous recevrons Fatiha Saidi qui nous parlera de l’extrême pauvreté des femmes et de son expérience par le biais de son livre « Dans la peau d’une femme mendiante ».\n\nIntéressé.e?\nAlors rejoignez-nous en ligne.\nLe samedi 26 juin 2021 à 10h30 (par Zoom).\nInscription obligatoire jusqu’au 24 juin 2021 par mail : patricia.seront@fmsb.be\nLe lien Zoom vous sera ensuite envoyé.\n\nLes droits d’auteur de cet ouvrage sont intégralement versés à l’association « Resto du coeur – Maison de la Solidarité » de Namur.\nVous pouvez commander ce livre dans toutes les bonnes librairies.\nEditions La Boîte à Pandore\nwww.laboiteapandore.fr
URL:https://www.soralia.be/accueil/event/cycle-de-reflexion-sur-la-precarite-des-femmes/
CATEGORIES:Bruxelles,Culture,Droit & Citoyenneté,Egalité femme-homme,Général,Régional,Thèmes
ATTACH;FMTTYPE=image/png:https://www.soralia.be/wp-content/uploads/2017/01/calendrier-juin.png
END:VEVENT
END:VCALENDAR