BEGIN:VCALENDAR
VERSION:2.0
PRODID:-//Soralia - ECPv6.15.17.1//NONSGML v1.0//EN
CALSCALE:GREGORIAN
METHOD:PUBLISH
X-WR-CALNAME:Soralia
X-ORIGINAL-URL:https://www.soralia.be/accueil
X-WR-CALDESC:Évènements pour Soralia
REFRESH-INTERVAL;VALUE=DURATION:PT1H
X-Robots-Tag:noindex
X-PUBLISHED-TTL:PT1H
BEGIN:VTIMEZONE
TZID:Europe/Paris
BEGIN:DAYLIGHT
TZOFFSETFROM:+0100
TZOFFSETTO:+0200
TZNAME:CEST
DTSTART:20210328T010000
END:DAYLIGHT
BEGIN:STANDARD
TZOFFSETFROM:+0200
TZOFFSETTO:+0100
TZNAME:CET
DTSTART:20211031T010000
END:STANDARD
BEGIN:DAYLIGHT
TZOFFSETFROM:+0100
TZOFFSETTO:+0200
TZNAME:CEST
DTSTART:20220327T010000
END:DAYLIGHT
BEGIN:STANDARD
TZOFFSETFROM:+0200
TZOFFSETTO:+0100
TZNAME:CET
DTSTART:20221030T010000
END:STANDARD
BEGIN:DAYLIGHT
TZOFFSETFROM:+0100
TZOFFSETTO:+0200
TZNAME:CEST
DTSTART:20230326T010000
END:DAYLIGHT
BEGIN:STANDARD
TZOFFSETFROM:+0200
TZOFFSETTO:+0100
TZNAME:CET
DTSTART:20231029T010000
END:STANDARD
END:VTIMEZONE
BEGIN:VEVENT
DTSTART;TZID=Europe/Paris:20220304T093000
DTEND;TZID=Europe/Paris:20220312T170000
DTSTAMP:20260424T124945
CREATED:20220215T113842Z
LAST-MODIFIED:20220215T113842Z
UID:10005450-1646386200-1647104400@www.soralia.be
SUMMARY:Expo - Que portais-tu ce jour-là ?
DESCRIPTION:Dans le cadre de la Journée internationale des droits des femmes\, le comité local FPS de Tubize\, en collaboration avec le Centre culturel de Tubize\, propose l’exposition « Que portais-tu ce jour-là » d’Amnesty Internationale. \nVernissage : le 4 mars à 19h30 \nInfos : anne.gerard@solidaris.be
URL:https://www.soralia.be/accueil/event/expo-que-portais-tu-ce-jour-la/
LOCATION:Centre culturel de Tubize\, Boulevard Georges Deryck\, 124 \, Tubize
CATEGORIES:Brabant wallon,Droit & Citoyenneté,Egalité femme-homme,Régional,Thèmes
ORGANIZER;CN="Comit%C3%A9 local FPS de Tubize":MAILTO:fps.tubize@gmail.com
END:VEVENT
BEGIN:VEVENT
DTSTART;TZID=Europe/Paris:20220308T120000
DTEND;TZID=Europe/Paris:20220308T140000
DTSTAMP:20260424T124945
CREATED:20220215T103921Z
LAST-MODIFIED:20220215T153508Z
UID:10005446-1646740800-1646748000@www.soralia.be
SUMMARY:Lancement d'une fresque féministe
DESCRIPTION:Les régionaSoralia Verviers et PAC Verviers s’associent pour la réalisation d’une fresque féministe au coeur de Verviers.\nCelle-ci sera réalisée par le Collectif d’artistes « 7ème gauche ».\nElle reflètera de nombreuses réflexions issues de marches exploratoires et d’ateliers participatifs rassemblant des femmes de divers horizons. \nAvec le soutien de la FWB\, la Région Wallonne\, la Province et la Ville de Verviers. \n\nLa fresque\nAu cours d’ateliers co-réalisés avec des femmes de Verviers\, de nombreuses pistes ont été évoquées pour cette fresque dont nous rêvions et qui sera réalisée par le Collectif d’artistes « 7ème gauche ». \nSur base des idées\, des envies et des sujets positifs comme négatifs autour des femmes et de leur place dans notre monde\, le travail du Collectif fût d’organiser toute cette réflexion afin de pouvoir la traduire en une image générale et collective : 5 femmes de couleurs différentes\, qui tiennent en équilibre les unes contre les autres (comme des «acrobates»). L’idée est de montrer à travers ces silhouettes cette sororité\, ce soutien que les femmes peuvent s’apporter mutuellement. C’est un jeu d’équilibre qui joue aussi avec les formes du mur et ses contraintes.\nLorsque l’on regardera le mur de loin\, on pourra voir et s’amuser de ce jeu de formes et de couleurs qui apporteront de la gaîté à l’entrée de la ville. Créer des silhouettes aux corps et aux coiffures différents pour rendre compte d’une certaine diversité.\nA l’intérieur de ces formes\, sera illustré des idées évoquées pendant les ateliers : des actions\, des métiers\, des femmes ensemble\, la question du handicap\, la sororité\, Marie Mineur\, le mouvement «No Bra»\, les violences faites aux femmes\, le droit de vote etc…\nPour aérer et pour que tout cet ensemble reste lisible\, les dessins\, ainsi que certaines zones\, seront liés par de la végétation. \nPlus d’infos : fps.verviers@solidaris.be \n\nLes rendez-vous\nLancement de la réalisation de la fresque\nAttention\, cet événement est susceptible d’être reporté\, car la peinture doit être réalisée dans des conditions météorologiques favorables. \nDate : le 08/03/22 à 12h\nLieu : rue de Heusy à 4800 Verviers – parking > mur du n73 (Institut de beauté Atlantide)\nPublic : bienvenue à toutes et tous\nPrix : gratuit
URL:https://www.soralia.be/accueil/event/une-fresque-feministe-a-verviers/
LOCATION:Institut de beauté Atlantide\, Rue de Heusy\, Verviers\, 4800
CATEGORIES:Culture,Droit & Citoyenneté,Egalité femme-homme,Général,Régional,Thèmes,Verviers
ATTACH;FMTTYPE=image/png:https://www.soralia.be/wp-content/uploads/2017/01/calendrier-mars.png
END:VEVENT
BEGIN:VEVENT
DTSTART;TZID=Europe/Paris:20220308T153000
DTEND;TZID=Europe/Paris:20220308T200000
DTSTAMP:20260424T124945
CREATED:20220215T103257Z
LAST-MODIFIED:20220308T104110Z
UID:10005444-1646753400-1646769600@www.soralia.be
SUMMARY:Cycloparade 2022
DESCRIPTION:A Liège\, on bouge pour les droits des femmes !\n\nA vélo\, en roller\, en poussette\, en skate ou à pied\, rejoignez-nous pour la 5ème édition de la cylcoparade féministe !\nParce qu’à Liège\, on ose bouger pour les droits des femmes ! \nSoralia de Liège font partie de « Collectives et Ardentes »\, le collectif organisateur de ce grand événement annuel liégeois . \n\nAu programme de cette année\n \nPour la 5ème édition consécutive\, la plateforme Collectives et Ardentes organise sa Cycloparade féministe ! \nEn vélo\, en cuistax\, en roller\, en poussette\, en skate… ou à pieds\, venez nous rejoindre pour parader dans les rues de la Cité Ardente afin de défendre les revendications multiples\, différentes et complémentaires en faveur du respect des droits des femmes. \nNotre action dans l’espace public est aussi un symbole fort\, qui veut rappeler la vraie signification de cette journée\, loin d’une journée des femmes\, rose et fleurie\, nous marchons pour les droits des femmes ! Ailleurs dans le monde\, être une femme à vélo\, sur des roues\, est un acte punissable. Participer à la Cycloparade\, c’est militer pour l’émancipation\, la mobilité des femmes et la présence des femmes dans l’espace public. \nLa parade sera précédée d’un rassemblement féministe\, solidaire et festif ouvert à tous et toutes avec de nombreuses animations prévues (dans le respect des normes sanitaires) : \nProgramme de la journée :\n15h30 : Rendez-vous au Parc de la Boverie pour le rassemblement féministe\n16h00 : Chorale des Frangines\n17h00 : Départ de la parade\n18h30 : Arrivée Place Xavier Neujean \n\nModalités\nLieu : Parc de la Boverie\nPrix : Gratuit\nInfos : www.cycloparade.be
URL:https://www.soralia.be/accueil/event/cycloparade-2022/
LOCATION:Parc de la Boverie\, Liège
CATEGORIES:Droit & Citoyenneté,Général,Liège,Régional,Thèmes
ATTACH;FMTTYPE=image/png:https://www.soralia.be/wp-content/uploads/2017/01/calendrier-mars.png
ORGANIZER;CN="FPS Li%C3%A8ge":MAILTO:associations.liege@solidaris.be
END:VEVENT
BEGIN:VEVENT
DTSTART;TZID=Europe/Paris:20220308T193000
DTEND;TZID=Europe/Paris:20220308T220000
DTSTAMP:20260424T124945
CREATED:20220214T104615Z
LAST-MODIFIED:20220215T153819Z
UID:10005441-1646767800-1646776800@www.soralia.be
SUMMARY:Ciné-débat "Dans la maison"
DESCRIPTION:Le Comité éverois des FPS\, soutenu par l’Echevine de l’Egalité des Chances\, Véronique Levieux\, vous propose d’assister à la projection du film de Karima Saidi « Dans la maison ». La séance sera suivie d’un débat animé par Deborah Corten avec la présence de Karima Saidi\, réalisatrice\, et Ina Lichtenberg\, artiste.\n\n\n\nQuand?\nLe mardi 8 mars 2022 à 19h30\n\n\n\nOù?\nEspace Toots – Rue Edouard Stuckens 125 à 1140 Evere\n\n\n\nActivité gratuite!\n\nInscriptions obligatoires au 02 563 60 65 ou par email à ddo@evere.brussels\n\n\n\n\n\nCST obligatoire
URL:https://www.soralia.be/accueil/event/13491/
LOCATION:Espace Toots\, Rue Ed.Stuckens 125\, Evere\, 1140\, Belgique
CATEGORIES:Bruxelles,Culture,Droit & Citoyenneté,Familles,Régional,Santé,Thèmes
ATTACH;FMTTYPE=image/png:https://www.soralia.be/wp-content/uploads/2017/01/calendrier-mars.png
END:VEVENT
BEGIN:VEVENT
DTSTART;TZID=Europe/Paris:20220308T200000
DTEND;TZID=Europe/Paris:20220308T230000
DTSTAMP:20260424T124945
CREATED:20220215T103633Z
LAST-MODIFIED:20220215T103633Z
UID:10005445-1646769600-1646780400@www.soralia.be
SUMMARY:Ciné-débat : Ouistreham
DESCRIPTION:Dans le cadre des événements autour de la Journée Internationale des Droits des Femmes\, Soralia vous invitent au cinéma !\n\nLe 8 mars\, c’est la Journée internationale pour les droits DES Femmes et non la Journée de LA Femme\, comme on entend souvent le dire ! En effet\, la femme n’est pas un objet social comme la paix ou le tabac. Les femmes constituent un groupe complexe\, elles sont toutes différentes\, avec des luttes plus ou moins avancées selon les pays\, selon le contexte. Le 8 mars\, il s’agit pas d’offrir une fleur ou un parfum aux femmes que l’on aime\, il s’agit de rappeler qu’aujourd’hui\, encore\, une femme n’égale pas un homme. \nLe 8 mars\, c’est un moment de réflexion et de visibilité pour les associations de défense des droits des femmes. C’est aussi une occasion unique de focaliser l’attention des médias\, des politiques et de l’opinion publique sur les inégalités et les injustices dont les femmes sont victimes à travers le monde. Cette journée trouve son origine en 1910\, où elle est proposée lors de la conférence internationale des femmes socialistes. Avec la grève des ouvrières de Saint-Pétersbourg en 1917\, la tradition du 8 mars se met en place. En 1977\, l’ONU reconnait officiellement le 8 mars comme la Journée internationale des femmes. \nNous sommes en 2022\, et malgré certaines avancées\, les droits des femmes sont toujours à la merci des pensées rétrogrades\, des attaques néo-capitalistes\, des poussées réactionnaires et des pièges misogynes ! \n\nLe film\n \n\n\n\n\nEn adaptant Le Quai de Ouistreham\, le livre de Florence Aubenas\, le cinéaste et écrivain Emmanuel Carrère (L’Adversaire\, La Moustache) propose une immersion totale dans le monde des travailleuses de l’ombre\, plus particulièrement celles que l’on appelle pudiquement « agents d’entretien » \nDans le bureau d’une agence de placement\, Marianne (Juliette Binoche) tente de décrocher un job. Pas facile quand on a un CV qui indique que notre dernière expérience remonte à 23 ans\, lorsqu’on était serveuse dans un bar… Tant bien que mal\, Marianne essaye de se justifier : mariage\, enfants\, ménage\, etc. Pas forcément convaincue\, la préposée aux placements lui propose une formation en nettoyage\, ce métier idéal pour tous les laissés-pour-compte. (Texte des Grignoux) \nDans le cadre de la Journée internationale des droits des femmes\, Soralia ont le plaisir de vous offrir des places – en nombre limité – pour la dernière séance de ce film prévue au Sauvenière.\nLa projection sera suivie d’une rencontre sur le thème « Travail précaire : les femmes au cœur d’un système »\, avec :\nMarie-Virginie Brimbois\, syndicaliste aides-ménagères\nAnaïs Genon\, aide-ménagère et maman solo\nChristine Mahy\, secrétaire générale du Réseau wallon de lutte contre la pauvreté \nRéservation via fpsinscriptions.liege@solidaris.be ou au 04 341 62 88 \nSans réservation\, les places sont vendues aux tarifs habituels en ligne et aux caisses des cinémas\nLors des événements\, merci de présenter spontanément votre Covid Safe Ticket \n\n Fiche PDF de l’évènement \n\n\n\n\nBande annonce\n \n\nModalités\nDate : Le mardi 8 mars à 20h. Accueil dès 19h15 dans le hall du cinéma pour les places offertes par Soralia \nLieu : Cinéma Sauvenière \nInfos : Soralia vous offrent des places* (nombre limité et sur réservation) via FPSinscriptions.liege@solidaris.be ou au 04 341 62 88\n* En échange de la place offerte\, nous vous demandons une contribution à l’action Sang Souci  : amenez un pack de serviettes ou une boîte de tampons qui seront ensuite distribuées à des femmes qui ne savent pas en assumer le coût. \nSans réservation les places sont vendues aux tarifs habituels aux caisses du cinéma.
URL:https://www.soralia.be/accueil/event/cine-debat-ouistreham/
LOCATION:Cinéma Sauvenière\, Place Xavier Neujean\, Liège\, 4000\, Belgique
CATEGORIES:Culture,Droit & Citoyenneté,Egalité femme-homme,Liège,Régional,Thèmes
ATTACH;FMTTYPE=image/png:https://www.soralia.be/wp-content/uploads/2017/01/calendrier-mars.png
ORGANIZER;CN="FPS Li%C3%A8ge":MAILTO:associations.liege@solidaris.be
END:VEVENT
BEGIN:VEVENT
DTSTART;TZID=Europe/Paris:20220308T200000
DTEND;TZID=Europe/Paris:20220310T230000
DTSTAMP:20260424T124945
CREATED:20220215T114739Z
LAST-MODIFIED:20220308T103649Z
UID:10005453-1646769600-1646953200@www.soralia.be
SUMMARY:Festival Festiv'Elles
DESCRIPTION:Le comité local FPS de Nivelles collabore au festival Festiv’Elles. L’objectif de Festiv’Elles est de rassembler\, grâce au cinéma\, les associations nivelloises autour de la thématique des droits des femmes et d’informer la population sur les différentes actions mises en place par chacune d’elles. Festiv’Elles veut inviter les femmes (et les hommes de bonne volonté) à se mobiliser pour instaurer l’égalité salariale. \n8 mars à 20h : Projection du film « A plein temps » \n18h – 19h30 : Stand associatif et moment d’échange convivial à la Salle du Foyer – Waux Hall \n9 mars à 20h : Projection du film « L’événement » \n10 mars à 20h : Projection du film « Les nouvelles guérillères »\, en présence de la réalisatrice. \nInformations pratiques : Tarif : 5 euro/place Art .27 acceptés – www.cine4.be – 067 / 88 21 10
URL:https://www.soralia.be/accueil/event/festival-festivelles/2022-03-08/
LOCATION:Ciné 4\, Rue de Soignies 4\, Nivelles\, 1400\, Belgique
CATEGORIES:Brabant wallon,Droit & Citoyenneté,Egalité femme-homme,Régional,Thèmes
ATTACH;FMTTYPE=image/png:https://www.soralia.be/wp-content/uploads/2017/01/calendrier-mars.png
ORGANIZER;CN="FPS Brabant wallon":MAILTO:fpsbw@solidaris.be
END:VEVENT
BEGIN:VEVENT
DTSTART;TZID=Europe/Paris:20220309T200000
DTEND;TZID=Europe/Paris:20220311T230000
DTSTAMP:20260424T124945
CREATED:20220215T114739Z
LAST-MODIFIED:20220308T103649Z
UID:10005454-1646856000-1647039600@www.soralia.be
SUMMARY:Festival Festiv'Elles
DESCRIPTION:Le comité local FPS de Nivelles collabore au festival Festiv’Elles. L’objectif de Festiv’Elles est de rassembler\, grâce au cinéma\, les associations nivelloises autour de la thématique des droits des femmes et d’informer la population sur les différentes actions mises en place par chacune d’elles. Festiv’Elles veut inviter les femmes (et les hommes de bonne volonté) à se mobiliser pour instaurer l’égalité salariale. \n8 mars à 20h : Projection du film « A plein temps » \n18h – 19h30 : Stand associatif et moment d’échange convivial à la Salle du Foyer – Waux Hall \n9 mars à 20h : Projection du film « L’événement » \n10 mars à 20h : Projection du film « Les nouvelles guérillères »\, en présence de la réalisatrice. \nInformations pratiques : Tarif : 5 euro/place Art .27 acceptés – www.cine4.be – 067 / 88 21 10
URL:https://www.soralia.be/accueil/event/festival-festivelles/2022-03-09/
LOCATION:Ciné 4\, Rue de Soignies 4\, Nivelles\, 1400\, Belgique
CATEGORIES:Brabant wallon,Droit & Citoyenneté,Egalité femme-homme,Régional,Thèmes
ATTACH;FMTTYPE=image/png:https://www.soralia.be/wp-content/uploads/2017/01/calendrier-mars.png
ORGANIZER;CN="FPS Brabant wallon":MAILTO:fpsbw@solidaris.be
END:VEVENT
BEGIN:VEVENT
DTSTART;TZID=Europe/Paris:20220310T130000
DTEND;TZID=Europe/Paris:20220310T160000
DTSTAMP:20260424T124945
CREATED:20220221T104934Z
LAST-MODIFIED:20220221T104934Z
UID:10005459-1646917200-1646928000@www.soralia.be
SUMMARY:Rencontre féministe: Journée Internationale des Droits des Femmes
DESCRIPTION:Dans le cadre de la Journée Internationale de lutte pour les Droits des Femmes\, venez en équipe\, jouer\, dessiner\, mimer\, rire\, chanter et vous amuser avec comme seuls objectifs de découvrir et d’échanger sur le féminisme et les droits des femmes !\nAu programme\, création de fresque féministe\, créer votre badge\, Blind test féministe et bien d’autres activités!\nParticipation gratuite\nInfos & inscriptions obligatoires: 071/507.807 ou fps.charleroi@solidaris.be
URL:https://www.soralia.be/accueil/event/rencontre-feministe-journee-internationale-des-droits-des-femmes/
LOCATION:Maison des Femmes à Gilly\, Chaussée de Lodelinsart 100\, Gilly\, 6060\, Belgique
CATEGORIES:Charleroi,Droit & Citoyenneté,Egalité femme-homme,Régional,Thèmes
ATTACH;FMTTYPE=image/png:https://www.soralia.be/wp-content/uploads/2017/01/calendrier-mars.png
END:VEVENT
BEGIN:VEVENT
DTSTART;TZID=Europe/Paris:20220310T200000
DTEND;TZID=Europe/Paris:20220312T230000
DTSTAMP:20260424T124945
CREATED:20220215T114739Z
LAST-MODIFIED:20220308T103649Z
UID:10005455-1646942400-1647126000@www.soralia.be
SUMMARY:Festival Festiv'Elles
DESCRIPTION:Le comité local FPS de Nivelles collabore au festival Festiv’Elles. L’objectif de Festiv’Elles est de rassembler\, grâce au cinéma\, les associations nivelloises autour de la thématique des droits des femmes et d’informer la population sur les différentes actions mises en place par chacune d’elles. Festiv’Elles veut inviter les femmes (et les hommes de bonne volonté) à se mobiliser pour instaurer l’égalité salariale. \n8 mars à 20h : Projection du film « A plein temps » \n18h – 19h30 : Stand associatif et moment d’échange convivial à la Salle du Foyer – Waux Hall \n9 mars à 20h : Projection du film « L’événement » \n10 mars à 20h : Projection du film « Les nouvelles guérillères »\, en présence de la réalisatrice. \nInformations pratiques : Tarif : 5 euro/place Art .27 acceptés – www.cine4.be – 067 / 88 21 10
URL:https://www.soralia.be/accueil/event/festival-festivelles/2022-03-10/
LOCATION:Ciné 4\, Rue de Soignies 4\, Nivelles\, 1400\, Belgique
CATEGORIES:Brabant wallon,Droit & Citoyenneté,Egalité femme-homme,Régional,Thèmes
ATTACH;FMTTYPE=image/png:https://www.soralia.be/wp-content/uploads/2017/01/calendrier-mars.png
ORGANIZER;CN="FPS Brabant wallon":MAILTO:fpsbw@solidaris.be
END:VEVENT
BEGIN:VEVENT
DTSTART;TZID=Europe/Paris:20220312T093000
DTEND;TZID=Europe/Paris:20220312T113000
DTSTAMP:20260424T124945
CREATED:20220221T075356Z
LAST-MODIFIED:20220221T075356Z
UID:10005456-1647077400-1647084600@www.soralia.be
SUMMARY:Conférence gesticulée: La place n'était pas vide.
DESCRIPTION:Quelques mots à propos de cette conférence gesticulée:  \nLa pratique médicale s’est toujours assurée\, en complicité et collusion avec le pouvoir politique et religieux\, de la surveillance et du contrôle des différents cycles de vie des femmes et des différents temps de la reproduction. \nA partir d’expériences et trajectoires de vie de femmes\, j’élucide cette histoire de colonisation et de dépossession des savoirs et compétences propres des femmes concernant leurs corps\, leur santé\, leurs sexualités. \nJe raconte comment j’ai été confrontée à une pratique médicale normative et autoritaire au cours ma vie de femme et de médecin\, puis comment j’ai connu le Mouvement pour la Santé des Femmes qui a développé une pensée et une pratique dé-professionnalisée\, participative et collective de la santé. Et aujourd’hui? \nComment nous réapproprier ces savoirs\, créer et réinventer une nouvelle culture de transmission en matière de santé entre femmes? Comment rendre participative la pratique médicale et nous familiariser avec une approche collective qui est celle de l’Auto-santé? Chantons et dansons sur ces chemins de libération… Militer\, c’est bon pour la santé! \nCette conférence gesticulée sera suivie d’un atelier de deux heures durant lequel nous échangerons autour de la santé des femmes\, de pourquoi il est important de l’aborder avec un regard genré et de réfléchir ensemble à des pistes concrètes d’actions! \nInfos & inscriptions obligatoires: 071/507.819 ou fps.charleroi@solidaris.be \nGratuit \nAdresse du jour: Maison des FPS – chaussée de Lodelinsart 100 – 6060 Gilly
URL:https://www.soralia.be/accueil/event/conference-gesticulee-la-place-netait-pas-vide-2/
LOCATION:Maison des Femmes à Gilly\, Chaussée de Lodelinsart 100\, Gilly\, 6060\, Belgique
CATEGORIES:Charleroi,Droit & Citoyenneté,Régional,Santé,Thèmes
ATTACH;FMTTYPE=image/png:https://www.soralia.be/wp-content/uploads/2017/01/calendrier-mars.png
END:VEVENT
BEGIN:VEVENT
DTSTART;TZID=Europe/Paris:20220312T170000
DTEND;TZID=Europe/Paris:20220312T200000
DTSTAMP:20260424T124945
CREATED:20220215T104315Z
LAST-MODIFIED:20220215T104410Z
UID:10005447-1647104400-1647115200@www.soralia.be
SUMMARY:Théâtre : Big up
DESCRIPTION:Dans le cadre des événements autour de la Journée Internationale des Droits des Femmes\, Soralia vous invitent à une pièce de théâtre !\n\nLe 8 mars\, c’est la Journée internationale pour les droits DES Femmes et non la Journée de LA Femme\, comme on entend souvent le dire ! En effet\, la femme n’est pas un objet social comme la paix ou le tabac. Les femmes constituent un groupe complexe\, elles sont toutes différentes\, avec des luttes plus ou moins avancées selon les pays\, selon le contexte. Le 8 mars\, il s’agit pas d’offrir une fleur ou un parfum aux femmes que l’on aime\, il s’agit de rappeler qu’aujourd’hui\, encore\, une femme n’égale pas un homme. \nLe 8 mars\, c’est un moment de réflexion et de visibilité pour les associations de défense des droits des femmes. C’est aussi une occasion unique de focaliser l’attention des médias\, des politiques et de l’opinion publique sur les inégalités et les injustices dont les femmes sont victimes à travers le monde. Cette journée trouve son origine en 1910\, où elle est proposée lors de la conférence internationale des femmes socialistes. Avec la grève des ouvrières de Saint-Pétersbourg en 1917\, la tradition du 8 mars se met en place. En 1977\, l’ONU reconnait officiellement le 8 mars comme la Journée internationale des femmes. \nNous sommes en 2022\, et malgré certaines avancées\, les droits des femmes sont toujours à la merci des pensées rétrogrades\, des attaques néo-capitalistes\, des poussées réactionnaires et des pièges misogynes ! \n\nLa pièce\n \nBig Up\, c’est une pièce de théâtre qui ose parler d’une discrimination ordinaire\, la grossophobie\, mais aussi d’autres formes de discriminations liées à l’apparence physique et plus précisément à notre corps. \nUn moment d’échange sera prévu à la fin de la pièce avec les acteurs et une spécialiste de la thématique. \nEn début d’après-midi\, Soralia de Verviers proposeront également une sensibilisation au centre commercial Crescend’Eau concernant la grossophobie. \n\nModalités\nDate : 12 mars 2022 à 17h\nLieu : au Centre culturel de Verviers\, Boulevard des Gérardchamps 7c\, 4800 Verviers.\nPrix : gratuit !\nInfos et réservation : 087/32.52.07 ou dinah.uwera@verviers.be \nPour permettre aux parents d’assister à la représentation\, des animations seront prévues pour les enfants de 3 ans à 10 ans durant la pièce de théâtre.
URL:https://www.soralia.be/accueil/event/theatre-big-up/
LOCATION:Centre Culturel de Verviers\, Boulevard des Gérarchamps 7c\, Verviers\, Liège\, 4800\, Belgique
CATEGORIES:Culture,Droit & Citoyenneté,Egalité femme-homme,Régional,Thèmes,Verviers
ATTACH;FMTTYPE=image/png:https://www.soralia.be/wp-content/uploads/2017/01/calendrier-mars.png
END:VEVENT
END:VCALENDAR