BEGIN:VCALENDAR
VERSION:2.0
PRODID:-//Soralia - ECPv6.15.17.1//NONSGML v1.0//EN
CALSCALE:GREGORIAN
METHOD:PUBLISH
X-ORIGINAL-URL:https://www.soralia.be/accueil
X-WR-CALDESC:Évènements pour Soralia
REFRESH-INTERVAL;VALUE=DURATION:PT1H
X-Robots-Tag:noindex
X-PUBLISHED-TTL:PT1H
BEGIN:VTIMEZONE
TZID:Europe/Paris
BEGIN:DAYLIGHT
TZOFFSETFROM:+0100
TZOFFSETTO:+0200
TZNAME:CEST
DTSTART:20210328T010000
END:DAYLIGHT
BEGIN:STANDARD
TZOFFSETFROM:+0200
TZOFFSETTO:+0100
TZNAME:CET
DTSTART:20211031T010000
END:STANDARD
BEGIN:DAYLIGHT
TZOFFSETFROM:+0100
TZOFFSETTO:+0200
TZNAME:CEST
DTSTART:20220327T010000
END:DAYLIGHT
BEGIN:STANDARD
TZOFFSETFROM:+0200
TZOFFSETTO:+0100
TZNAME:CET
DTSTART:20221030T010000
END:STANDARD
BEGIN:DAYLIGHT
TZOFFSETFROM:+0100
TZOFFSETTO:+0200
TZNAME:CEST
DTSTART:20230326T010000
END:DAYLIGHT
BEGIN:STANDARD
TZOFFSETFROM:+0200
TZOFFSETTO:+0100
TZNAME:CET
DTSTART:20231029T010000
END:STANDARD
END:VTIMEZONE
BEGIN:VEVENT
DTSTART;TZID=Europe/Paris:20220317T180000
DTEND;TZID=Europe/Paris:20220317T200000
DTSTAMP:20260422T073839
CREATED:20220221T083805Z
LAST-MODIFIED:20220221T083805Z
UID:10005457-1647540000-1647547200@www.soralia.be
SUMMARY:La grossophobie dans l'espace public: échanges débats [Partie I]
DESCRIPTION:La grossophobie est l’ensemble des attitudes et comportements hostiles qui stigmatisent et discriminent les personnes grosses ou en surpoids.\nEt toi\, as-tu déjà vécu de la grossophobie?\nOn te propose de venir en discuter avec nous\, entre femmes\, dans un espace safe et bienveillant.\nS’asseoir à une terrasse de café\, monter dans un avion\, prendre un rdv médical\, sentir les regards dans l’espace public\,… pour les personnes dites “ grosses”\, ces situations de la vie de tous les jours deviennent un véritable calvaire.\nPour la première fois au sein des Femmes de Mars\, nous te proposons de venir en discuter\, d’échanger\, entre femmes\, dans un espace safe et bienveillant.\nEnsemble\, nous souhaitons construire un projet mêlant expression corporelle et espace public\, avec une dimension politique et militante.\nIntéressée? alors rejoins-nous ce 17 mars\, à partir de 18h. Au programme: échange de vécus\, d’idées de sensibilisation et découverte de nos petites idées de travail…\nCe projet voit le jour dans le cadre des Femmes de Mars\, en collaboration avec Vie Féminine\, Happy Slow People et Mouvance asbl\nInfos et inscriptions: 071/507.819 ou fps.charleroi@solidaris.be\nParticipation gratuite\nEvénement en non-mixité.
URL:https://www.soralia.be/accueil/event/la-grossophobie-dans-lespace-public-echanges-debats-partie-i/
LOCATION:QG Femmes de Mars – Passage de la Bourse 12-14 6000 Charleroi\, Passage de la Bourse 12 -14\, Charleroi\, Hainaut\, 6000\, Belgique
CATEGORIES:Charleroi,Droit & Citoyenneté,Egalité femme-homme,Régional,Santé,Thèmes
ATTACH;FMTTYPE=image/png:https://www.soralia.be/wp-content/uploads/2017/01/calendrier-mars.png
END:VEVENT
BEGIN:VEVENT
DTSTART;TZID=Europe/Paris:20220318T190000
DTEND;TZID=Europe/Paris:20220318T213000
DTSTAMP:20260422T073839
CREATED:20220303T091619Z
LAST-MODIFIED:20220308T103832Z
UID:10005473-1647630000-1647639000@www.soralia.be
SUMMARY:Résister et militer au féminin
DESCRIPTION:Un cycle de rencontres avec des femmes qui agissent aujourd’hui dans des domaines tels que l’enseignement\, la scène\, la littérature\, l’action sociale\, la désobéissance civile ou encore la lutte contre le handicap. \nSandra Zidani – « Rire des discriminations »\n\n18 mars 2022 à 19h \nAgitations – École de promotion sociale des FPS \nRue du Duc 100 à Woluwe-St Pierre \nInfos et inscriptions : fps-fam@fmsb.be – 02 546 14 12
URL:https://www.soralia.be/accueil/event/resister-et-militer-au-feminin-3/
LOCATION:Ecole de promotion sociale des FPS\, rue du Duc 100\, Woluwé-Saint-Pierre\, Bruxelles\, 1150\, Belgique
CATEGORIES:Bruxelles,Culture,Droit & Citoyenneté,Egalité femme-homme,Familles,Régional,Thèmes
ATTACH;FMTTYPE=image/png:https://www.soralia.be/wp-content/uploads/2017/01/calendrier-mars.png
END:VEVENT
END:VCALENDAR