BEGIN:VCALENDAR
VERSION:2.0
PRODID:-//Soralia - ECPv6.15.17.1//NONSGML v1.0//EN
CALSCALE:GREGORIAN
METHOD:PUBLISH
X-WR-CALNAME:Soralia
X-ORIGINAL-URL:https://www.soralia.be/accueil
X-WR-CALDESC:Évènements pour Soralia
REFRESH-INTERVAL;VALUE=DURATION:PT1H
X-Robots-Tag:noindex
X-PUBLISHED-TTL:PT1H
BEGIN:VTIMEZONE
TZID:Europe/Paris
BEGIN:DAYLIGHT
TZOFFSETFROM:+0100
TZOFFSETTO:+0200
TZNAME:CEST
DTSTART:20240331T010000
END:DAYLIGHT
BEGIN:STANDARD
TZOFFSETFROM:+0200
TZOFFSETTO:+0100
TZNAME:CET
DTSTART:20241027T010000
END:STANDARD
BEGIN:DAYLIGHT
TZOFFSETFROM:+0100
TZOFFSETTO:+0200
TZNAME:CEST
DTSTART:20250330T010000
END:DAYLIGHT
BEGIN:STANDARD
TZOFFSETFROM:+0200
TZOFFSETTO:+0100
TZNAME:CET
DTSTART:20251026T010000
END:STANDARD
BEGIN:DAYLIGHT
TZOFFSETFROM:+0100
TZOFFSETTO:+0200
TZNAME:CEST
DTSTART:20260329T010000
END:DAYLIGHT
BEGIN:STANDARD
TZOFFSETFROM:+0200
TZOFFSETTO:+0100
TZNAME:CET
DTSTART:20261025T010000
END:STANDARD
END:VTIMEZONE
BEGIN:VEVENT
DTSTART;TZID=Europe/Paris:20250501T120000
DTEND;TZID=Europe/Paris:20250501T200000
DTSTAMP:20260424T172656
CREATED:20250429T122303Z
LAST-MODIFIED:20250429T122303Z
UID:10006129-1746100800-1746129600@www.soralia.be
SUMMARY:Festivités du 1er mai
DESCRIPTION:📣 Comme chaque année\, notre stand Soralia sera présent aux festivités du 1er mai (Bd. de l’Empereur/Mont des Arts) pour vous servir de délicieux Hot-dogs et cocktails (avec ou sans alcool) au profit du Fonds Aristote : projet de santé solidaire pour des enfants d’une maison d’hébergement à Kinshasa. \nLes prévisions météo annoncent une journée ensoleillée 😎☀️ Venez nombreux.ses ! ❤️\nInfos à soralia.bxl@solidaris.be
URL:https://www.soralia.be/accueil/event/festivites-du-1er-mai/
LOCATION:Mont des Arts\, Bruxelles\, Bruxelles\, 1000\, Belgique
CATEGORIES:Bruxelles,Droit & Citoyenneté,Egalité femme-homme,Familles,Général,Loisirs
ATTACH;FMTTYPE=image/png:https://www.soralia.be/wp-content/uploads/2017/01/calendrier-mai.png
ORGANIZER;CN="Soralia":MAILTO:soralia.bxl@solidaris.be
END:VEVENT
END:VCALENDAR