BEGIN:VCALENDAR
VERSION:2.0
PRODID:-//Soralia - ECPv6.15.17.1//NONSGML v1.0//EN
CALSCALE:GREGORIAN
METHOD:PUBLISH
X-WR-CALNAME:Soralia
X-ORIGINAL-URL:https://www.soralia.be/accueil
X-WR-CALDESC:Évènements pour Soralia
REFRESH-INTERVAL;VALUE=DURATION:PT1H
X-Robots-Tag:noindex
X-PUBLISHED-TTL:PT1H
BEGIN:VTIMEZONE
TZID:Europe/Paris
BEGIN:DAYLIGHT
TZOFFSETFROM:+0100
TZOFFSETTO:+0200
TZNAME:CEST
DTSTART:20240331T010000
END:DAYLIGHT
BEGIN:STANDARD
TZOFFSETFROM:+0200
TZOFFSETTO:+0100
TZNAME:CET
DTSTART:20241027T010000
END:STANDARD
BEGIN:DAYLIGHT
TZOFFSETFROM:+0100
TZOFFSETTO:+0200
TZNAME:CEST
DTSTART:20250330T010000
END:DAYLIGHT
BEGIN:STANDARD
TZOFFSETFROM:+0200
TZOFFSETTO:+0100
TZNAME:CET
DTSTART:20251026T010000
END:STANDARD
BEGIN:DAYLIGHT
TZOFFSETFROM:+0100
TZOFFSETTO:+0200
TZNAME:CEST
DTSTART:20260329T010000
END:DAYLIGHT
BEGIN:STANDARD
TZOFFSETFROM:+0200
TZOFFSETTO:+0100
TZNAME:CET
DTSTART:20261025T010000
END:STANDARD
END:VTIMEZONE
BEGIN:VEVENT
DTSTART;TZID=Europe/Paris:20250620T093000
DTEND;TZID=Europe/Paris:20250620T120000
DTSTAMP:20260424T162949
CREATED:20250123T122031Z
LAST-MODIFIED:20250123T122031Z
UID:10006051-1750411800-1750420800@www.soralia.be
SUMMARY:[Atelier] - Atelier d'écriture en ligne
DESCRIPTION:Un atelier d’écriture à soi et pour soi à partager avec d’autres. \nL’écriture est un terrain de jeu car écrire\, c’est jouer. \nNous vous proposons des exercices d’écriture\, des jeux de mots pour prendre du temps pour soi\, se détendre\, se découvrir et découvrir les autres. \nCet atelier vous entraînera de manière bienveillante\, surprenante\, inattendue dans cet univers de mots\, phrases et textes à notre sauce féministe ! A partir de souvenirs\, d’introspections\, de photos\, d’extraits musicaux ou d’extraits de livres\, d’objets personnels ou insolites\, nous nous plongerons le temps de l’atelier d’écriture\, le tout dans une ambiance chaleureuse et respectueuse. \nAtelier gratuit en ligne via un lien de connexion teams – 1 rdv par mois \nDates: \n\nvendredis 24 janvier ; 21 février ; 04 avril ; 25 avril ; 16 mai et 20 juin\n\n  \nGRATUIT \nLe lien de connexion vous sera envoyé 5 jour avant l’atelier par notre secrétaire\, après vous êtes inscrite. \n  \n\ninscriptions obligatoires/souhaitées au 071/507 819 ou 0474/564 234 du lundi au vendredi de 9 à 12h soralia.charleroi@solidaris.be
URL:https://www.soralia.be/accueil/event/atelier-atelier-decriture-en-ligne-6/
LOCATION:Maison Soralia\, Chaussée de Lodelinsart 100\, Gilly\, Hainaut\, 6060\, Belgique
CATEGORIES:Charleroi,Egalité femme-homme,Régional
ATTACH;FMTTYPE=image/png:https://www.soralia.be/wp-content/uploads/2017/01/calendrier-juin.png
END:VEVENT
BEGIN:VEVENT
DTSTART;TZID=Europe/Paris:20250620T183000
DTEND;TZID=Europe/Paris:20250620T210000
DTSTAMP:20260424T162949
CREATED:20250528T094823Z
LAST-MODIFIED:20250528T095246Z
UID:10006202-1750444200-1750453200@www.soralia.be
SUMMARY:After work Jeu de société - Mons
DESCRIPTION:APÉRO GOURMAND • DÉCOUVERTE DU JEU • ÉCHANGES BIENVEILLANTS ENTRE FEMMES DE TOUS HORIZONS\nPrenez une pause bien méritée et venez partager un moment convivial entre rires\, apéro et complicité féminine ! \nRejoignez-nous pour une soirée afterwork placée sous le signe de la bonne humeur avec MENO FOLIE’S\, UN JEU DE SOCIÉTÉ ORIGINAL ET DÉCALÉ AUTOUR DE LA MÉNOPAUSE. \nParce que cette étape de vie mérite d’être abordée avec légèreté\, humour… en toute convivialité ! \nInfos pratiques\n\nGratuit\, sur inscription (places limitées) \nQuand ? Le vendredi 20 juin 2025 de 18h30 à 20h \nOù ? Petite Maison Folie\nRue de Nimy\, 46 à 7000 Mons \nInscription \nSoralia Wallonie picarde\n068/84 84 98 – soralia.mwp@solidaris.be
URL:https://www.soralia.be/accueil/event/afterwork-jeu-de-societe-mons/
LOCATION:Petite Maison Folie\, Rue de Nimy\, 46\, Mons\, Hainaut\, 7000\, Belgium
CATEGORIES:Loisirs,Mons-Borinage,Régional,Santé,Sexualité
ATTACH;FMTTYPE=image/png:https://www.soralia.be/wp-content/uploads/2017/01/calendrier-juin.png
ORGANIZER;CN="Soralia Mons-Borinage":MAILTO:soralia.mwp@solidaris.be
END:VEVENT
END:VCALENDAR