BEGIN:VCALENDAR
VERSION:2.0
PRODID:-//Soralia - ECPv6.15.17.1//NONSGML v1.0//EN
CALSCALE:GREGORIAN
METHOD:PUBLISH
X-ORIGINAL-URL:https://www.soralia.be/accueil
X-WR-CALDESC:Évènements pour Soralia
REFRESH-INTERVAL;VALUE=DURATION:PT1H
X-Robots-Tag:noindex
X-PUBLISHED-TTL:PT1H
BEGIN:VTIMEZONE
TZID:Europe/Paris
BEGIN:DAYLIGHT
TZOFFSETFROM:+0100
TZOFFSETTO:+0200
TZNAME:CEST
DTSTART:20240331T010000
END:DAYLIGHT
BEGIN:STANDARD
TZOFFSETFROM:+0200
TZOFFSETTO:+0100
TZNAME:CET
DTSTART:20241027T010000
END:STANDARD
BEGIN:DAYLIGHT
TZOFFSETFROM:+0100
TZOFFSETTO:+0200
TZNAME:CEST
DTSTART:20250330T010000
END:DAYLIGHT
BEGIN:STANDARD
TZOFFSETFROM:+0200
TZOFFSETTO:+0100
TZNAME:CET
DTSTART:20251026T010000
END:STANDARD
BEGIN:DAYLIGHT
TZOFFSETFROM:+0100
TZOFFSETTO:+0200
TZNAME:CEST
DTSTART:20260329T010000
END:DAYLIGHT
BEGIN:STANDARD
TZOFFSETFROM:+0200
TZOFFSETTO:+0100
TZNAME:CET
DTSTART:20261025T010000
END:STANDARD
END:VTIMEZONE
BEGIN:VEVENT
DTSTART;VALUE=DATE:20251103
DTEND;VALUE=DATE:20251213
DTSTAMP:20260424T171316
CREATED:20251020T071741Z
LAST-MODIFIED:20251020T071741Z
UID:10006279-1762128000-1765583999@www.soralia.be
SUMMARY:Exposition - Histoire de la sécurité sociale à Verviers
DESCRIPTION:Animations de groupes proposées par Soralia\, le PAC et le CEPAG\n\nDu 3 novembre au vendredi 12 décembre 2025\, visitez cette exposition qui vous racontera les origines de la sécurité sociale. Après cette visite\, vous ne pourrez qu’être convaincu des bienfait de préserver cet outil extraordinaire d’émancipation sociale que le monde entier nous envie. \n\nModalités\nPublic : Tout public \nLieu : Centre Touristique Laine Mode (Verviers) \nDates : Du 03/11 au 12/12/2025 \nDurée de la visite : 2h \nPrix : Gratuit \n\nInscription\nPour la visite de l’expo\, pas d’inscription nécessaire.\nVous vous présentez simplement sur place. \nPour les visites de groupes prenez contact au :\n087 63 96 52 ou par e-mail expoledroitdevivre4800@gmail.com
URL:https://www.soralia.be/accueil/event/exposition-histoire-de-la-securite-sociale-a-verviers/
LOCATION:Centre Touristique Laine Mode\, Verviers
CATEGORIES:Culture,Droit & Citoyenneté,Verviers
ATTACH;FMTTYPE=image/png:https://www.soralia.be/wp-content/uploads/2024/10/Soralia-ICONE-site-internet-novembre-e1728985096858.png
END:VEVENT
BEGIN:VEVENT
DTSTART;TZID=Europe/Paris:20251114T070000
DTEND;TZID=Europe/Paris:20251128T200000
DTSTAMP:20260424T171316
CREATED:20251125T092807Z
LAST-MODIFIED:20251125T092807Z
UID:10006288-1763103600-1764360000@www.soralia.be
SUMMARY:Exposition "Que portais-tu ce jour-là?" au CHRSM Namur
DESCRIPTION:Cette exposition d’Amnesty International déconstruit l’un des mythes les plus persistants de la culture du viol: « la tenue vestimentaire incite au viol et engage la responsabilité de la personne agressée ».  Combien de victimes s’entendent tristement dire : »que portiez-vous ce jour-là? »  A travers les vêtements portés le jour des faits\, ce projet redonne la parole aux survivantes et agit à la manière d’un plaidoyer pour contrer les préjugés qui entourent la question des violences sexuelles.
URL:https://www.soralia.be/accueil/event/exposition-que-portais-tu-ce-jour-la-au-chrsm-namur/
LOCATION:CHRSM Site Meuse (Namur)\, Avenue Albert 1er\, 185\, Namur\, Namur\, 5000\, Belgium
CATEGORIES:Namur,Régional,Sexualité
ATTACH;FMTTYPE=image/png:https://www.soralia.be/wp-content/uploads/2024/10/Soralia-ICONE-site-internet-novembre-e1728985096858.png
END:VEVENT
BEGIN:VEVENT
DTSTART;TZID=Europe/Paris:20251127T173000
DTEND;TZID=Europe/Paris:20251127T193000
DTSTAMP:20260424T171316
CREATED:20251103T115416Z
LAST-MODIFIED:20251103T115416Z
UID:10006282-1764264600-1764271800@www.soralia.be
SUMMARY:Marche exploratoire - Objectif sécurité à Louvain-la-Neuve
DESCRIPTION:Semaine de prévention des violences faites aux femmes\n\nTrop de rues restent pas ou peu sécurisées dans la ville et génèrent un sentiment d’insécurité. Ensemble\, marchons\, observons et proposons des solutions pour que chacun·e puisse circuler sans crainte. Latitude Jeunes et Soralia te proposeront : animations\, échanges et collecte d’idées pour ponctuer nos étapes ! \n📅 Jeudi 27 novembre 2025\n📍 Départ : Maison des Jeunes Chez Zelle à Louvain-la-Neuve\n💸 Gratuit – Inscription obligatoire\n \n⏰ 2h\n👧 Pour les étudiant·e·s de 15 à 25 ans \nPlus d’infos : 0479 17 37 99 latitudejeunesbw@solidaris.be \n \n\nModalités\nPublic : 15 – 25 ans \nLieu : Maison des Jeunes Chez Zelle à Louvain-la-Neuve \nDate : Le jeudi 27 novembre \nPrix : Gratuit \n\nInscription\n1/ Inscrivez vous en cliquant sur ce lien
URL:https://www.soralia.be/accueil/event/marche-exploratoire-objectif-securite-a-louvain-la-neuve/
LOCATION:Brabant wallon
CATEGORIES:Brabant wallon,Violences
ATTACH;FMTTYPE=image/png:https://www.soralia.be/wp-content/uploads/2024/10/Soralia-ICONE-site-internet-novembre-e1728985096858.png
ORGANIZER;CN="Soralia Brabant wallon":MAILTO:soralia.bw@solidaris.be
END:VEVENT
BEGIN:VEVENT
DTSTART;TZID=Europe/Paris:20251127T180000
DTEND;TZID=Europe/Paris:20251127T200000
DTSTAMP:20260424T171316
CREATED:20250905T131237Z
LAST-MODIFIED:20250905T132814Z
UID:10006251-1764266400-1764273600@www.soralia.be
SUMMARY:Cercle de parole et de soutien pour les Femmes
DESCRIPTION:📣 Les cercles de parole pour les femmes continuent cette année au Planning Familial Rosa\, chaque dernier jeudi du mois (sauf exception). Nous accueillons toujours de nouvelles participantes ! Un moment en toute confidentialité ouvert à toutes les femmes et les personnes qui s’identifient femmes pour parler de sujets que l’on souhaite. Nous vous y accueillerons avec plaisir !❤️\n \nLe prochain cercle de parole aura lieu le jeudi 27 novembre 2025 de 18h à 20h (accueil dès 17h30). \nQuand? Le jeudi 27 novembre 2025 de 18h à 20h (accueil dès 17h30)\nOù? Planning Familial Rosa – Rue du Midi\, 118/120 à 1000 Bruxelles\nCombien? Activité gratuite\nInscription? Réservation souhaitée à soralia.bxl@solidaris.be \n\n📅 La prochaine date du cercle est :\nLe jeudi 18 décembre 2025 de 18h à 20h (accueil dès 17h30)
URL:https://www.soralia.be/accueil/event/cercle-de-parole-et-de-soutien-pour-les-femmes-3/
LOCATION:Centre de planning familial Rosa\, Rue du Midi 120\, Bruxelles\, Bruxelles\, 1000\, Belgique
CATEGORIES:Bruxelles,Culture,Droit & Citoyenneté,Egalité femme-homme,Environnement,Familles,Général,Loisirs,parentalité,Régional,Santé,Sexualité,Violences
END:VEVENT
END:VCALENDAR