BEGIN:VCALENDAR
VERSION:2.0
PRODID:-//Soralia - ECPv6.15.17.1//NONSGML v1.0//EN
CALSCALE:GREGORIAN
METHOD:PUBLISH
X-WR-CALNAME:Soralia
X-ORIGINAL-URL:https://www.soralia.be/accueil
X-WR-CALDESC:Évènements pour Soralia
REFRESH-INTERVAL;VALUE=DURATION:PT1H
X-Robots-Tag:noindex
X-PUBLISHED-TTL:PT1H
BEGIN:VTIMEZONE
TZID:Europe/Paris
BEGIN:DAYLIGHT
TZOFFSETFROM:+0100
TZOFFSETTO:+0200
TZNAME:CEST
DTSTART:20240331T010000
END:DAYLIGHT
BEGIN:STANDARD
TZOFFSETFROM:+0200
TZOFFSETTO:+0100
TZNAME:CET
DTSTART:20241027T010000
END:STANDARD
BEGIN:DAYLIGHT
TZOFFSETFROM:+0100
TZOFFSETTO:+0200
TZNAME:CEST
DTSTART:20250330T010000
END:DAYLIGHT
BEGIN:STANDARD
TZOFFSETFROM:+0200
TZOFFSETTO:+0100
TZNAME:CET
DTSTART:20251026T010000
END:STANDARD
BEGIN:DAYLIGHT
TZOFFSETFROM:+0100
TZOFFSETTO:+0200
TZNAME:CEST
DTSTART:20260329T010000
END:DAYLIGHT
BEGIN:STANDARD
TZOFFSETFROM:+0200
TZOFFSETTO:+0100
TZNAME:CET
DTSTART:20261025T010000
END:STANDARD
END:VTIMEZONE
BEGIN:VEVENT
DTSTART;VALUE=DATE:20251103
DTEND;VALUE=DATE:20251213
DTSTAMP:20260426T033116
CREATED:20251020T071741Z
LAST-MODIFIED:20251020T071741Z
UID:10006279-1762128000-1765583999@www.soralia.be
SUMMARY:Exposition - Histoire de la sécurité sociale à Verviers
DESCRIPTION:Animations de groupes proposées par Soralia\, le PAC et le CEPAG\n\nDu 3 novembre au vendredi 12 décembre 2025\, visitez cette exposition qui vous racontera les origines de la sécurité sociale. Après cette visite\, vous ne pourrez qu’être convaincu des bienfait de préserver cet outil extraordinaire d’émancipation sociale que le monde entier nous envie. \n\nModalités\nPublic : Tout public \nLieu : Centre Touristique Laine Mode (Verviers) \nDates : Du 03/11 au 12/12/2025 \nDurée de la visite : 2h \nPrix : Gratuit \n\nInscription\nPour la visite de l’expo\, pas d’inscription nécessaire.\nVous vous présentez simplement sur place. \nPour les visites de groupes prenez contact au :\n087 63 96 52 ou par e-mail expoledroitdevivre4800@gmail.com
URL:https://www.soralia.be/accueil/event/exposition-histoire-de-la-securite-sociale-a-verviers/
LOCATION:Centre Touristique Laine Mode\, Verviers
CATEGORIES:Culture,Droit & Citoyenneté,Verviers
ATTACH;FMTTYPE=image/png:https://www.soralia.be/wp-content/uploads/2024/10/Soralia-ICONE-site-internet-novembre-e1728985096858.png
END:VEVENT
BEGIN:VEVENT
DTSTART;TZID=Europe/Paris:20251130T090000
DTEND;TZID=Europe/Paris:20251130T120000
DTSTAMP:20260426T033116
CREATED:20251113T152213Z
LAST-MODIFIED:20251113T152213Z
UID:10006287-1764493200-1764504000@www.soralia.be
SUMMARY:Action de sensibilisation – Petit déjeuner militant à Wavre
DESCRIPTION:De Wavre au Congo\, unies contre les violences faites aux femmes\n\nRejoignez-nous pour un petit-déjeuner militant organisé par Soralia Wavre\, Limal et Bierges\, en soutien à la Fondation et l’Hôpital Panzi. \nLa Fondation et l’Hôpital Panzi\, à Bukavu (RDC)\, accompagnent les survivants de la violence sexuelle et sexiste et œuvrent pour un changement durable. Fondée par le Dr Denis Mukwege\, Prix Nobel de la Paix\, Panzi est profondément enracinée dans les communautés locales. \nParce que l’autonomie des femmes est un levier essentiel contre les violences\, venez partager un moment d’échange\, de solidarité et d’engagement. \nLes bénéfices seront intégralement reversés à la Fondation Panzi pour soutenir ses actions en faveur des femmes. \nEnsemble\, faisons entendre la voix des femmes\, d’ici et d’ailleurs. De Wavre au Congo\, la solidarité n’a pas de frontières. \nQuand ? Dimanche 30 novembre\nOù ?  Maison de la Laicité\, Rue Lambert Fortune 33\, 1300 Wavre\nHeure : 9h à 12h \nPrix ? Adulte : 18 € – Enfant (5 à 14 ans) :  5 € – Enfant (< 5 ans) : Gratuit \nLe paiement fait office d’inscription :\nNom du Compte : FPS\nN°de Compte : BE72 363192125516\nCommunication : Nom Prénom + Nombre de Personne Adulte et enfant \nVenez nombreux soutenir cette belle initiative et partager un moment fort de sororité et d’engagement ! \nPlus d’infos : 010 24 37 24 soralia.bw@solidaris.be \n \n\nModalités\nPublic : Tout public \nLieu : Wavre \nDate : Dimanche 30 novembre \nPrix : Payant \n\nInscription\nLe paiement fait office d’inscription
URL:https://www.soralia.be/accueil/event/action-de-sensibilisation-petit-dejeuner-militant-a-wavre/
LOCATION:Brabant wallon
CATEGORIES:Brabant wallon,Culture,Violences
ATTACH;FMTTYPE=image/png:https://www.soralia.be/wp-content/uploads/2024/10/Soralia-ICONE-site-internet-novembre-e1728985096858.png
ORGANIZER;CN="Soralia Brabant wallon":MAILTO:soralia.bw@solidaris.be
END:VEVENT
END:VCALENDAR